BEGIN:VCALENDAR
VERSION:2.0
PRODID:-//ASA Newsletter - ECPv6.15.18//NONSGML v1.0//EN
CALSCALE:GREGORIAN
METHOD:PUBLISH
X-ORIGINAL-URL:https://asanewsletter.org
X-WR-CALDESC:Events for ASA Newsletter
REFRESH-INTERVAL;VALUE=DURATION:PT1H
X-Robots-Tag:noindex
X-PUBLISHED-TTL:PT1H
BEGIN:VTIMEZONE
TZID:America/Chicago
BEGIN:DAYLIGHT
TZOFFSETFROM:-0600
TZOFFSETTO:-0500
TZNAME:CDT
DTSTART:20230312T080000
END:DAYLIGHT
BEGIN:STANDARD
TZOFFSETFROM:-0500
TZOFFSETTO:-0600
TZNAME:CST
DTSTART:20231105T070000
END:STANDARD
BEGIN:DAYLIGHT
TZOFFSETFROM:-0600
TZOFFSETTO:-0500
TZNAME:CDT
DTSTART:20240310T080000
END:DAYLIGHT
BEGIN:STANDARD
TZOFFSETFROM:-0500
TZOFFSETTO:-0600
TZNAME:CST
DTSTART:20241103T070000
END:STANDARD
BEGIN:DAYLIGHT
TZOFFSETFROM:-0600
TZOFFSETTO:-0500
TZNAME:CDT
DTSTART:20250309T080000
END:DAYLIGHT
BEGIN:STANDARD
TZOFFSETFROM:-0500
TZOFFSETTO:-0600
TZNAME:CST
DTSTART:20251102T070000
END:STANDARD
END:VTIMEZONE
BEGIN:VEVENT
DTSTART;TZID=America/Chicago:20241118T090000
DTEND;TZID=America/Chicago:20241118T093000
DTSTAMP:20260422T073142
CREATED:20241112T152554Z
LAST-MODIFIED:20241112T152554Z
UID:10005251-1731920400-1731922200@asanewsletter.org
SUMMARY:Co-Curricular Learning Outcome Taxonomies - Exploring Bloom's and Fink's
DESCRIPTION:Description In this webinar\, host Karen Pikula and a panel from the system office will answer questions about open educational resources\, intellectual property\, Creative Commons licenses\, Z-degrees\, and more! Submit a question here beforehand. Time will be allotted toward the end to answer any participant questions that were not answered. RSVP Required Use the RSVP tool below... Continue Reading →
URL:https://asanewsletter.org/event/co-curricular-learning-outcomes/
CATEGORIES:Webinars
ATTACH;FMTTYPE=image/png:https://asanewsletter.org/wp-content/uploads/2022/07/banner-ned-themes-foundations-e1693948367597.png
END:VEVENT
BEGIN:VEVENT
DTSTART;TZID=America/Chicago:20241114T110000
DTEND;TZID=America/Chicago:20241114T113000
DTSTAMP:20260422T073142
CREATED:20240920T151054Z
LAST-MODIFIED:20240920T151338Z
UID:10005213-1731582000-1731583800@asanewsletter.org
SUMMARY:Why Aren’t Students Coming to My Office Hours?
DESCRIPTION:Description In this webinar\, host Karen Pikula and a panel from the system office will answer questions about open educational resources\, intellectual property\, Creative Commons licenses\, Z-degrees\, and more! Submit a question here beforehand. Time will be allotted toward the end to answer any participant questions that were not answered. RSVP Required Use the RSVP tool below... Continue Reading →
URL:https://asanewsletter.org/event/why-arent-students-coming-to-my-office-hours/
CATEGORIES:Webinars
ATTACH;FMTTYPE=image/png:https://asanewsletter.org/wp-content/uploads/2022/07/banner-ned-themes-foundations-e1693948367597.png
END:VEVENT
BEGIN:VEVENT
DTSTART;TZID=America/Chicago:20241112T110000
DTEND;TZID=America/Chicago:20241112T113000
DTSTAMP:20260422T073142
CREATED:20240801T135323Z
LAST-MODIFIED:20241031T165636Z
UID:10005183-1731409200-1731411000@asanewsletter.org
SUMMARY:Teaching with H5P Series (November 2024)
DESCRIPTION:Description In this webinar\, host Karen Pikula and a panel from the system office will answer questions about open educational resources\, intellectual property\, Creative Commons licenses\, Z-degrees\, and more! Submit a question here beforehand. Time will be allotted toward the end to answer any participant questions that were not answered. RSVP Required Use the RSVP tool below... Continue Reading →
URL:https://asanewsletter.org/event/teaching-with-h5p-series-november-2024/
CATEGORIES:Webinars
ATTACH;FMTTYPE=image/png:https://asanewsletter.org/wp-content/uploads/2022/07/banner-ned-themes-academic-technologies-e1693948241660.png
END:VEVENT
BEGIN:VEVENT
DTSTART;TZID=America/Chicago:20241107T100000
DTEND;TZID=America/Chicago:20241107T103000
DTSTAMP:20260422T073142
CREATED:20240920T153257Z
LAST-MODIFIED:20240920T153408Z
UID:10005216-1730973600-1730975400@asanewsletter.org
SUMMARY:What Matters Most: Five Cs to Get New(-ish) Faculty Started
DESCRIPTION:Description In this webinar\, host Karen Pikula and a panel from the system office will answer questions about open educational resources\, intellectual property\, Creative Commons licenses\, Z-degrees\, and more! Submit a question here beforehand. Time will be allotted toward the end to answer any participant questions that were not answered. RSVP Required Use the RSVP tool below... Continue Reading →
URL:https://asanewsletter.org/event/what-matters-most-five-cs-to-get-new-ish-faculty-started/
CATEGORIES:Webinars
ATTACH;FMTTYPE=image/png:https://asanewsletter.org/wp-content/uploads/2022/07/banner-ned-themes-foundations-e1693948367597.png
END:VEVENT
BEGIN:VEVENT
DTSTART;TZID=America/Chicago:20241106T113000
DTEND;TZID=America/Chicago:20241106T120000
DTSTAMP:20260422T073142
CREATED:20240920T151919Z
LAST-MODIFIED:20240920T171527Z
UID:10005214-1730892600-1730894400@asanewsletter.org
SUMMARY:Unlocking your AI Sidekick: Supercharging Your Work
DESCRIPTION:Description In this webinar\, host Karen Pikula and a panel from the system office will answer questions about open educational resources\, intellectual property\, Creative Commons licenses\, Z-degrees\, and more! Submit a question here beforehand. Time will be allotted toward the end to answer any participant questions that were not answered. RSVP Required Use the RSVP tool below... Continue Reading →
URL:https://asanewsletter.org/event/unlocking-your-ai-sidekick/
CATEGORIES:Webinars
ATTACH;FMTTYPE=image/png:https://asanewsletter.org/wp-content/uploads/2022/07/banner-ned-themes-academic-technologies-e1693948241660.png
END:VEVENT
BEGIN:VEVENT
DTSTART;TZID=America/Chicago:20241105T113000
DTEND;TZID=America/Chicago:20241105T120000
DTSTAMP:20260422T073142
CREATED:20241017T200710Z
LAST-MODIFIED:20241017T200710Z
UID:10005233-1730806200-1730808000@asanewsletter.org
SUMMARY:Beyond the Classroom - Defining Co-Curricular Assessment
DESCRIPTION:Description In this webinar\, host Karen Pikula and a panel from the system office will answer questions about open educational resources\, intellectual property\, Creative Commons licenses\, Z-degrees\, and more! Submit a question here beforehand. Time will be allotted toward the end to answer any participant questions that were not answered. RSVP Required Use the RSVP tool below... Continue Reading →
URL:https://asanewsletter.org/event/beyond-the-classroom-define-co-curricular-assessment/
CATEGORIES:Webinars
ATTACH;FMTTYPE=image/png:https://asanewsletter.org/wp-content/uploads/2022/07/banner-ned-themes-foundations-e1693948367597.png
END:VEVENT
BEGIN:VEVENT
DTSTART;TZID=America/Chicago:20241104T103000
DTEND;TZID=America/Chicago:20241104T110000
DTSTAMP:20260422T073142
CREATED:20240920T152719Z
LAST-MODIFIED:20240920T184831Z
UID:10005215-1730716200-1730718000@asanewsletter.org
SUMMARY:Is My Document Accessible?
DESCRIPTION:Description In this webinar\, host Karen Pikula and a panel from the system office will answer questions about open educational resources\, intellectual property\, Creative Commons licenses\, Z-degrees\, and more! Submit a question here beforehand. Time will be allotted toward the end to answer any participant questions that were not answered. RSVP Required Use the RSVP tool below... Continue Reading →
URL:https://asanewsletter.org/event/is-my-document-accessible/
CATEGORIES:Webinars
ATTACH;FMTTYPE=image/png:https://asanewsletter.org/wp-content/uploads/2022/07/banner-ned-themes-accessibility-e1693948444801.png
END:VEVENT
BEGIN:VEVENT
DTSTART;TZID=America/Chicago:20241031T113000
DTEND;TZID=America/Chicago:20241031T123000
DTSTAMP:20260422T073142
CREATED:20240917T131712Z
LAST-MODIFIED:20241011T140638Z
UID:10005212-1730374200-1730377800@asanewsletter.org
SUMMARY:Using Strategies from Success Coaching to Support Equitable Advising (Fall 2024)
DESCRIPTION:Description In this webinar\, host Karen Pikula and a panel from the system office will answer questions about open educational resources\, intellectual property\, Creative Commons licenses\, Z-degrees\, and more! Submit a question here beforehand. Time will be allotted toward the end to answer any participant questions that were not answered. RSVP Required Use the RSVP tool below... Continue Reading →
URL:https://asanewsletter.org/event/using-strategies-from-success-coaching-to-support-equitable-advising-fall-2024/
CATEGORIES:Webinars
ATTACH;FMTTYPE=image/png:https://asanewsletter.org/wp-content/uploads/2022/07/banner-ned-themes-academic-equity-e1693948320531.png
END:VEVENT
BEGIN:VEVENT
DTSTART;TZID=America/Chicago:20241031T090000
DTEND;TZID=America/Chicago:20241031T103000
DTSTAMP:20260422T073142
CREATED:20240910T161119Z
LAST-MODIFIED:20240912T202411Z
UID:10005208-1730365200-1730370600@asanewsletter.org
SUMMARY:Integrating Accessibility Professional Education and Certification Campus-Wide
DESCRIPTION:Description In this webinar\, host Karen Pikula and a panel from the system office will answer questions about open educational resources\, intellectual property\, Creative Commons licenses\, Z-degrees\, and more! Submit a question here beforehand. Time will be allotted toward the end to answer any participant questions that were not answered. RSVP Required Use the RSVP tool below... Continue Reading →
URL:https://asanewsletter.org/event/integrating-accessibility-professional-education-and-certification-campus-wide/
CATEGORIES:Webinars
ATTACH;FMTTYPE=image/png:https://asanewsletter.org/wp-content/uploads/2022/07/banner-ned-themes-accessibility-e1693948444801.png
END:VEVENT
BEGIN:VEVENT
DTSTART;TZID=America/Chicago:20241029T120000
DTEND;TZID=America/Chicago:20241029T130000
DTSTAMP:20260422T073142
CREATED:20241010T134240Z
LAST-MODIFIED:20241021T153602Z
UID:10005220-1730203200-1730206800@asanewsletter.org
SUMMARY:Conversations with Colleagues: October 2024
DESCRIPTION:Description In this webinar\, host Karen Pikula and a panel from the system office will answer questions about open educational resources\, intellectual property\, Creative Commons licenses\, Z-degrees\, and more! Submit a question here beforehand. Time will be allotted toward the end to answer any participant questions that were not answered. RSVP Required Use the RSVP tool below... Continue Reading →
URL:https://asanewsletter.org/event/conversations-with-colleagues-october-2024/
CATEGORIES:Webinars
ATTACH;FMTTYPE=image/jpeg:https://asanewsletter.org/wp-content/uploads/2023/08/conversations-e1693936962866.jpg
END:VEVENT
BEGIN:VEVENT
DTSTART;TZID=America/Chicago:20241029T110000
DTEND;TZID=America/Chicago:20241029T123000
DTSTAMP:20260422T073142
CREATED:20240910T160905Z
LAST-MODIFIED:20241029T174721Z
UID:10005207-1730199600-1730205000@asanewsletter.org
SUMMARY:Quick Wins in Designing Accessible On-Line Courses
DESCRIPTION:Description In this webinar\, host Karen Pikula and a panel from the system office will answer questions about open educational resources\, intellectual property\, Creative Commons licenses\, Z-degrees\, and more! Submit a question here beforehand. Time will be allotted toward the end to answer any participant questions that were not answered. RSVP Required Use the RSVP tool below... Continue Reading →
URL:https://asanewsletter.org/event/quick-wins-in-designing-accessible-on-line-courses/
CATEGORIES:Webinars
ATTACH;FMTTYPE=image/png:https://asanewsletter.org/wp-content/uploads/2022/07/banner-ned-themes-accessibility-e1693948444801.png
END:VEVENT
BEGIN:VEVENT
DTSTART;TZID=America/Chicago:20241022T140000
DTEND;TZID=America/Chicago:20241022T150000
DTSTAMP:20260422T073142
CREATED:20241015T155732Z
LAST-MODIFIED:20241021T125247Z
UID:10005230-1729605600-1729609200@asanewsletter.org
SUMMARY:What We Can Learn from Generation Z (Fall 2024)
DESCRIPTION:Description In this webinar\, host Karen Pikula and a panel from the system office will answer questions about open educational resources\, intellectual property\, Creative Commons licenses\, Z-degrees\, and more! Submit a question here beforehand. Time will be allotted toward the end to answer any participant questions that were not answered. RSVP Required Use the RSVP tool below... Continue Reading →
URL:https://asanewsletter.org/event/what-we-can-learn-from-generation-z-fall-2024/
CATEGORIES:Webinars
ATTACH;FMTTYPE=image/png:https://asanewsletter.org/wp-content/uploads/2022/07/banner-ned-themes-academic-equity-e1693948320531.png
END:VEVENT
BEGIN:VEVENT
DTSTART;TZID=America/Chicago:20241021T140000
DTEND;TZID=America/Chicago:20241021T144500
DTSTAMP:20260422T073142
CREATED:20240805T212848Z
LAST-MODIFIED:20240805T212848Z
UID:10005185-1729519200-1729521900@asanewsletter.org
SUMMARY:SoTL Reflective Practices (Fall 2024)
DESCRIPTION:Description In this webinar\, host Karen Pikula and a panel from the system office will answer questions about open educational resources\, intellectual property\, Creative Commons licenses\, Z-degrees\, and more! Submit a question here beforehand. Time will be allotted toward the end to answer any participant questions that were not answered. RSVP Required Use the RSVP tool below... Continue Reading →
URL:https://asanewsletter.org/event/sotl-reflective-practices-fall-2024/
CATEGORIES:Webinars
ATTACH;FMTTYPE=image/png:https://asanewsletter.org/wp-content/uploads/2022/07/banner-ned-themes-sotl-e1693948389154.png
END:VEVENT
BEGIN:VEVENT
DTSTART;TZID=America/Chicago:20241017T100000
DTEND;TZID=America/Chicago:20241017T110000
DTSTAMP:20260422T073142
CREATED:20240913T151125Z
LAST-MODIFIED:20240913T151729Z
UID:10005210-1729159200-1729162800@asanewsletter.org
SUMMARY:Quick Tips for Accessible Zoom Meetings (Fall 2024)
DESCRIPTION:Description In this webinar\, host Karen Pikula and a panel from the system office will answer questions about open educational resources\, intellectual property\, Creative Commons licenses\, Z-degrees\, and more! Submit a question here beforehand. Time will be allotted toward the end to answer any participant questions that were not answered. RSVP Required Use the RSVP tool below... Continue Reading →
URL:https://asanewsletter.org/event/quick-tips-accessible-zoom-fall-2024/
CATEGORIES:Webinars
ATTACH;FMTTYPE=image/png:https://asanewsletter.org/wp-content/uploads/2022/07/banner-ned-themes-academic-technologies-e1693948241660.png
END:VEVENT
BEGIN:VEVENT
DTSTART;TZID=America/Chicago:20241016T113000
DTEND;TZID=America/Chicago:20241016T123000
DTSTAMP:20260422T073142
CREATED:20240903T174757Z
LAST-MODIFIED:20240903T174849Z
UID:10005194-1729078200-1729081800@asanewsletter.org
SUMMARY:PressbookEDU Office Hour
DESCRIPTION:Description In this webinar\, host Karen Pikula and a panel from the system office will answer questions about open educational resources\, intellectual property\, Creative Commons licenses\, Z-degrees\, and more! Submit a question here beforehand. Time will be allotted toward the end to answer any participant questions that were not answered. RSVP Required Use the RSVP tool below... Continue Reading →
URL:https://asanewsletter.org/event/pressbookedu-office-hour/2024-10-16/
CATEGORIES:Webinars
ATTACH;FMTTYPE=image/png:https://asanewsletter.org/wp-content/uploads/2022/07/banner-ned-themes-oer-e1693948342542.png
END:VEVENT
BEGIN:VEVENT
DTSTART;TZID=America/Chicago:20241015T120000
DTEND;TZID=America/Chicago:20241015T130000
DTSTAMP:20260422T073142
CREATED:20240610T194242Z
LAST-MODIFIED:20240610T213635Z
UID:10005030-1728993600-1728997200@asanewsletter.org
SUMMARY:What's New in D2L Brightspace: October 2024
DESCRIPTION:Description In this webinar\, host Karen Pikula and a panel from the system office will answer questions about open educational resources\, intellectual property\, Creative Commons licenses\, Z-degrees\, and more! Submit a question here beforehand. Time will be allotted toward the end to answer any participant questions that were not answered. RSVP Required Use the RSVP tool below... Continue Reading →
URL:https://asanewsletter.org/event/whats-new-in-d2l-brightspace-october-2024/
CATEGORIES:Webinars
ATTACH;FMTTYPE=image/png:https://asanewsletter.org/wp-content/uploads/2022/07/banner-ned-themes-academic-technologies-e1693948241660.png
END:VEVENT
BEGIN:VEVENT
DTSTART;TZID=America/Chicago:20241010T150000
DTEND;TZID=America/Chicago:20241010T160000
DTSTAMP:20260422T073142
CREATED:20240702T134024Z
LAST-MODIFIED:20240702T134024Z
UID:10005154-1728572400-1728576000@asanewsletter.org
SUMMARY:OER Librarian Community of Practice (October 2024)
DESCRIPTION:Description In this webinar\, host Karen Pikula and a panel from the system office will answer questions about open educational resources\, intellectual property\, Creative Commons licenses\, Z-degrees\, and more! Submit a question here beforehand. Time will be allotted toward the end to answer any participant questions that were not answered. RSVP Required Use the RSVP tool below... Continue Reading →
URL:https://asanewsletter.org/event/oer-librarian-community-of-practice-october-2024/
CATEGORIES:Webinars
ATTACH;FMTTYPE=image/png:https://asanewsletter.org/wp-content/uploads/2022/07/banner-ned-themes-oer-e1693948342542.png
END:VEVENT
BEGIN:VEVENT
DTSTART;TZID=America/Chicago:20241008T110000
DTEND;TZID=America/Chicago:20241008T113000
DTSTAMP:20260422T073142
CREATED:20240801T135032Z
LAST-MODIFIED:20240801T135513Z
UID:10005182-1728385200-1728387000@asanewsletter.org
SUMMARY:Teaching with H5P Series (October 2024)
DESCRIPTION:Description In this webinar\, host Karen Pikula and a panel from the system office will answer questions about open educational resources\, intellectual property\, Creative Commons licenses\, Z-degrees\, and more! Submit a question here beforehand. Time will be allotted toward the end to answer any participant questions that were not answered. RSVP Required Use the RSVP tool below... Continue Reading →
URL:https://asanewsletter.org/event/teaching-with-h5p-series-october-2024/
CATEGORIES:Webinars
ATTACH;FMTTYPE=image/png:https://asanewsletter.org/wp-content/uploads/2022/07/banner-ned-themes-academic-technologies-e1693948241660.png
END:VEVENT
BEGIN:VEVENT
DTSTART;TZID=America/Chicago:20241007T150000
DTEND;TZID=America/Chicago:20241007T160000
DTSTAMP:20260422T073142
CREATED:20240613T162622Z
LAST-MODIFIED:20240926T204858Z
UID:10005139-1728313200-1728316800@asanewsletter.org
SUMMARY:OER Community Conversations: October
DESCRIPTION:Description In this webinar\, host Karen Pikula and a panel from the system office will answer questions about open educational resources\, intellectual property\, Creative Commons licenses\, Z-degrees\, and more! Submit a question here beforehand. Time will be allotted toward the end to answer any participant questions that were not answered. RSVP Required Use the RSVP tool below... Continue Reading →
URL:https://asanewsletter.org/event/oer-community-conversations-october-2/
CATEGORIES:Webinars
ATTACH;FMTTYPE=image/png:https://asanewsletter.org/wp-content/uploads/2022/07/banner-ned-themes-oer-e1693948342542.png
END:VEVENT
BEGIN:VEVENT
DTSTART;TZID=America/Chicago:20241003T110000
DTEND;TZID=America/Chicago:20241003T123000
DTSTAMP:20260422T073142
CREATED:20240910T160656Z
LAST-MODIFIED:20240912T200406Z
UID:10005206-1727953200-1727958600@asanewsletter.org
SUMMARY:The Opportunities and Risks of AI in Higher Education
DESCRIPTION:Description In this webinar\, host Karen Pikula and a panel from the system office will answer questions about open educational resources\, intellectual property\, Creative Commons licenses\, Z-degrees\, and more! Submit a question here beforehand. Time will be allotted toward the end to answer any participant questions that were not answered. RSVP Required Use the RSVP tool below... Continue Reading →
URL:https://asanewsletter.org/event/the-opportunities-and-risks-of-ai-in-higher-education/
CATEGORIES:Webinars
ATTACH;FMTTYPE=image/png:https://asanewsletter.org/wp-content/uploads/2022/07/banner-ned-themes-accessibility-e1693948444801.png
END:VEVENT
BEGIN:VEVENT
DTSTART;TZID=America/Chicago:20241002T150000
DTEND;TZID=America/Chicago:20241002T160000
DTSTAMP:20260422T073142
CREATED:20240913T153306Z
LAST-MODIFIED:20240913T153416Z
UID:10005211-1727881200-1727884800@asanewsletter.org
SUMMARY:Quick Tips for Regular and Substantive Interaction with Media Space (Fall 2024)
DESCRIPTION:Description In this webinar\, host Karen Pikula and a panel from the system office will answer questions about open educational resources\, intellectual property\, Creative Commons licenses\, Z-degrees\, and more! Submit a question here beforehand. Time will be allotted toward the end to answer any participant questions that were not answered. RSVP Required Use the RSVP tool below... Continue Reading →
URL:https://asanewsletter.org/event/quick-tips-for-rsi-media-space-fall-2024/
CATEGORIES:Webinars
ATTACH;FMTTYPE=image/png:https://asanewsletter.org/wp-content/uploads/2022/07/banner-ned-themes-academic-technologies-e1693948241660.png
END:VEVENT
BEGIN:VEVENT
DTSTART;TZID=America/Chicago:20240926T130000
DTEND;TZID=America/Chicago:20240926T153000
DTSTAMP:20260422T073142
CREATED:20240723T211607Z
LAST-MODIFIED:20240823T204109Z
UID:10005157-1727355600-1727364600@asanewsletter.org
SUMMARY:OER/No Cost Resources Librarian Workday
DESCRIPTION:Description In this webinar\, host Karen Pikula and a panel from the system office will answer questions about open educational resources\, intellectual property\, Creative Commons licenses\, Z-degrees\, and more! Submit a question here beforehand. Time will be allotted toward the end to answer any participant questions that were not answered. RSVP Required Use the RSVP tool below... Continue Reading →
URL:https://asanewsletter.org/event/oer-no-cost-resources-librarian-workday/
CATEGORIES:Webinars
ATTACH;FMTTYPE=image/png:https://asanewsletter.org/wp-content/uploads/2022/07/banner-ned-themes-oer-e1693948342542.png
END:VEVENT
BEGIN:VEVENT
DTSTART;TZID=America/Chicago:20240925T090000
DTEND;TZID=America/Chicago:20240925T103000
DTSTAMP:20260422T073142
CREATED:20240910T154518Z
LAST-MODIFIED:20240912T200347Z
UID:10005205-1727254800-1727260200@asanewsletter.org
SUMMARY:Measuring the Accessibility Status of Higher Education Institutions
DESCRIPTION:Description In this webinar\, host Karen Pikula and a panel from the system office will answer questions about open educational resources\, intellectual property\, Creative Commons licenses\, Z-degrees\, and more! Submit a question here beforehand. Time will be allotted toward the end to answer any participant questions that were not answered. RSVP Required Use the RSVP tool below... Continue Reading →
URL:https://asanewsletter.org/event/measuring-the-accessibility-status-of-higher-education-institutions/
CATEGORIES:Webinars
ATTACH;FMTTYPE=image/png:https://asanewsletter.org/wp-content/uploads/2022/07/banner-ned-themes-accessibility-e1693948444801.png
END:VEVENT
BEGIN:VEVENT
DTSTART;TZID=America/Chicago:20240918T113000
DTEND;TZID=America/Chicago:20240918T123000
DTSTAMP:20260422T073142
CREATED:20240903T174757Z
LAST-MODIFIED:20240903T174849Z
UID:10005193-1726659000-1726662600@asanewsletter.org
SUMMARY:PressbookEDU Office Hour
DESCRIPTION:Description In this webinar\, host Karen Pikula and a panel from the system office will answer questions about open educational resources\, intellectual property\, Creative Commons licenses\, Z-degrees\, and more! Submit a question here beforehand. Time will be allotted toward the end to answer any participant questions that were not answered. RSVP Required Use the RSVP tool below... Continue Reading →
URL:https://asanewsletter.org/event/pressbookedu-office-hour/2024-09-18/
CATEGORIES:Webinars
ATTACH;FMTTYPE=image/png:https://asanewsletter.org/wp-content/uploads/2022/07/banner-ned-themes-oer-e1693948342542.png
END:VEVENT
BEGIN:VEVENT
DTSTART;TZID=America/Chicago:20240917T130000
DTEND;TZID=America/Chicago:20240917T140000
DTSTAMP:20260422T073142
CREATED:20240905T204100Z
LAST-MODIFIED:20240905T204650Z
UID:10005203-1726578000-1726581600@asanewsletter.org
SUMMARY:Democracy in the Classroom Without Fear
DESCRIPTION:Description In this webinar\, host Karen Pikula and a panel from the system office will answer questions about open educational resources\, intellectual property\, Creative Commons licenses\, Z-degrees\, and more! Submit a question here beforehand. Time will be allotted toward the end to answer any participant questions that were not answered. RSVP Required Use the RSVP tool below... Continue Reading →
URL:https://asanewsletter.org/event/democracy-classroom/
CATEGORIES:Webinars
ATTACH;FMTTYPE=image/jpeg:https://asanewsletter.org/wp-content/uploads/2024/09/InverHillsLogo.jpg
END:VEVENT
BEGIN:VEVENT
DTSTART;TZID=America/Chicago:20240917T113000
DTEND;TZID=America/Chicago:20240917T123000
DTSTAMP:20260422T073142
CREATED:20240904T162245Z
LAST-MODIFIED:20240904T162245Z
UID:10005202-1726572600-1726576200@asanewsletter.org
SUMMARY:Strengths-Based Advising: Fall 2024
DESCRIPTION:Description In this webinar\, host Karen Pikula and a panel from the system office will answer questions about open educational resources\, intellectual property\, Creative Commons licenses\, Z-degrees\, and more! Submit a question here beforehand. Time will be allotted toward the end to answer any participant questions that were not answered. RSVP Required Use the RSVP tool below... Continue Reading →
URL:https://asanewsletter.org/event/strengths-based-advising-fall-2024-2/
CATEGORIES:Webinars
ATTACH;FMTTYPE=image/png:https://asanewsletter.org/wp-content/uploads/2022/07/banner-ned-themes-academic-equity-e1693948320531.png
END:VEVENT
BEGIN:VEVENT
DTSTART;TZID=America/Chicago:20240916T120000
DTEND;TZID=America/Chicago:20240916T130000
DTSTAMP:20260422T073142
CREATED:20240610T193706Z
LAST-MODIFIED:20240610T193706Z
UID:10005038-1726488000-1726491600@asanewsletter.org
SUMMARY:What's New in D2L Brightspace: September 2024
DESCRIPTION:Description In this webinar\, host Karen Pikula and a panel from the system office will answer questions about open educational resources\, intellectual property\, Creative Commons licenses\, Z-degrees\, and more! Submit a question here beforehand. Time will be allotted toward the end to answer any participant questions that were not answered. RSVP Required Use the RSVP tool below... Continue Reading →
URL:https://asanewsletter.org/event/whats-new-in-d2l-brightspace-september-2024/
CATEGORIES:Webinars
ATTACH;FMTTYPE=image/png:https://asanewsletter.org/wp-content/uploads/2022/07/banner-ned-themes-academic-technologies-e1693948241660.png
END:VEVENT
BEGIN:VEVENT
DTSTART;TZID=America/Chicago:20240911T143000
DTEND;TZID=America/Chicago:20240911T153000
DTSTAMP:20260422T073142
CREATED:20240611T154444Z
LAST-MODIFIED:20240611T154444Z
UID:10005133-1726065000-1726068600@asanewsletter.org
SUMMARY:OEN Webinar
DESCRIPTION:Description In this webinar\, host Karen Pikula and a panel from the system office will answer questions about open educational resources\, intellectual property\, Creative Commons licenses\, Z-degrees\, and more! Submit a question here beforehand. Time will be allotted toward the end to answer any participant questions that were not answered. RSVP Required Use the RSVP tool below... Continue Reading →
URL:https://asanewsletter.org/event/oen-webinar-11/
CATEGORIES:Webinars
ATTACH;FMTTYPE=image/png:https://asanewsletter.org/wp-content/uploads/2022/07/banner-ned-themes-oer-e1693948342542.png
END:VEVENT
BEGIN:VEVENT
DTSTART;TZID=America/Chicago:20240910T110000
DTEND;TZID=America/Chicago:20240910T113000
DTSTAMP:20260422T073142
CREATED:20240801T134839Z
LAST-MODIFIED:20240801T135516Z
UID:10005181-1725966000-1725967800@asanewsletter.org
SUMMARY:Teaching with H5P Series (September 2024)
DESCRIPTION:Description In this webinar\, host Karen Pikula and a panel from the system office will answer questions about open educational resources\, intellectual property\, Creative Commons licenses\, Z-degrees\, and more! Submit a question here beforehand. Time will be allotted toward the end to answer any participant questions that were not answered. RSVP Required Use the RSVP tool below... Continue Reading →
URL:https://asanewsletter.org/event/teaching-with-h5p-series-september-2024/
CATEGORIES:Webinars
ATTACH;FMTTYPE=image/png:https://asanewsletter.org/wp-content/uploads/2022/07/banner-ned-themes-academic-technologies-e1693948241660.png
END:VEVENT
BEGIN:VEVENT
DTSTART;TZID=America/Chicago:20240910T100000
DTEND;TZID=America/Chicago:20240910T103000
DTSTAMP:20260422T073142
CREATED:20240827T195140Z
LAST-MODIFIED:20240827T195444Z
UID:10005192-1725962400-1725964200@asanewsletter.org
SUMMARY:Get to Know the NED (Fall 2024)
DESCRIPTION:Description In this webinar\, host Karen Pikula and a panel from the system office will answer questions about open educational resources\, intellectual property\, Creative Commons licenses\, Z-degrees\, and more! Submit a question here beforehand. Time will be allotted toward the end to answer any participant questions that were not answered. RSVP Required Use the RSVP tool below... Continue Reading →
URL:https://asanewsletter.org/event/get-to-know-the-ned-fall-2024/
CATEGORIES:Webinars
ATTACH;FMTTYPE=image/png:https://asanewsletter.org/wp-content/uploads/2022/07/banner-ned-themes-foundations-e1693948367597.png
END:VEVENT
END:VCALENDAR