BEGIN:VCALENDAR
VERSION:2.0
PRODID:-//ASA Newsletter - ECPv6.15.18//NONSGML v1.0//EN
CALSCALE:GREGORIAN
METHOD:PUBLISH
X-ORIGINAL-URL:https://asanewsletter.org
X-WR-CALDESC:Events for ASA Newsletter
REFRESH-INTERVAL;VALUE=DURATION:PT1H
X-Robots-Tag:noindex
X-PUBLISHED-TTL:PT1H
BEGIN:VTIMEZONE
TZID:America/Chicago
BEGIN:DAYLIGHT
TZOFFSETFROM:-0600
TZOFFSETTO:-0500
TZNAME:CDT
DTSTART:20240310T080000
END:DAYLIGHT
BEGIN:STANDARD
TZOFFSETFROM:-0500
TZOFFSETTO:-0600
TZNAME:CST
DTSTART:20241103T070000
END:STANDARD
BEGIN:DAYLIGHT
TZOFFSETFROM:-0600
TZOFFSETTO:-0500
TZNAME:CDT
DTSTART:20250309T080000
END:DAYLIGHT
BEGIN:STANDARD
TZOFFSETFROM:-0500
TZOFFSETTO:-0600
TZNAME:CST
DTSTART:20251102T070000
END:STANDARD
BEGIN:DAYLIGHT
TZOFFSETFROM:-0600
TZOFFSETTO:-0500
TZNAME:CDT
DTSTART:20260308T080000
END:DAYLIGHT
BEGIN:STANDARD
TZOFFSETFROM:-0500
TZOFFSETTO:-0600
TZNAME:CST
DTSTART:20261101T070000
END:STANDARD
END:VTIMEZONE
BEGIN:VEVENT
DTSTART;TZID=America/Chicago:20250731T090000
DTEND;TZID=America/Chicago:20250731T094500
DTSTAMP:20260419T193752
CREATED:20250707T145644Z
LAST-MODIFIED:20250707T145825Z
UID:10005404-1753952400-1753955100@asanewsletter.org
SUMMARY:Discussion Boards: Integrating Choices for Modality (Summer 2025)
DESCRIPTION:Note: This is a repeat of the Orientation to Accessibility+ (Spring 2026) 1 session Accessibility+ is a tool embedded in Brightspace that helps identify and improve the accessibility of digital... Continue Reading →
URL:https://asanewsletter.org/event/discussion-boards-integrating-choices-for-modality-summer-2025/
CATEGORIES:Webinars
ATTACH;FMTTYPE=image/png:https://asanewsletter.org/wp-content/uploads/2022/07/banner-ned-themes-sotl-e1693948389154.png
END:VEVENT
BEGIN:VEVENT
DTSTART;TZID=America/Chicago:20250812T130000
DTEND;TZID=America/Chicago:20250812T140000
DTSTAMP:20260419T193752
CREATED:20250521T211314Z
LAST-MODIFIED:20250527T141129Z
UID:10005371-1755003600-1755007200@asanewsletter.org
SUMMARY:Teaching and Learning Competency and the NED - MSCF Probationary Faculty (Option 1)
DESCRIPTION:Note: This is a repeat of the Orientation to Accessibility+ (Spring 2026) 1 session Accessibility+ is a tool embedded in Brightspace that helps identify and improve the accessibility of digital... Continue Reading →
URL:https://asanewsletter.org/event/teaching-and-learning-competency-and-the-ned-mscf-probationary-faculty-option-1/
CATEGORIES:Webinars
ATTACH;FMTTYPE=image/png:https://asanewsletter.org/wp-content/uploads/2022/07/banner-ned-themes-foundations-e1693948367597.png
END:VEVENT
BEGIN:VEVENT
DTSTART;TZID=America/Chicago:20250814T100000
DTEND;TZID=America/Chicago:20250814T110000
DTSTAMP:20260419T193752
CREATED:20250519T175137Z
LAST-MODIFIED:20250519T175137Z
UID:10005367-1755165600-1755169200@asanewsletter.org
SUMMARY:Creating Content Pages Using HTML Templates in D2L Brightspace (Summer 2025)
DESCRIPTION:Note: This is a repeat of the Orientation to Accessibility+ (Spring 2026) 1 session Accessibility+ is a tool embedded in Brightspace that helps identify and improve the accessibility of digital... Continue Reading →
URL:https://asanewsletter.org/event/creating-content-pages-using-html-templates-in-d2l-brightspace-summer-2025/
CATEGORIES:Webinars
ATTACH;FMTTYPE=image/png:https://asanewsletter.org/wp-content/uploads/2022/07/banner-ned-themes-academic-technologies-e1693948241660.png
END:VEVENT
BEGIN:VEVENT
DTSTART;TZID=America/Chicago:20250818T120000
DTEND;TZID=America/Chicago:20250818T123000
DTSTAMP:20260419T193752
CREATED:20250310T142718Z
LAST-MODIFIED:20250310T142718Z
UID:10005270-1755518400-1755520200@asanewsletter.org
SUMMARY:What's New in D2L Brightspace: August 2025
DESCRIPTION:Note: This is a repeat of the Orientation to Accessibility+ (Spring 2026) 1 session Accessibility+ is a tool embedded in Brightspace that helps identify and improve the accessibility of digital... Continue Reading →
URL:https://asanewsletter.org/event/whats-new-in-d2l-brightspace-august-2025/
CATEGORIES:Webinars
ATTACH;FMTTYPE=image/png:https://asanewsletter.org/wp-content/uploads/2022/07/banner-ned-themes-academic-technologies-e1693948241660.png
END:VEVENT
BEGIN:VEVENT
DTSTART;TZID=America/Chicago:20250819T140000
DTEND;TZID=America/Chicago:20250819T150000
DTSTAMP:20260419T193752
CREATED:20250808T162723Z
LAST-MODIFIED:20250811T203552Z
UID:10005418-1755612000-1755615600@asanewsletter.org
SUMMARY:Creating an Accessibility Strategy for Your Online Courses (Fall 2025)
DESCRIPTION:Note: This is a repeat of the Orientation to Accessibility+ (Spring 2026) 1 session Accessibility+ is a tool embedded in Brightspace that helps identify and improve the accessibility of digital... Continue Reading →
URL:https://asanewsletter.org/event/creating-an-accessibility-strategy-for-your-online-courses-fall-2025/
CATEGORIES:Webinars
ATTACH;FMTTYPE=image/png:https://asanewsletter.org/wp-content/uploads/2022/07/banner-ned-themes-accessibility-e1693948444801.png
END:VEVENT
BEGIN:VEVENT
DTSTART;TZID=America/Chicago:20250903T130000
DTEND;TZID=America/Chicago:20250903T140000
DTSTAMP:20260419T193752
CREATED:20250728T132419Z
LAST-MODIFIED:20250728T132419Z
UID:10005411-1756904400-1756908000@asanewsletter.org
SUMMARY:The Importance of Instructor Presence in the Online Classroom (Fall 2025)
DESCRIPTION:Note: This is a repeat of the Orientation to Accessibility+ (Spring 2026) 1 session Accessibility+ is a tool embedded in Brightspace that helps identify and improve the accessibility of digital... Continue Reading →
URL:https://asanewsletter.org/event/the-importance-of-instructor-presence-in-the-online-classroom-fall-2025/
CATEGORIES:Webinars
ATTACH;FMTTYPE=image/png:https://asanewsletter.org/wp-content/uploads/2022/07/banner-ned-themes-academic-technologies-e1693948241660.png
END:VEVENT
BEGIN:VEVENT
DTSTART;TZID=America/Chicago:20250911T110000
DTEND;TZID=America/Chicago:20250911T113000
DTSTAMP:20260419T193752
CREATED:20250626T133937Z
LAST-MODIFIED:20250626T134432Z
UID:10005397-1757588400-1757590200@asanewsletter.org
SUMMARY:Say Hi to AI: Getting Started with Copilot (September 2025)
DESCRIPTION:Note: This is a repeat of the Orientation to Accessibility+ (Spring 2026) 1 session Accessibility+ is a tool embedded in Brightspace that helps identify and improve the accessibility of digital... Continue Reading →
URL:https://asanewsletter.org/event/say-hi-to-ai-getting-started-with-copilot-september-2025/
CATEGORIES:Webinars
ATTACH;FMTTYPE=image/png:https://asanewsletter.org/wp-content/uploads/2022/07/banner-ned-themes-academic-technologies-e1693948241660.png
END:VEVENT
BEGIN:VEVENT
DTSTART;TZID=America/Chicago:20250916T110000
DTEND;TZID=America/Chicago:20250916T113000
DTSTAMP:20260419T193752
CREATED:20250307T175716Z
LAST-MODIFIED:20250616T164549Z
UID:10005331-1758020400-1758022200@asanewsletter.org
SUMMARY:Teaching with H5P Series (September 2025)
DESCRIPTION:Note: This is a repeat of the Orientation to Accessibility+ (Spring 2026) 1 session Accessibility+ is a tool embedded in Brightspace that helps identify and improve the accessibility of digital... Continue Reading →
URL:https://asanewsletter.org/event/teaching-with-h5p-series-september-2025/
CATEGORIES:Webinars
ATTACH;FMTTYPE=image/png:https://asanewsletter.org/wp-content/uploads/2022/07/banner-ned-themes-academic-technologies-e1693948241660.png
END:VEVENT
BEGIN:VEVENT
DTSTART;TZID=America/Chicago:20250917T093000
DTEND;TZID=America/Chicago:20250917T103000
DTSTAMP:20260419T193752
CREATED:20250521T211346Z
LAST-MODIFIED:20250527T141229Z
UID:10005372-1758101400-1758105000@asanewsletter.org
SUMMARY:Teaching and Learning Competency and the NED - MSCF Probationary Faculty (Option 2)
DESCRIPTION:Note: This is a repeat of the Orientation to Accessibility+ (Spring 2026) 1 session Accessibility+ is a tool embedded in Brightspace that helps identify and improve the accessibility of digital... Continue Reading →
URL:https://asanewsletter.org/event/teaching-and-learning-competency-and-the-ned-mscf-probationary-faculty-option-2/
CATEGORIES:Webinars
ATTACH;FMTTYPE=image/png:https://asanewsletter.org/wp-content/uploads/2022/07/banner-ned-themes-foundations-e1693948367597.png
END:VEVENT
BEGIN:VEVENT
DTSTART;TZID=America/Chicago:20250917T130000
DTEND;TZID=America/Chicago:20250917T140000
DTSTAMP:20260419T193752
CREATED:20250728T132439Z
LAST-MODIFIED:20250728T132439Z
UID:10005412-1758114000-1758117600@asanewsletter.org
SUMMARY:10 Small Steps You Can Take to Support RSI in Your Courses (Fall 2025)
DESCRIPTION:Note: This is a repeat of the Orientation to Accessibility+ (Spring 2026) 1 session Accessibility+ is a tool embedded in Brightspace that helps identify and improve the accessibility of digital... Continue Reading →
URL:https://asanewsletter.org/event/10-small-steps-you-can-take-to-support-rsi-in-your-courses-fall-2025/
CATEGORIES:Webinars
ATTACH;FMTTYPE=image/png:https://asanewsletter.org/wp-content/uploads/2022/07/banner-ned-themes-academic-technologies-e1693948241660.png
END:VEVENT
BEGIN:VEVENT
DTSTART;TZID=America/Chicago:20250923T140000
DTEND;TZID=America/Chicago:20250923T150000
DTSTAMP:20260419T193752
CREATED:20250808T162720Z
LAST-MODIFIED:20250808T162720Z
UID:10005417-1758636000-1758639600@asanewsletter.org
SUMMARY:Accessibility Check-Up with the Quality Matters Rubric (Fall 2025)
DESCRIPTION:Note: This is a repeat of the Orientation to Accessibility+ (Spring 2026) 1 session Accessibility+ is a tool embedded in Brightspace that helps identify and improve the accessibility of digital... Continue Reading →
URL:https://asanewsletter.org/event/accessibility-check-up-with-the-quality-matters-rubric-fall-2025/
CATEGORIES:Webinars
ATTACH;FMTTYPE=image/png:https://asanewsletter.org/wp-content/uploads/2022/07/banner-ned-themes-accessibility-e1693948444801.png
END:VEVENT
BEGIN:VEVENT
DTSTART;TZID=America/Chicago:20250925T120000
DTEND;TZID=America/Chicago:20250925T130000
DTSTAMP:20260419T193752
CREATED:20250908T151441Z
LAST-MODIFIED:20250908T205420Z
UID:10005423-1758801600-1758805200@asanewsletter.org
SUMMARY:Strengths-Based Advising (Fall 2025)
DESCRIPTION:Note: This is a repeat of the Orientation to Accessibility+ (Spring 2026) 1 session Accessibility+ is a tool embedded in Brightspace that helps identify and improve the accessibility of digital... Continue Reading →
URL:https://asanewsletter.org/event/strengths-based-advising-fall-2025/
CATEGORIES:Webinars
END:VEVENT
BEGIN:VEVENT
DTSTART;TZID=America/Chicago:20251002T090000
DTEND;TZID=America/Chicago:20251002T093000
DTSTAMP:20260419T193752
CREATED:20250918T185128Z
LAST-MODIFIED:20250918T185128Z
UID:10005425-1759395600-1759397400@asanewsletter.org
SUMMARY:Beyond the Classroom: Defining Co-Curricular Assessment (Fall 2025)
DESCRIPTION:Note: This is a repeat of the Orientation to Accessibility+ (Spring 2026) 1 session Accessibility+ is a tool embedded in Brightspace that helps identify and improve the accessibility of digital... Continue Reading →
URL:https://asanewsletter.org/event/beyond-the-classroom-defining-co-curricular-assessment-fall-2025/
CATEGORIES:Webinars
ATTACH;FMTTYPE=image/png:https://asanewsletter.org/wp-content/uploads/2022/07/banner-ned-themes-foundations-e1693948367597.png
END:VEVENT
BEGIN:VEVENT
DTSTART;TZID=America/Chicago:20251008T120000
DTEND;TZID=America/Chicago:20251008T130000
DTSTAMP:20260419T193752
CREATED:20250911T193906Z
LAST-MODIFIED:20250911T193906Z
UID:10005424-1759924800-1759928400@asanewsletter.org
SUMMARY:Disability Justice: from individual rights to collective power (Fall 2025)
DESCRIPTION:Note: This is a repeat of the Orientation to Accessibility+ (Spring 2026) 1 session Accessibility+ is a tool embedded in Brightspace that helps identify and improve the accessibility of digital... Continue Reading →
URL:https://asanewsletter.org/event/disability-justice-from-individual-rights-to-collective-power-fall-2025/
CATEGORIES:Webinars
ATTACH;FMTTYPE=image/png:https://asanewsletter.org/wp-content/uploads/2022/07/banner-ned-themes-accessibility-e1693948444801.png
END:VEVENT
BEGIN:VEVENT
DTSTART;TZID=America/Chicago:20251008T140000
DTEND;TZID=America/Chicago:20251008T150000
DTSTAMP:20260419T193752
CREATED:20250922T193629Z
LAST-MODIFIED:20250923T151449Z
UID:10005428-1759932000-1759935600@asanewsletter.org
SUMMARY:Procrastination: Why Students (and We!) Do It\, and How to Help (Fall 2025)
DESCRIPTION:Note: This is a repeat of the Orientation to Accessibility+ (Spring 2026) 1 session Accessibility+ is a tool embedded in Brightspace that helps identify and improve the accessibility of digital... Continue Reading →
URL:https://asanewsletter.org/event/procrastination-why-students-and-we-do-it-and-how-to-help-fall-2025/
CATEGORIES:Webinars
ATTACH;FMTTYPE=image/png:https://asanewsletter.org/wp-content/uploads/2022/07/banner-ned-themes-academic-equity-e1693948320531.png
END:VEVENT
BEGIN:VEVENT
DTSTART;TZID=America/Chicago:20251008T150000
DTEND;TZID=America/Chicago:20251008T160000
DTSTAMP:20260419T193752
CREATED:20250814T141632Z
LAST-MODIFIED:20250919T151106Z
UID:10005419-1759935600-1759939200@asanewsletter.org
SUMMARY:OER Community Conversations: October 2025
DESCRIPTION:Note: This is a repeat of the Orientation to Accessibility+ (Spring 2026) 1 session Accessibility+ is a tool embedded in Brightspace that helps identify and improve the accessibility of digital... Continue Reading →
URL:https://asanewsletter.org/event/oer-community-conversations-october-2025/
CATEGORIES:Webinars
ATTACH;FMTTYPE=image/png:https://asanewsletter.org/wp-content/uploads/2022/07/banner-ned-themes-oer-e1693948342542.png
END:VEVENT
BEGIN:VEVENT
DTSTART;TZID=America/Chicago:20251013T120000
DTEND;TZID=America/Chicago:20251013T123000
DTSTAMP:20260419T193752
CREATED:20250310T144639Z
LAST-MODIFIED:20250310T144639Z
UID:10005272-1760356800-1760358600@asanewsletter.org
SUMMARY:What's New in D2L Brightspace: October 2025
DESCRIPTION:Note: This is a repeat of the Orientation to Accessibility+ (Spring 2026) 1 session Accessibility+ is a tool embedded in Brightspace that helps identify and improve the accessibility of digital... Continue Reading →
URL:https://asanewsletter.org/event/whats-new-in-d2l-brightspace-october-2025/
CATEGORIES:Webinars
ATTACH;FMTTYPE=image/png:https://asanewsletter.org/wp-content/uploads/2022/07/banner-ned-themes-academic-technologies-e1693948241660.png
END:VEVENT
BEGIN:VEVENT
DTSTART;TZID=America/Chicago:20251015T140000
DTEND;TZID=America/Chicago:20251015T150000
DTSTAMP:20260419T193752
CREATED:20251003T195443Z
LAST-MODIFIED:20251006T164342Z
UID:10005451-1760536800-1760540400@asanewsletter.org
SUMMARY:Designing Course Maps (Fall 2025)
DESCRIPTION:Note: This is a repeat of the Orientation to Accessibility+ (Spring 2026) 1 session Accessibility+ is a tool embedded in Brightspace that helps identify and improve the accessibility of digital... Continue Reading →
URL:https://asanewsletter.org/event/designing-course-maps-fall-2025/
CATEGORIES:Webinars
ATTACH;FMTTYPE=image/png:https://asanewsletter.org/wp-content/uploads/2022/07/banner-ned-themes-foundations-e1693948367597.png
END:VEVENT
BEGIN:VEVENT
DTSTART;TZID=America/Chicago:20251021T110000
DTEND;TZID=America/Chicago:20251021T113000
DTSTAMP:20260419T193752
CREATED:20250307T203124Z
LAST-MODIFIED:20250616T164543Z
UID:10005332-1761044400-1761046200@asanewsletter.org
SUMMARY:Teaching with H5P Series (October 2025)
DESCRIPTION:Note: This is a repeat of the Orientation to Accessibility+ (Spring 2026) 1 session Accessibility+ is a tool embedded in Brightspace that helps identify and improve the accessibility of digital... Continue Reading →
URL:https://asanewsletter.org/event/teaching-with-h5p-series-october-2025-2/
CATEGORIES:Webinars
ATTACH;FMTTYPE=image/png:https://asanewsletter.org/wp-content/uploads/2022/07/banner-ned-themes-academic-technologies-e1693948241660.png
END:VEVENT
BEGIN:VEVENT
DTSTART;TZID=America/Chicago:20251021T110000
DTEND;TZID=America/Chicago:20251021T120000
DTSTAMP:20260419T193752
CREATED:20250922T192041Z
LAST-MODIFIED:20250922T193649Z
UID:10005430-1761044400-1761048000@asanewsletter.org
SUMMARY:Empowering Success: Practical Accessibility Strategies to Enhance Learning and Work Environments (Fall 2025)
DESCRIPTION:Note: This is a repeat of the Orientation to Accessibility+ (Spring 2026) 1 session Accessibility+ is a tool embedded in Brightspace that helps identify and improve the accessibility of digital... Continue Reading →
URL:https://asanewsletter.org/event/empowering-success-practical-accessibility-strategies-to-enhance-learning-and-work-environments/
CATEGORIES:Webinars
ATTACH;FMTTYPE=image/png:https://asanewsletter.org/wp-content/uploads/2022/07/banner-ned-themes-accessibility-e1693948444801.png
END:VEVENT
BEGIN:VEVENT
DTSTART;TZID=America/Chicago:20251022T110000
DTEND;TZID=America/Chicago:20251022T113000
DTSTAMP:20260419T193752
CREATED:20250626T133548Z
LAST-MODIFIED:20250905T193830Z
UID:10005392-1761130800-1761132600@asanewsletter.org
SUMMARY:Teaching with AI: Show and Tell Series (October 2025)
DESCRIPTION:Note: This is a repeat of the Orientation to Accessibility+ (Spring 2026) 1 session Accessibility+ is a tool embedded in Brightspace that helps identify and improve the accessibility of digital... Continue Reading →
URL:https://asanewsletter.org/event/teaching-with-ai-show-and-tell-october-2025/
CATEGORIES:Webinars
ATTACH;FMTTYPE=image/png:https://asanewsletter.org/wp-content/uploads/2022/07/banner-ned-themes-academic-technologies-e1693948241660.png
END:VEVENT
BEGIN:VEVENT
DTSTART;TZID=America/Chicago:20251022T140000
DTEND;TZID=America/Chicago:20251022T150000
DTSTAMP:20260419T193752
CREATED:20251009T211613Z
LAST-MODIFIED:20251009T211613Z
UID:10005452-1761141600-1761145200@asanewsletter.org
SUMMARY:Reflecting on and Revising Course Design (Fall 2025)
DESCRIPTION:Note: This is a repeat of the Orientation to Accessibility+ (Spring 2026) 1 session Accessibility+ is a tool embedded in Brightspace that helps identify and improve the accessibility of digital... Continue Reading →
URL:https://asanewsletter.org/event/reflecting-on-and-revising-course-design-fall-2025/
CATEGORIES:Webinars
ATTACH;FMTTYPE=image/png:https://asanewsletter.org/wp-content/uploads/2022/07/banner-ned-themes-foundations-e1693948367597.png
END:VEVENT
BEGIN:VEVENT
DTSTART;TZID=America/Chicago:20251023T090000
DTEND;TZID=America/Chicago:20251023T100000
DTSTAMP:20260419T193752
CREATED:20250710T131450Z
LAST-MODIFIED:20250710T131450Z
UID:10005405-1761210000-1761213600@asanewsletter.org
SUMMARY:Working with Pressbooks: Discovery\, Imagining\, Refining (Summer 2025)
DESCRIPTION:Note: This is a repeat of the Orientation to Accessibility+ (Spring 2026) 1 session Accessibility+ is a tool embedded in Brightspace that helps identify and improve the accessibility of digital... Continue Reading →
URL:https://asanewsletter.org/event/working-with-pressbooks-discovery-imagining-refining-summer-2025/
CATEGORIES:Webinars
ATTACH;FMTTYPE=image/png:https://asanewsletter.org/wp-content/uploads/2022/07/banner-ned-themes-oer-e1693948342542.png
END:VEVENT
BEGIN:VEVENT
DTSTART;TZID=America/Chicago:20251027T110000
DTEND;TZID=America/Chicago:20251027T120000
DTSTAMP:20260419T193752
CREATED:20250710T131455Z
LAST-MODIFIED:20250710T131455Z
UID:10005408-1761562800-1761566400@asanewsletter.org
SUMMARY:Time is an Issue: Accessible Materials and Where to Find Them (Summer 2025)
DESCRIPTION:Note: This is a repeat of the Orientation to Accessibility+ (Spring 2026) 1 session Accessibility+ is a tool embedded in Brightspace that helps identify and improve the accessibility of digital... Continue Reading →
URL:https://asanewsletter.org/event/time-is-an-issue-accessible-materials-and-where-to-find-them-summer-2025/
CATEGORIES:Webinars
ATTACH;FMTTYPE=image/png:https://asanewsletter.org/wp-content/uploads/2022/07/banner-ned-themes-accessibility-e1693948444801.png
END:VEVENT
BEGIN:VEVENT
DTSTART;TZID=America/Chicago:20251028T120000
DTEND;TZID=America/Chicago:20251028T130000
DTSTAMP:20260419T193752
CREATED:20250728T161405Z
LAST-MODIFIED:20251103T192813Z
UID:10005413-1761652800-1761656400@asanewsletter.org
SUMMARY:Conversations with Colleagues (October 2025)
DESCRIPTION:Note: This is a repeat of the Orientation to Accessibility+ (Spring 2026) 1 session Accessibility+ is a tool embedded in Brightspace that helps identify and improve the accessibility of digital... Continue Reading →
URL:https://asanewsletter.org/event/conversations-with-colleagues-october-2025/
CATEGORIES:Webinars
ATTACH;FMTTYPE=image/jpeg:https://asanewsletter.org/wp-content/uploads/2023/08/conversations-e1693936962866.jpg
END:VEVENT
BEGIN:VEVENT
DTSTART;TZID=America/Chicago:20251029T090000
DTEND;TZID=America/Chicago:20251029T100000
DTSTAMP:20260419T193752
CREATED:20250922T195952Z
LAST-MODIFIED:20251015T180004Z
UID:10005431-1761728400-1761732000@asanewsletter.org
SUMMARY:Educational Developers Connect (Fall 2025)
DESCRIPTION:Note: This is a repeat of the Orientation to Accessibility+ (Spring 2026) 1 session Accessibility+ is a tool embedded in Brightspace that helps identify and improve the accessibility of digital... Continue Reading →
URL:https://asanewsletter.org/event/educational-developers-connect-fall-2025/
CATEGORIES:Webinars
ATTACH;FMTTYPE=image/jpeg:https://asanewsletter.org/wp-content/uploads/2023/08/conversations-e1693936962866.jpg
END:VEVENT
BEGIN:VEVENT
DTSTART;TZID=America/Chicago:20251029T120000
DTEND;TZID=America/Chicago:20251029T130000
DTSTAMP:20260419T193752
CREATED:20251017T173845Z
LAST-MODIFIED:20251017T173845Z
UID:10005455-1761739200-1761742800@asanewsletter.org
SUMMARY:Using Strategies from Success Coaching to Support Equitable Advising  (Fall 2025)
DESCRIPTION:Note: This is a repeat of the Orientation to Accessibility+ (Spring 2026) 1 session Accessibility+ is a tool embedded in Brightspace that helps identify and improve the accessibility of digital... Continue Reading →
URL:https://asanewsletter.org/event/using-strategies-from-success-coaching-to-support-equitable-advising-fall-2025/
CATEGORIES:Webinars
ATTACH;FMTTYPE=image/png:https://asanewsletter.org/wp-content/uploads/2022/07/banner-ned-themes-foundations-e1693948367597.png
END:VEVENT
BEGIN:VEVENT
DTSTART;TZID=America/Chicago:20251104T090000
DTEND;TZID=America/Chicago:20251104T093000
DTSTAMP:20260419T193752
CREATED:20251015T195820Z
LAST-MODIFIED:20251015T195820Z
UID:10005426-1762246800-1762248600@asanewsletter.org
SUMMARY:Co-Curricular Learning Outcome Taxonomies - Exploring Bloom's and Fink's (Fall 2025)
DESCRIPTION:Note: This is a repeat of the Orientation to Accessibility+ (Spring 2026) 1 session Accessibility+ is a tool embedded in Brightspace that helps identify and improve the accessibility of digital... Continue Reading →
URL:https://asanewsletter.org/event/co-curricular-learning-outcome-taxonomies-exploring-blooms-and-finks-fall-2025/
CATEGORIES:Webinars
ATTACH;FMTTYPE=image/png:https://asanewsletter.org/wp-content/uploads/2022/07/banner-ned-themes-foundations-e1693948367597.png
END:VEVENT
BEGIN:VEVENT
DTSTART;TZID=America/Chicago:20251107T090000
DTEND;TZID=America/Chicago:20251107T100000
DTSTAMP:20260419T193752
CREATED:20251028T180434Z
LAST-MODIFIED:20251028T180434Z
UID:10005458-1762506000-1762509600@asanewsletter.org
SUMMARY:Reframing Scholarship in the Classroom (Fall 2025)
DESCRIPTION:Note: This is a repeat of the Orientation to Accessibility+ (Spring 2026) 1 session Accessibility+ is a tool embedded in Brightspace that helps identify and improve the accessibility of digital... Continue Reading →
URL:https://asanewsletter.org/event/reframing-scholarship-in-the-classroom-fall-2025/
CATEGORIES:Webinars
ATTACH;FMTTYPE=image/png:https://asanewsletter.org/wp-content/uploads/2022/07/banner-ned-themes-sotl-e1693948389154.png
END:VEVENT
BEGIN:VEVENT
DTSTART;TZID=America/Chicago:20251112T130000
DTEND;TZID=America/Chicago:20251112T140000
DTSTAMP:20260419T193752
CREATED:20251028T180432Z
LAST-MODIFIED:20251028T180432Z
UID:10005462-1762952400-1762956000@asanewsletter.org
SUMMARY:Capturing Your Equity Work (Fall 2025)
DESCRIPTION:Note: This is a repeat of the Orientation to Accessibility+ (Spring 2026) 1 session Accessibility+ is a tool embedded in Brightspace that helps identify and improve the accessibility of digital... Continue Reading →
URL:https://asanewsletter.org/event/capturing-your-equity-work-fall-2025/
CATEGORIES:Webinars
ATTACH;FMTTYPE=image/png:https://asanewsletter.org/wp-content/uploads/2022/07/banner-ned-themes-academic-equity-e1693948320531.png
END:VEVENT
END:VCALENDAR