BEGIN:VCALENDAR
VERSION:2.0
PRODID:-//ASA Newsletter - ECPv6.15.18//NONSGML v1.0//EN
CALSCALE:GREGORIAN
METHOD:PUBLISH
X-WR-CALNAME:ASA Newsletter
X-ORIGINAL-URL:https://asanewsletter.org
X-WR-CALDESC:Events for ASA Newsletter
REFRESH-INTERVAL;VALUE=DURATION:PT1H
X-Robots-Tag:noindex
X-PUBLISHED-TTL:PT1H
BEGIN:VTIMEZONE
TZID:America/Chicago
BEGIN:DAYLIGHT
TZOFFSETFROM:-0600
TZOFFSETTO:-0500
TZNAME:CDT
DTSTART:20190310T080000
END:DAYLIGHT
BEGIN:STANDARD
TZOFFSETFROM:-0500
TZOFFSETTO:-0600
TZNAME:CST
DTSTART:20191103T070000
END:STANDARD
BEGIN:DAYLIGHT
TZOFFSETFROM:-0600
TZOFFSETTO:-0500
TZNAME:CDT
DTSTART:20200308T080000
END:DAYLIGHT
BEGIN:STANDARD
TZOFFSETFROM:-0500
TZOFFSETTO:-0600
TZNAME:CST
DTSTART:20201101T070000
END:STANDARD
BEGIN:DAYLIGHT
TZOFFSETFROM:-0600
TZOFFSETTO:-0500
TZNAME:CDT
DTSTART:20210314T080000
END:DAYLIGHT
BEGIN:STANDARD
TZOFFSETFROM:-0500
TZOFFSETTO:-0600
TZNAME:CST
DTSTART:20211107T070000
END:STANDARD
END:VTIMEZONE
BEGIN:VEVENT
DTSTART;TZID=America/Chicago:20200901T090000
DTEND;TZID=America/Chicago:20200901T100000
DTSTAMP:20260419T153133
CREATED:20200720T161006Z
LAST-MODIFIED:20220630T151127Z
UID:10004187-1598950800-1598954400@asanewsletter.org
SUMMARY:Setting up Assignments and Quizzes (Webinar)
DESCRIPTION:Open Education Network (OEN) Webinars introduce Minnesota State faculty and staff to open educational resources\, creative commons licensing\, and the work with the Open Textbook Library at the University of Minnesota. Attendees will receive a link to review an open textbook located in the Open Textbook Library (open.umn.edu) and receive a $200 stipend once the review... Continue Reading →
URL:https://asanewsletter.org/event/setting-up-assignments-and-quizzes-webinar/
LOCATION:Online
CATEGORIES:Webinars
END:VEVENT
BEGIN:VEVENT
DTSTART;TZID=America/Chicago:20200831T120000
DTEND;TZID=America/Chicago:20200831T130000
DTSTAMP:20260419T153133
CREATED:20200720T160611Z
LAST-MODIFIED:20220630T151934Z
UID:10004185-1598875200-1598878800@asanewsletter.org
SUMMARY:Manage Course Content (Webinar)
DESCRIPTION:Open Education Network (OEN) Webinars introduce Minnesota State faculty and staff to open educational resources\, creative commons licensing\, and the work with the Open Textbook Library at the University of Minnesota. Attendees will receive a link to review an open textbook located in the Open Textbook Library (open.umn.edu) and receive a $200 stipend once the review... Continue Reading →
URL:https://asanewsletter.org/event/manage-course-content/
LOCATION:Online
CATEGORIES:Webinars
END:VEVENT
BEGIN:VEVENT
DTSTART;VALUE=DATE:20200831
DTEND;VALUE=DATE:20200901
DTSTAMP:20260419T153133
CREATED:20200803T120727Z
LAST-MODIFIED:20220629T190112Z
UID:10004395-1598832000-1598918399@asanewsletter.org
SUMMARY:Improving Instructor-to-Student Interaction with D2L Brightspace Tools (3 week short course)
DESCRIPTION:Open Education Network (OEN) Webinars introduce Minnesota State faculty and staff to open educational resources\, creative commons licensing\, and the work with the Open Textbook Library at the University of Minnesota. Attendees will receive a link to review an open textbook located in the Open Textbook Library (open.umn.edu) and receive a $200 stipend once the review... Continue Reading →
URL:https://asanewsletter.org/event/improving-instructor-to-student-interaction-with-d2l-brightspace-tools-3-week-short-course/
LOCATION:Online
CATEGORIES:Short Courses
END:VEVENT
BEGIN:VEVENT
DTSTART;TZID=America/Chicago:20200827T140000
DTEND;TZID=America/Chicago:20200827T150000
DTSTAMP:20260419T153133
CREATED:20200810T140333Z
LAST-MODIFIED:20220630T182619Z
UID:10004233-1598536800-1598540400@asanewsletter.org
SUMMARY:Kaltura MediaSpace Webinar:  Creating videos that support the cognitive and affective domains of learning - Option 1
DESCRIPTION:Open Education Network (OEN) Webinars introduce Minnesota State faculty and staff to open educational resources\, creative commons licensing\, and the work with the Open Textbook Library at the University of Minnesota. Attendees will receive a link to review an open textbook located in the Open Textbook Library (open.umn.edu) and receive a $200 stipend once the review... Continue Reading →
URL:https://asanewsletter.org/event/kaltura-mediaspace-webinar-creating-videos-that-support-the-cognitive-and-affective-domains-of-learning-option-1/
LOCATION:Online
CATEGORIES:Webinars
ATTACH;FMTTYPE=image/jpeg:https://asanewsletter.org/wp-content/uploads/2020/03/Kaltura-Circle-3.jpg
END:VEVENT
BEGIN:VEVENT
DTSTART;TZID=America/Chicago:20200827T090000
DTEND;TZID=America/Chicago:20200827T110000
DTSTAMP:20260419T153133
CREATED:20200819T164922Z
LAST-MODIFIED:20230901T212638Z
UID:10004447-1598518800-1598526000@asanewsletter.org
SUMMARY:Drop-In Session – Academic Continuity
DESCRIPTION:Open Education Network (OEN) Webinars introduce Minnesota State faculty and staff to open educational resources\, creative commons licensing\, and the work with the Open Textbook Library at the University of Minnesota. Attendees will receive a link to review an open textbook located in the Open Textbook Library (open.umn.edu) and receive a $200 stipend once the review... Continue Reading →
URL:https://asanewsletter.org/event/drop-in-session-academic-continuity-9/2020-08-27/
LOCATION:Online
CATEGORIES:Webinars
END:VEVENT
BEGIN:VEVENT
DTSTART;VALUE=DATE:20200826
DTEND;VALUE=DATE:20200827
DTSTAMP:20260419T153133
CREATED:20200601T204041Z
LAST-MODIFIED:20220630T161918Z
UID:10004352-1598400000-1598486399@asanewsletter.org
SUMMARY:OER Learning Circles - Fall 2020 Applications Due
DESCRIPTION:Open Education Network (OEN) Webinars introduce Minnesota State faculty and staff to open educational resources\, creative commons licensing\, and the work with the Open Textbook Library at the University of Minnesota. Attendees will receive a link to review an open textbook located in the Open Textbook Library (open.umn.edu) and receive a $200 stipend once the review... Continue Reading →
URL:https://asanewsletter.org/event/oer-learning-circles-fall-2020-applications-due/
LOCATION:Online
CATEGORIES:Long Course
ATTACH;FMTTYPE=image/jpeg:https://asanewsletter.org/wp-content/uploads/2019/09/oer-opportunities-banner.jpg
END:VEVENT
BEGIN:VEVENT
DTSTART;TZID=America/Chicago:20200825T130000
DTEND;TZID=America/Chicago:20200825T150000
DTSTAMP:20260419T153133
CREATED:20200819T164648Z
LAST-MODIFIED:20220629T164601Z
UID:10004440-1598360400-1598367600@asanewsletter.org
SUMMARY:Drop-In Session – Academic Continuity
DESCRIPTION:Open Education Network (OEN) Webinars introduce Minnesota State faculty and staff to open educational resources\, creative commons licensing\, and the work with the Open Textbook Library at the University of Minnesota. Attendees will receive a link to review an open textbook located in the Open Textbook Library (open.umn.edu) and receive a $200 stipend once the review... Continue Reading →
URL:https://asanewsletter.org/event/drop-in-session-academic-continuity-8/2020-08-25/
LOCATION:Online
CATEGORIES:Webinars
END:VEVENT
BEGIN:VEVENT
DTSTART;VALUE=DATE:20200824
DTEND;VALUE=DATE:20200825
DTSTAMP:20260419T153133
CREATED:20200731T140339Z
LAST-MODIFIED:20220630T145954Z
UID:10004393-1598227200-1598313599@asanewsletter.org
SUMMARY:Improving Your Online Course (IYOC) - 2 Weeks - Option 1
DESCRIPTION:Open Education Network (OEN) Webinars introduce Minnesota State faculty and staff to open educational resources\, creative commons licensing\, and the work with the Open Textbook Library at the University of Minnesota. Attendees will receive a link to review an open textbook located in the Open Textbook Library (open.umn.edu) and receive a $200 stipend once the review... Continue Reading →
URL:https://asanewsletter.org/event/improving-your-online-course-iyoc-2-weeks-option-1/
CATEGORIES:Short Courses
ATTACH;FMTTYPE=image/png:https://asanewsletter.org/wp-content/uploads/2019/07/HE-IYOC-QM-e1563899911793.png
END:VEVENT
BEGIN:VEVENT
DTSTART;VALUE=DATE:20200824
DTEND;VALUE=DATE:20200825
DTSTAMP:20260419T153133
CREATED:20200731T133833Z
LAST-MODIFIED:20220630T182608Z
UID:10004383-1598227200-1598313599@asanewsletter.org
SUMMARY:Aligning Instructional Strategies with Kaltura MediaSpace - Option 1 (3 week short course)
DESCRIPTION:Open Education Network (OEN) Webinars introduce Minnesota State faculty and staff to open educational resources\, creative commons licensing\, and the work with the Open Textbook Library at the University of Minnesota. Attendees will receive a link to review an open textbook located in the Open Textbook Library (open.umn.edu) and receive a $200 stipend once the review... Continue Reading →
URL:https://asanewsletter.org/event/aligning-instructional-strategies-with-kaltura-mediaspace-option-1-3-week-short-course/
LOCATION:Online
CATEGORIES:Short Courses
END:VEVENT
BEGIN:VEVENT
DTSTART;VALUE=DATE:20200824
DTEND;VALUE=DATE:20200825
DTSTAMP:20260419T153133
CREATED:20200731T132009Z
LAST-MODIFIED:20220630T145912Z
UID:10004382-1598227200-1598313599@asanewsletter.org
SUMMARY:Designing Your Course for Student Learning - Option 1 (3 week short course)
DESCRIPTION:Open Education Network (OEN) Webinars introduce Minnesota State faculty and staff to open educational resources\, creative commons licensing\, and the work with the Open Textbook Library at the University of Minnesota. Attendees will receive a link to review an open textbook located in the Open Textbook Library (open.umn.edu) and receive a $200 stipend once the review... Continue Reading →
URL:https://asanewsletter.org/event/designing-your-course-for-student-learning-option-1-3-week-short-course/
LOCATION:Online
CATEGORIES:Short Courses
ATTACH;FMTTYPE=image/jpeg:https://asanewsletter.org/wp-content/uploads/2019/04/student-learning-banner.jpg
END:VEVENT
BEGIN:VEVENT
DTSTART;TZID=America/Chicago:20200821T130000
DTEND;TZID=America/Chicago:20200821T150000
DTSTAMP:20260419T153133
CREATED:20200709T145920Z
LAST-MODIFIED:20220630T151607Z
UID:10004177-1598014800-1598022000@asanewsletter.org
SUMMARY:Drop-In Session – Academic Continuity
DESCRIPTION:Open Education Network (OEN) Webinars introduce Minnesota State faculty and staff to open educational resources\, creative commons licensing\, and the work with the Open Textbook Library at the University of Minnesota. Attendees will receive a link to review an open textbook located in the Open Textbook Library (open.umn.edu) and receive a $200 stipend once the review... Continue Reading →
URL:https://asanewsletter.org/event/drop-in-session-academic-continuity-7/2020-08-21/
CATEGORIES:Webinars
END:VEVENT
BEGIN:VEVENT
DTSTART;TZID=America/Chicago:20200821T090000
DTEND;TZID=America/Chicago:20200821T110000
DTSTAMP:20260419T153133
CREATED:20200522T222502Z
LAST-MODIFIED:20220629T195209Z
UID:10004139-1598000400-1598007600@asanewsletter.org
SUMMARY:Drop-In Session - Academic Continuity
DESCRIPTION:Open Education Network (OEN) Webinars introduce Minnesota State faculty and staff to open educational resources\, creative commons licensing\, and the work with the Open Textbook Library at the University of Minnesota. Attendees will receive a link to review an open textbook located in the Open Textbook Library (open.umn.edu) and receive a $200 stipend once the review... Continue Reading →
URL:https://asanewsletter.org/event/drop-in-session-academic-continuity-6/2020-08-21/
LOCATION:Online
CATEGORIES:Webinars
END:VEVENT
BEGIN:VEVENT
DTSTART;TZID=America/Chicago:20200820T130000
DTEND;TZID=America/Chicago:20200820T150000
DTSTAMP:20260419T153133
CREATED:20200709T145920Z
LAST-MODIFIED:20220630T151607Z
UID:10004176-1597928400-1597935600@asanewsletter.org
SUMMARY:Drop-In Session – Academic Continuity
DESCRIPTION:Open Education Network (OEN) Webinars introduce Minnesota State faculty and staff to open educational resources\, creative commons licensing\, and the work with the Open Textbook Library at the University of Minnesota. Attendees will receive a link to review an open textbook located in the Open Textbook Library (open.umn.edu) and receive a $200 stipend once the review... Continue Reading →
URL:https://asanewsletter.org/event/drop-in-session-academic-continuity-7/2020-08-20/
CATEGORIES:Webinars
END:VEVENT
BEGIN:VEVENT
DTSTART;TZID=America/Chicago:20200820T090000
DTEND;TZID=America/Chicago:20200820T110000
DTSTAMP:20260419T153133
CREATED:20200522T222502Z
LAST-MODIFIED:20220629T195209Z
UID:10004138-1597914000-1597921200@asanewsletter.org
SUMMARY:Drop-In Session - Academic Continuity
DESCRIPTION:Open Education Network (OEN) Webinars introduce Minnesota State faculty and staff to open educational resources\, creative commons licensing\, and the work with the Open Textbook Library at the University of Minnesota. Attendees will receive a link to review an open textbook located in the Open Textbook Library (open.umn.edu) and receive a $200 stipend once the review... Continue Reading →
URL:https://asanewsletter.org/event/drop-in-session-academic-continuity-6/2020-08-20/
LOCATION:Online
CATEGORIES:Webinars
END:VEVENT
BEGIN:VEVENT
DTSTART;TZID=America/Chicago:20200819T130000
DTEND;TZID=America/Chicago:20200819T150000
DTSTAMP:20260419T153133
CREATED:20200709T145920Z
LAST-MODIFIED:20220630T151607Z
UID:10004175-1597842000-1597849200@asanewsletter.org
SUMMARY:Drop-In Session – Academic Continuity
DESCRIPTION:Open Education Network (OEN) Webinars introduce Minnesota State faculty and staff to open educational resources\, creative commons licensing\, and the work with the Open Textbook Library at the University of Minnesota. Attendees will receive a link to review an open textbook located in the Open Textbook Library (open.umn.edu) and receive a $200 stipend once the review... Continue Reading →
URL:https://asanewsletter.org/event/drop-in-session-academic-continuity-7/2020-08-19/
CATEGORIES:Webinars
END:VEVENT
BEGIN:VEVENT
DTSTART;TZID=America/Chicago:20200819T100000
DTEND;TZID=America/Chicago:20200819T110000
DTSTAMP:20260419T153133
CREATED:20200720T160330Z
LAST-MODIFIED:20220630T151908Z
UID:10004183-1597831200-1597834800@asanewsletter.org
SUMMARY:Manage Course Dates on a Single Screen (Webinar)
DESCRIPTION:Open Education Network (OEN) Webinars introduce Minnesota State faculty and staff to open educational resources\, creative commons licensing\, and the work with the Open Textbook Library at the University of Minnesota. Attendees will receive a link to review an open textbook located in the Open Textbook Library (open.umn.edu) and receive a $200 stipend once the review... Continue Reading →
URL:https://asanewsletter.org/event/manage-course-dates-on-a-single-screen-webinar/
LOCATION:Online
CATEGORIES:Webinars
END:VEVENT
BEGIN:VEVENT
DTSTART;TZID=America/Chicago:20200819T090000
DTEND;TZID=America/Chicago:20200819T110000
DTSTAMP:20260419T153133
CREATED:20200522T222502Z
LAST-MODIFIED:20220629T195209Z
UID:10004137-1597827600-1597834800@asanewsletter.org
SUMMARY:Drop-In Session - Academic Continuity
DESCRIPTION:Open Education Network (OEN) Webinars introduce Minnesota State faculty and staff to open educational resources\, creative commons licensing\, and the work with the Open Textbook Library at the University of Minnesota. Attendees will receive a link to review an open textbook located in the Open Textbook Library (open.umn.edu) and receive a $200 stipend once the review... Continue Reading →
URL:https://asanewsletter.org/event/drop-in-session-academic-continuity-6/2020-08-19/
LOCATION:Online
CATEGORIES:Webinars
END:VEVENT
BEGIN:VEVENT
DTSTART;TZID=America/Chicago:20200818T130000
DTEND;TZID=America/Chicago:20200818T150000
DTSTAMP:20260419T153133
CREATED:20200709T145920Z
LAST-MODIFIED:20220630T151607Z
UID:10004174-1597755600-1597762800@asanewsletter.org
SUMMARY:Drop-In Session – Academic Continuity
DESCRIPTION:Open Education Network (OEN) Webinars introduce Minnesota State faculty and staff to open educational resources\, creative commons licensing\, and the work with the Open Textbook Library at the University of Minnesota. Attendees will receive a link to review an open textbook located in the Open Textbook Library (open.umn.edu) and receive a $200 stipend once the review... Continue Reading →
URL:https://asanewsletter.org/event/drop-in-session-academic-continuity-7/2020-08-18/
CATEGORIES:Webinars
END:VEVENT
BEGIN:VEVENT
DTSTART;TZID=America/Chicago:20200818T120000
DTEND;TZID=America/Chicago:20200818T130000
DTSTAMP:20260419T153133
CREATED:20200522T151952Z
LAST-MODIFIED:20200813T212602Z
UID:10004121-1597752000-1597755600@asanewsletter.org
SUMMARY:Conversations with Colleagues - August
DESCRIPTION:Open Education Network (OEN) Webinars introduce Minnesota State faculty and staff to open educational resources\, creative commons licensing\, and the work with the Open Textbook Library at the University of Minnesota. Attendees will receive a link to review an open textbook located in the Open Textbook Library (open.umn.edu) and receive a $200 stipend once the review... Continue Reading →
URL:https://asanewsletter.org/event/conversations-with-colleagues-august/
LOCATION:Online
CATEGORIES:Webinars
END:VEVENT
BEGIN:VEVENT
DTSTART;TZID=America/Chicago:20200818T090000
DTEND;TZID=America/Chicago:20200818T110000
DTSTAMP:20260419T153133
CREATED:20200522T222502Z
LAST-MODIFIED:20220629T195209Z
UID:10004136-1597741200-1597748400@asanewsletter.org
SUMMARY:Drop-In Session - Academic Continuity
DESCRIPTION:Open Education Network (OEN) Webinars introduce Minnesota State faculty and staff to open educational resources\, creative commons licensing\, and the work with the Open Textbook Library at the University of Minnesota. Attendees will receive a link to review an open textbook located in the Open Textbook Library (open.umn.edu) and receive a $200 stipend once the review... Continue Reading →
URL:https://asanewsletter.org/event/drop-in-session-academic-continuity-6/2020-08-18/
LOCATION:Online
CATEGORIES:Webinars
END:VEVENT
BEGIN:VEVENT
DTSTART;TZID=America/Chicago:20200818T090000
DTEND;TZID=America/Chicago:20200818T100000
DTSTAMP:20260419T153133
CREATED:20200720T160107Z
LAST-MODIFIED:20220630T151916Z
UID:10004181-1597741200-1597744800@asanewsletter.org
SUMMARY:Copy Materials and Activities Between Courses (Webinar)
DESCRIPTION:Open Education Network (OEN) Webinars introduce Minnesota State faculty and staff to open educational resources\, creative commons licensing\, and the work with the Open Textbook Library at the University of Minnesota. Attendees will receive a link to review an open textbook located in the Open Textbook Library (open.umn.edu) and receive a $200 stipend once the review... Continue Reading →
URL:https://asanewsletter.org/event/copy-materials-and-activities-between-courses-webinar/
LOCATION:Online
CATEGORIES:Webinars
END:VEVENT
BEGIN:VEVENT
DTSTART;TZID=America/Chicago:20200817T130000
DTEND;TZID=America/Chicago:20200817T150000
DTSTAMP:20260419T153133
CREATED:20200709T145920Z
LAST-MODIFIED:20220630T151607Z
UID:10004173-1597669200-1597676400@asanewsletter.org
SUMMARY:Drop-In Session – Academic Continuity
DESCRIPTION:Open Education Network (OEN) Webinars introduce Minnesota State faculty and staff to open educational resources\, creative commons licensing\, and the work with the Open Textbook Library at the University of Minnesota. Attendees will receive a link to review an open textbook located in the Open Textbook Library (open.umn.edu) and receive a $200 stipend once the review... Continue Reading →
URL:https://asanewsletter.org/event/drop-in-session-academic-continuity-7/2020-08-17/
CATEGORIES:Webinars
END:VEVENT
BEGIN:VEVENT
DTSTART;TZID=America/Chicago:20200817T120000
DTEND;TZID=America/Chicago:20200817T130000
DTSTAMP:20260419T153133
CREATED:20200611T151606Z
LAST-MODIFIED:20220630T151742Z
UID:10004159-1597665600-1597669200@asanewsletter.org
SUMMARY:What's New in 20.20.08?
DESCRIPTION:Open Education Network (OEN) Webinars introduce Minnesota State faculty and staff to open educational resources\, creative commons licensing\, and the work with the Open Textbook Library at the University of Minnesota. Attendees will receive a link to review an open textbook located in the Open Textbook Library (open.umn.edu) and receive a $200 stipend once the review... Continue Reading →
URL:https://asanewsletter.org/event/whats-new-in-20-20-08/
LOCATION:Online
CATEGORIES:Webinars
ATTACH;FMTTYPE=image/png:https://asanewsletter.org/wp-content/uploads/2019/07/D2L-Brightspace.png
END:VEVENT
BEGIN:VEVENT
DTSTART;TZID=America/Chicago:20200817T090000
DTEND;TZID=America/Chicago:20200817T110000
DTSTAMP:20260419T153133
CREATED:20200522T222502Z
LAST-MODIFIED:20220629T195209Z
UID:10004135-1597654800-1597662000@asanewsletter.org
SUMMARY:Drop-In Session - Academic Continuity
DESCRIPTION:Open Education Network (OEN) Webinars introduce Minnesota State faculty and staff to open educational resources\, creative commons licensing\, and the work with the Open Textbook Library at the University of Minnesota. Attendees will receive a link to review an open textbook located in the Open Textbook Library (open.umn.edu) and receive a $200 stipend once the review... Continue Reading →
URL:https://asanewsletter.org/event/drop-in-session-academic-continuity-6/2020-08-17/
LOCATION:Online
CATEGORIES:Webinars
END:VEVENT
BEGIN:VEVENT
DTSTART;TZID=America/Chicago:20200814T130000
DTEND;TZID=America/Chicago:20200814T150000
DTSTAMP:20260419T153133
CREATED:20200709T145920Z
LAST-MODIFIED:20220630T151607Z
UID:10004172-1597410000-1597417200@asanewsletter.org
SUMMARY:Drop-In Session – Academic Continuity
DESCRIPTION:Open Education Network (OEN) Webinars introduce Minnesota State faculty and staff to open educational resources\, creative commons licensing\, and the work with the Open Textbook Library at the University of Minnesota. Attendees will receive a link to review an open textbook located in the Open Textbook Library (open.umn.edu) and receive a $200 stipend once the review... Continue Reading →
URL:https://asanewsletter.org/event/drop-in-session-academic-continuity-7/2020-08-14/
CATEGORIES:Webinars
END:VEVENT
BEGIN:VEVENT
DTSTART;TZID=America/Chicago:20200814T090000
DTEND;TZID=America/Chicago:20200814T110000
DTSTAMP:20260419T153133
CREATED:20200522T222502Z
LAST-MODIFIED:20220629T195209Z
UID:10004134-1597395600-1597402800@asanewsletter.org
SUMMARY:Drop-In Session - Academic Continuity
DESCRIPTION:Open Education Network (OEN) Webinars introduce Minnesota State faculty and staff to open educational resources\, creative commons licensing\, and the work with the Open Textbook Library at the University of Minnesota. Attendees will receive a link to review an open textbook located in the Open Textbook Library (open.umn.edu) and receive a $200 stipend once the review... Continue Reading →
URL:https://asanewsletter.org/event/drop-in-session-academic-continuity-6/2020-08-14/
LOCATION:Online
CATEGORIES:Webinars
END:VEVENT
BEGIN:VEVENT
DTSTART;TZID=America/Chicago:20200813T130000
DTEND;TZID=America/Chicago:20200813T150000
DTSTAMP:20260419T153133
CREATED:20200709T145920Z
LAST-MODIFIED:20220630T151607Z
UID:10004171-1597323600-1597330800@asanewsletter.org
SUMMARY:Drop-In Session – Academic Continuity
DESCRIPTION:Open Education Network (OEN) Webinars introduce Minnesota State faculty and staff to open educational resources\, creative commons licensing\, and the work with the Open Textbook Library at the University of Minnesota. Attendees will receive a link to review an open textbook located in the Open Textbook Library (open.umn.edu) and receive a $200 stipend once the review... Continue Reading →
URL:https://asanewsletter.org/event/drop-in-session-academic-continuity-7/2020-08-13/
CATEGORIES:Webinars
END:VEVENT
BEGIN:VEVENT
DTSTART;TZID=America/Chicago:20200813T090000
DTEND;TZID=America/Chicago:20200813T110000
DTSTAMP:20260419T153133
CREATED:20200522T222502Z
LAST-MODIFIED:20220629T195209Z
UID:10004133-1597309200-1597316400@asanewsletter.org
SUMMARY:Drop-In Session - Academic Continuity
DESCRIPTION:Open Education Network (OEN) Webinars introduce Minnesota State faculty and staff to open educational resources\, creative commons licensing\, and the work with the Open Textbook Library at the University of Minnesota. Attendees will receive a link to review an open textbook located in the Open Textbook Library (open.umn.edu) and receive a $200 stipend once the review... Continue Reading →
URL:https://asanewsletter.org/event/drop-in-session-academic-continuity-6/2020-08-13/
LOCATION:Online
CATEGORIES:Webinars
END:VEVENT
BEGIN:VEVENT
DTSTART;TZID=America/Chicago:20200812T130000
DTEND;TZID=America/Chicago:20200812T150000
DTSTAMP:20260419T153133
CREATED:20200709T145920Z
LAST-MODIFIED:20220630T151607Z
UID:10004170-1597237200-1597244400@asanewsletter.org
SUMMARY:Drop-In Session – Academic Continuity
DESCRIPTION:Open Education Network (OEN) Webinars introduce Minnesota State faculty and staff to open educational resources\, creative commons licensing\, and the work with the Open Textbook Library at the University of Minnesota. Attendees will receive a link to review an open textbook located in the Open Textbook Library (open.umn.edu) and receive a $200 stipend once the review... Continue Reading →
URL:https://asanewsletter.org/event/drop-in-session-academic-continuity-7/2020-08-12/
CATEGORIES:Webinars
END:VEVENT
BEGIN:VEVENT
DTSTART;TZID=America/Chicago:20200812T090000
DTEND;TZID=America/Chicago:20200812T110000
DTSTAMP:20260419T153133
CREATED:20200522T222502Z
LAST-MODIFIED:20220629T195209Z
UID:10004132-1597222800-1597230000@asanewsletter.org
SUMMARY:Drop-In Session - Academic Continuity
DESCRIPTION:Open Education Network (OEN) Webinars introduce Minnesota State faculty and staff to open educational resources\, creative commons licensing\, and the work with the Open Textbook Library at the University of Minnesota. Attendees will receive a link to review an open textbook located in the Open Textbook Library (open.umn.edu) and receive a $200 stipend once the review... Continue Reading →
URL:https://asanewsletter.org/event/drop-in-session-academic-continuity-6/2020-08-12/
LOCATION:Online
CATEGORIES:Webinars
END:VEVENT
END:VCALENDAR