BEGIN:VCALENDAR
VERSION:2.0
PRODID:-//ASA Newsletter - ECPv6.15.18//NONSGML v1.0//EN
CALSCALE:GREGORIAN
METHOD:PUBLISH
X-WR-CALNAME:ASA Newsletter
X-ORIGINAL-URL:https://asanewsletter.org
X-WR-CALDESC:Events for ASA Newsletter
REFRESH-INTERVAL;VALUE=DURATION:PT1H
X-Robots-Tag:noindex
X-PUBLISHED-TTL:PT1H
BEGIN:VTIMEZONE
TZID:America/Chicago
BEGIN:DAYLIGHT
TZOFFSETFROM:-0600
TZOFFSETTO:-0500
TZNAME:CDT
DTSTART:20250309T080000
END:DAYLIGHT
BEGIN:STANDARD
TZOFFSETFROM:-0500
TZOFFSETTO:-0600
TZNAME:CST
DTSTART:20251102T070000
END:STANDARD
BEGIN:DAYLIGHT
TZOFFSETFROM:-0600
TZOFFSETTO:-0500
TZNAME:CDT
DTSTART:20260308T080000
END:DAYLIGHT
BEGIN:STANDARD
TZOFFSETFROM:-0500
TZOFFSETTO:-0600
TZNAME:CST
DTSTART:20261101T070000
END:STANDARD
BEGIN:DAYLIGHT
TZOFFSETFROM:-0600
TZOFFSETTO:-0500
TZNAME:CDT
DTSTART:20270314T080000
END:DAYLIGHT
BEGIN:STANDARD
TZOFFSETFROM:-0500
TZOFFSETTO:-0600
TZNAME:CST
DTSTART:20271107T070000
END:STANDARD
END:VTIMEZONE
BEGIN:VEVENT
DTSTART;VALUE=DATE:20260403
DTEND;VALUE=DATE:20260404
DTSTAMP:20260423T141213
CREATED:20260312T185350Z
LAST-MODIFIED:20260312T185350Z
UID:10005545-1775174400-1775260799@asanewsletter.org
SUMMARY:OER Learning Circles: Summer 2026
DESCRIPTION:The old educational wisdom is that students learn best on their own\, or from their instructors. The new educational wisdom\, supported by lots of research\, is that students learn better... Continue Reading →
URL:https://asanewsletter.org/event/oer-learning-circles-summer-2026/
CATEGORIES:Learning Communities
ATTACH;FMTTYPE=image/png:https://asanewsletter.org/wp-content/uploads/2022/07/banner-ned-themes-oer-e1693948342542.png
END:VEVENT
BEGIN:VEVENT
DTSTART;TZID=America/Chicago:20260416T150000
DTEND;TZID=America/Chicago:20260416T160000
DTSTAMP:20260423T141213
CREATED:20251203T182147Z
LAST-MODIFIED:20251203T182220Z
UID:10005483-1776351600-1776355200@asanewsletter.org
SUMMARY:OER Librarian Community of Practice (April 2026)
DESCRIPTION:The old educational wisdom is that students learn best on their own\, or from their instructors. The new educational wisdom\, supported by lots of research\, is that students learn better... Continue Reading →
URL:https://asanewsletter.org/event/oer-librarian-community-of-practice-april-2026/
CATEGORIES:Webinars
ATTACH;FMTTYPE=image/png:https://asanewsletter.org/wp-content/uploads/2022/07/banner-ned-themes-oer-e1693948342542.png
END:VEVENT
BEGIN:VEVENT
DTSTART;VALUE=DATE:20260814
DTEND;VALUE=DATE:20260815
DTSTAMP:20260423T141213
CREATED:20260422T134250Z
LAST-MODIFIED:20260422T134250Z
UID:10005562-1786665600-1786751999@asanewsletter.org
SUMMARY:OER Learning Circles: Fall 2026
DESCRIPTION:The old educational wisdom is that students learn best on their own\, or from their instructors. The new educational wisdom\, supported by lots of research\, is that students learn better... Continue Reading →
URL:https://asanewsletter.org/event/oer-learning-circles-fall-2026/
CATEGORIES:Learning Communities
ATTACH;FMTTYPE=image/png:https://asanewsletter.org/wp-content/uploads/2022/07/banner-ned-themes-oer-e1693948342542.png
END:VEVENT
END:VCALENDAR