BEGIN:VCALENDAR
VERSION:2.0
PRODID:-//ASA Newsletter - ECPv6.15.18//NONSGML v1.0//EN
CALSCALE:GREGORIAN
METHOD:PUBLISH
X-WR-CALNAME:ASA Newsletter
X-ORIGINAL-URL:https://asanewsletter.org
X-WR-CALDESC:Events for ASA Newsletter
REFRESH-INTERVAL;VALUE=DURATION:PT1H
X-Robots-Tag:noindex
X-PUBLISHED-TTL:PT1H
BEGIN:VTIMEZONE
TZID:America/Chicago
BEGIN:DAYLIGHT
TZOFFSETFROM:-0600
TZOFFSETTO:-0500
TZNAME:CDT
DTSTART:20180311T080000
END:DAYLIGHT
BEGIN:STANDARD
TZOFFSETFROM:-0500
TZOFFSETTO:-0600
TZNAME:CST
DTSTART:20181104T070000
END:STANDARD
BEGIN:DAYLIGHT
TZOFFSETFROM:-0600
TZOFFSETTO:-0500
TZNAME:CDT
DTSTART:20190310T080000
END:DAYLIGHT
BEGIN:STANDARD
TZOFFSETFROM:-0500
TZOFFSETTO:-0600
TZNAME:CST
DTSTART:20191103T070000
END:STANDARD
BEGIN:DAYLIGHT
TZOFFSETFROM:-0600
TZOFFSETTO:-0500
TZNAME:CDT
DTSTART:20200308T080000
END:DAYLIGHT
BEGIN:STANDARD
TZOFFSETFROM:-0500
TZOFFSETTO:-0600
TZNAME:CST
DTSTART:20201101T070000
END:STANDARD
BEGIN:DAYLIGHT
TZOFFSETFROM:-0600
TZOFFSETTO:-0500
TZNAME:CDT
DTSTART:20210314T080000
END:DAYLIGHT
BEGIN:STANDARD
TZOFFSETFROM:-0500
TZOFFSETTO:-0600
TZNAME:CST
DTSTART:20211107T070000
END:STANDARD
BEGIN:DAYLIGHT
TZOFFSETFROM:-0600
TZOFFSETTO:-0500
TZNAME:CDT
DTSTART:20220313T080000
END:DAYLIGHT
BEGIN:STANDARD
TZOFFSETFROM:-0500
TZOFFSETTO:-0600
TZNAME:CST
DTSTART:20221106T070000
END:STANDARD
BEGIN:DAYLIGHT
TZOFFSETFROM:-0600
TZOFFSETTO:-0500
TZNAME:CDT
DTSTART:20230312T080000
END:DAYLIGHT
BEGIN:STANDARD
TZOFFSETFROM:-0500
TZOFFSETTO:-0600
TZNAME:CST
DTSTART:20231105T070000
END:STANDARD
BEGIN:DAYLIGHT
TZOFFSETFROM:-0600
TZOFFSETTO:-0500
TZNAME:CDT
DTSTART:20240310T080000
END:DAYLIGHT
BEGIN:STANDARD
TZOFFSETFROM:-0500
TZOFFSETTO:-0600
TZNAME:CST
DTSTART:20241103T070000
END:STANDARD
END:VTIMEZONE
BEGIN:VEVENT
DTSTART;VALUE=DATE:20230818
DTEND;VALUE=DATE:20230819
DTSTAMP:20260424T111829
CREATED:20230725T144857Z
LAST-MODIFIED:20230825T134912Z
UID:10004940-1692316800-1692403199@asanewsletter.org
SUMMARY:OER Learning Circles: Fall 2023
DESCRIPTION:Note: This is a repeat of Creating Accessible PDF Files 1 and 2 Join us as we review an accessibility report for a PDF file.  We’ll identify criteria in an accessibility report that commonly passes and fails and provides participants with guidance on how to make basic changes to their content that address these accessibility... Continue Reading →
URL:https://asanewsletter.org/event/oer-learning-circles-fall-2023/
LOCATION:Online
CATEGORIES:Learning Communities
ATTACH;FMTTYPE=image/png:https://asanewsletter.org/wp-content/uploads/2022/07/banner-ned-themes-oer-e1693948342542.png
END:VEVENT
BEGIN:VEVENT
DTSTART;TZID=America/Chicago:20230427T120000
DTEND;TZID=America/Chicago:20230427T130000
DTSTAMP:20260424T111829
CREATED:20220711T224355Z
LAST-MODIFIED:20230330T135313Z
UID:10004564-1682596800-1682600400@asanewsletter.org
SUMMARY:OER Project Showcase: Graduate Students
DESCRIPTION:Note: This is a repeat of Creating Accessible PDF Files 1 and 2 Join us as we review an accessibility report for a PDF file.  We’ll identify criteria in an accessibility report that commonly passes and fails and provides participants with guidance on how to make basic changes to their content that address these accessibility... Continue Reading →
URL:https://asanewsletter.org/event/oer-project-showcase-5/
LOCATION:Online
CATEGORIES:Webinars
ATTACH;FMTTYPE=image/png:https://asanewsletter.org/wp-content/uploads/2021/03/OER-Project-Showcase-1837515293-1647964260444-e1694118223865.png
END:VEVENT
BEGIN:VEVENT
DTSTART;TZID=America/Chicago:20230424T120000
DTEND;TZID=America/Chicago:20230424T130000
DTSTAMP:20260424T111829
CREATED:20220711T162735Z
LAST-MODIFIED:20230330T135323Z
UID:10004828-1682337600-1682341200@asanewsletter.org
SUMMARY:OER Project Showcase: 4
DESCRIPTION:Note: This is a repeat of Creating Accessible PDF Files 1 and 2 Join us as we review an accessibility report for a PDF file.  We’ll identify criteria in an accessibility report that commonly passes and fails and provides participants with guidance on how to make basic changes to their content that address these accessibility... Continue Reading →
URL:https://asanewsletter.org/event/oer-project-showcase-4/
LOCATION:Online
CATEGORIES:Webinars
ATTACH;FMTTYPE=image/png:https://asanewsletter.org/wp-content/uploads/2021/03/OER-Project-Showcase-1837515293-1647964260444-e1694118223865.png
END:VEVENT
BEGIN:VEVENT
DTSTART;VALUE=DATE:20230414
DTEND;VALUE=DATE:20230415
DTSTAMP:20260424T111829
CREATED:20220708T153854Z
LAST-MODIFIED:20221219T230405Z
UID:10004819-1681430400-1681516799@asanewsletter.org
SUMMARY:OER Learning Circle Applications Due - Summer 2023
DESCRIPTION:Note: This is a repeat of Creating Accessible PDF Files 1 and 2 Join us as we review an accessibility report for a PDF file.  We’ll identify criteria in an accessibility report that commonly passes and fails and provides participants with guidance on how to make basic changes to their content that address these accessibility... Continue Reading →
URL:https://asanewsletter.org/event/oer-learning-circle-applications-due-summer-2023/
LOCATION:Online
CATEGORIES:Short Courses
ATTACH;FMTTYPE=image/png:https://asanewsletter.org/wp-content/uploads/2022/07/banner-ned-themes-oer-e1693948342542.png
END:VEVENT
BEGIN:VEVENT
DTSTART;TZID=America/Chicago:20230411T120000
DTEND;TZID=America/Chicago:20230411T130000
DTSTAMP:20260424T111829
CREATED:20220711T162131Z
LAST-MODIFIED:20230330T135332Z
UID:10004827-1681214400-1681218000@asanewsletter.org
SUMMARY:OER Project Showcase: 3
DESCRIPTION:Note: This is a repeat of Creating Accessible PDF Files 1 and 2 Join us as we review an accessibility report for a PDF file.  We’ll identify criteria in an accessibility report that commonly passes and fails and provides participants with guidance on how to make basic changes to their content that address these accessibility... Continue Reading →
URL:https://asanewsletter.org/event/oer-project-showcase-3/
LOCATION:Online
CATEGORIES:Webinars
ATTACH;FMTTYPE=image/png:https://asanewsletter.org/wp-content/uploads/2021/03/OER-Project-Showcase-1837515293-1647964260444-e1694118223865.png
END:VEVENT
BEGIN:VEVENT
DTSTART;TZID=America/Chicago:20230406T150000
DTEND;TZID=America/Chicago:20230406T160000
DTSTAMP:20260424T111829
CREATED:20220711T171345Z
LAST-MODIFIED:20230327T171750Z
UID:10004833-1680793200-1680796800@asanewsletter.org
SUMMARY:OER Community Conversations: April
DESCRIPTION:Note: This is a repeat of Creating Accessible PDF Files 1 and 2 Join us as we review an accessibility report for a PDF file.  We’ll identify criteria in an accessibility report that commonly passes and fails and provides participants with guidance on how to make basic changes to their content that address these accessibility... Continue Reading →
URL:https://asanewsletter.org/event/oer-community-conversations-april/
LOCATION:Online
CATEGORIES:Webinars
ATTACH;FMTTYPE=image/png:https://asanewsletter.org/wp-content/uploads/2022/07/banner-ned-themes-oer-e1693948342542.png
END:VEVENT
BEGIN:VEVENT
DTSTART;TZID=America/Chicago:20230406T120000
DTEND;TZID=America/Chicago:20230406T130000
DTSTAMP:20260424T111829
CREATED:20220711T161450Z
LAST-MODIFIED:20230330T135340Z
UID:10004826-1680782400-1680786000@asanewsletter.org
SUMMARY:OER Project Showcase: 2
DESCRIPTION:Note: This is a repeat of Creating Accessible PDF Files 1 and 2 Join us as we review an accessibility report for a PDF file.  We’ll identify criteria in an accessibility report that commonly passes and fails and provides participants with guidance on how to make basic changes to their content that address these accessibility... Continue Reading →
URL:https://asanewsletter.org/event/oer-project-showcase-2/
LOCATION:Online
CATEGORIES:Webinars
ATTACH;FMTTYPE=image/png:https://asanewsletter.org/wp-content/uploads/2021/03/OER-Project-Showcase-1837515293-1647964260444-e1694118223865.png
END:VEVENT
BEGIN:VEVENT
DTSTART;TZID=America/Chicago:20230331T120000
DTEND;TZID=America/Chicago:20230331T130000
DTSTAMP:20260424T111829
CREATED:20220711T160326Z
LAST-MODIFIED:20230330T135158Z
UID:10004825-1680264000-1680267600@asanewsletter.org
SUMMARY:OER Project Showcase: 1
DESCRIPTION:Note: This is a repeat of Creating Accessible PDF Files 1 and 2 Join us as we review an accessibility report for a PDF file.  We’ll identify criteria in an accessibility report that commonly passes and fails and provides participants with guidance on how to make basic changes to their content that address these accessibility... Continue Reading →
URL:https://asanewsletter.org/event/oer-project-showcase-1/
LOCATION:Online
CATEGORIES:Webinars
ATTACH;FMTTYPE=image/png:https://asanewsletter.org/wp-content/uploads/2021/03/OER-Project-Showcase-1837515293-1647964260444-e1694118223865.png
END:VEVENT
BEGIN:VEVENT
DTSTART;VALUE=DATE:20230120
DTEND;VALUE=DATE:20230121
DTSTAMP:20260424T111829
CREATED:20220708T153431Z
LAST-MODIFIED:20221219T230319Z
UID:10004817-1674172800-1674259199@asanewsletter.org
SUMMARY:OER Learning Circle Applications Due - Spring 2023
DESCRIPTION:Note: This is a repeat of Creating Accessible PDF Files 1 and 2 Join us as we review an accessibility report for a PDF file.  We’ll identify criteria in an accessibility report that commonly passes and fails and provides participants with guidance on how to make basic changes to their content that address these accessibility... Continue Reading →
URL:https://asanewsletter.org/event/oer-learning-circle-applications-due-spring-2023/
LOCATION:Online
CATEGORIES:Short Courses
ATTACH;FMTTYPE=image/png:https://asanewsletter.org/wp-content/uploads/2022/07/banner-ned-themes-oer-e1693948342542.png
END:VEVENT
BEGIN:VEVENT
DTSTART;VALUE=DATE:20220826
DTEND;VALUE=DATE:20220827
DTSTAMP:20260424T111829
CREATED:20220708T153043Z
LAST-MODIFIED:20220811T192248Z
UID:10004818-1661472000-1661558399@asanewsletter.org
SUMMARY:OER Learning Circle Applications Due - Fall 2022
DESCRIPTION:Note: This is a repeat of Creating Accessible PDF Files 1 and 2 Join us as we review an accessibility report for a PDF file.  We’ll identify criteria in an accessibility report that commonly passes and fails and provides participants with guidance on how to make basic changes to their content that address these accessibility... Continue Reading →
URL:https://asanewsletter.org/event/oer-learning-circle-applications-due-fall-2022/
LOCATION:Online
CATEGORIES:Short Courses
ATTACH;FMTTYPE=image/png:https://asanewsletter.org/wp-content/uploads/2022/07/banner-ned-themes-oer-e1693948342542.png
END:VEVENT
BEGIN:VEVENT
DTSTART;TZID=America/Chicago:20220425T120000
DTEND;TZID=America/Chicago:20220425T130000
DTSTAMP:20260424T111829
CREATED:20210708T183841Z
LAST-MODIFIED:20220324T184111Z
UID:10004415-1650888000-1650891600@asanewsletter.org
SUMMARY:2022 OER Project Showcase: 4
DESCRIPTION:Note: This is a repeat of Creating Accessible PDF Files 1 and 2 Join us as we review an accessibility report for a PDF file.  We’ll identify criteria in an accessibility report that commonly passes and fails and provides participants with guidance on how to make basic changes to their content that address these accessibility... Continue Reading →
URL:https://asanewsletter.org/event/2022-oer-project-showcase-4/
LOCATION:Online
CATEGORIES:Webinars
END:VEVENT
BEGIN:VEVENT
DTSTART;VALUE=DATE:20220415
DTEND;VALUE=DATE:20220416
DTSTAMP:20260424T111829
CREATED:20210625T171609Z
LAST-MODIFIED:20220630T183524Z
UID:10004408-1649980800-1650067199@asanewsletter.org
SUMMARY:OER Learning Circle Applications Due - Summer 2022
DESCRIPTION:Note: This is a repeat of Creating Accessible PDF Files 1 and 2 Join us as we review an accessibility report for a PDF file.  We’ll identify criteria in an accessibility report that commonly passes and fails and provides participants with guidance on how to make basic changes to their content that address these accessibility... Continue Reading →
URL:https://asanewsletter.org/event/oer-learning-circle-applications-due-summer-2022/
LOCATION:Online
CATEGORIES:Learning Communities
END:VEVENT
BEGIN:VEVENT
DTSTART;TZID=America/Chicago:20220412T120000
DTEND;TZID=America/Chicago:20220412T130000
DTSTAMP:20260424T111829
CREATED:20210708T183643Z
LAST-MODIFIED:20220324T184030Z
UID:10004414-1649764800-1649768400@asanewsletter.org
SUMMARY:2022 OER Project Showcase: 3
DESCRIPTION:Note: This is a repeat of Creating Accessible PDF Files 1 and 2 Join us as we review an accessibility report for a PDF file.  We’ll identify criteria in an accessibility report that commonly passes and fails and provides participants with guidance on how to make basic changes to their content that address these accessibility... Continue Reading →
URL:https://asanewsletter.org/event/2022-oer-project-showcase-3/
LOCATION:Online
CATEGORIES:Webinars
END:VEVENT
BEGIN:VEVENT
DTSTART;TZID=America/Chicago:20220406T120000
DTEND;TZID=America/Chicago:20220406T130000
DTSTAMP:20260424T111829
CREATED:20210708T183508Z
LAST-MODIFIED:20220324T183949Z
UID:10004412-1649246400-1649250000@asanewsletter.org
SUMMARY:2022 OER Project Showcase: 2
DESCRIPTION:Note: This is a repeat of Creating Accessible PDF Files 1 and 2 Join us as we review an accessibility report for a PDF file.  We’ll identify criteria in an accessibility report that commonly passes and fails and provides participants with guidance on how to make basic changes to their content that address these accessibility... Continue Reading →
URL:https://asanewsletter.org/event/2022-oer-project-showcase-2/
LOCATION:Online
CATEGORIES:Webinars
END:VEVENT
BEGIN:VEVENT
DTSTART;TZID=America/Chicago:20220401T120000
DTEND;TZID=America/Chicago:20220401T130000
DTSTAMP:20260424T111829
CREATED:20210708T183148Z
LAST-MODIFIED:20220324T183911Z
UID:10004409-1648814400-1648818000@asanewsletter.org
SUMMARY:2022 OER Project Showcase: 1
DESCRIPTION:Note: This is a repeat of Creating Accessible PDF Files 1 and 2 Join us as we review an accessibility report for a PDF file.  We’ll identify criteria in an accessibility report that commonly passes and fails and provides participants with guidance on how to make basic changes to their content that address these accessibility... Continue Reading →
URL:https://asanewsletter.org/event/2022-oer-project-showcase-1/
LOCATION:Online
CATEGORIES:Webinars
END:VEVENT
BEGIN:VEVENT
DTSTART;VALUE=DATE:20220121
DTEND;VALUE=DATE:20220122
DTSTAMP:20260424T111829
CREATED:20210625T155200Z
LAST-MODIFIED:20220110T195132Z
UID:10004674-1642723200-1642809599@asanewsletter.org
SUMMARY:OER Learning Circle Applications Due - Spring 2022
DESCRIPTION:Note: This is a repeat of Creating Accessible PDF Files 1 and 2 Join us as we review an accessibility report for a PDF file.  We’ll identify criteria in an accessibility report that commonly passes and fails and provides participants with guidance on how to make basic changes to their content that address these accessibility... Continue Reading →
URL:https://asanewsletter.org/event/oer-learning-circle-applications-due-spring-2022/
LOCATION:Online
CATEGORIES:Learning Communities
END:VEVENT
BEGIN:VEVENT
DTSTART;VALUE=DATE:20210825
DTEND;VALUE=DATE:20210826
DTSTAMP:20260424T111829
CREATED:20210623T205324Z
LAST-MODIFIED:20220630T183155Z
UID:10004670-1629849600-1629935999@asanewsletter.org
SUMMARY:OER Learning Circle Applications Due - Fall 2021
DESCRIPTION:Note: This is a repeat of Creating Accessible PDF Files 1 and 2 Join us as we review an accessibility report for a PDF file.  We’ll identify criteria in an accessibility report that commonly passes and fails and provides participants with guidance on how to make basic changes to their content that address these accessibility... Continue Reading →
URL:https://asanewsletter.org/event/oer-learning-circle-applications-due-fall-2021/
LOCATION:Online
CATEGORIES:Learning Communities
END:VEVENT
BEGIN:VEVENT
DTSTART;TZID=America/Chicago:20210524T110000
DTEND;TZID=America/Chicago:20210524T120000
DTSTAMP:20260424T111829
CREATED:20200608T194247Z
LAST-MODIFIED:20220630T183141Z
UID:10004370-1621854000-1621857600@asanewsletter.org
SUMMARY:OER FAQ: May
DESCRIPTION:Note: This is a repeat of Creating Accessible PDF Files 1 and 2 Join us as we review an accessibility report for a PDF file.  We’ll identify criteria in an accessibility report that commonly passes and fails and provides participants with guidance on how to make basic changes to their content that address these accessibility... Continue Reading →
URL:https://asanewsletter.org/event/oer-faq-may/
LOCATION:Online
CATEGORIES:Webinars
ATTACH;FMTTYPE=image/png:https://asanewsletter.org/wp-content/uploads/2020/06/OER-FAQ.png
END:VEVENT
BEGIN:VEVENT
DTSTART;VALUE=DATE:20210416
DTEND;VALUE=DATE:20210417
DTSTAMP:20260424T111829
CREATED:20200603T171649Z
LAST-MODIFIED:20220630T183129Z
UID:10004355-1618531200-1618617599@asanewsletter.org
SUMMARY:OER Learning Circles - Summer 2021 Applications Due
DESCRIPTION:Note: This is a repeat of Creating Accessible PDF Files 1 and 2 Join us as we review an accessibility report for a PDF file.  We’ll identify criteria in an accessibility report that commonly passes and fails and provides participants with guidance on how to make basic changes to their content that address these accessibility... Continue Reading →
URL:https://asanewsletter.org/event/oer-learning-circles-summer-2021-applications-due/
LOCATION:Online
CATEGORIES:Long Course
ATTACH;FMTTYPE=image/jpeg:https://asanewsletter.org/wp-content/uploads/2019/09/oer-opportunities-banner.jpg
END:VEVENT
BEGIN:VEVENT
DTSTART;TZID=America/Chicago:20210329T110000
DTEND;TZID=America/Chicago:20210329T120000
DTSTAMP:20260424T111829
CREATED:20200608T194110Z
LAST-MODIFIED:20220630T183117Z
UID:10004369-1617015600-1617019200@asanewsletter.org
SUMMARY:OER FAQ: March
DESCRIPTION:Note: This is a repeat of Creating Accessible PDF Files 1 and 2 Join us as we review an accessibility report for a PDF file.  We’ll identify criteria in an accessibility report that commonly passes and fails and provides participants with guidance on how to make basic changes to their content that address these accessibility... Continue Reading →
URL:https://asanewsletter.org/event/oer-faq-march/
LOCATION:Online
CATEGORIES:Webinars
ATTACH;FMTTYPE=image/png:https://asanewsletter.org/wp-content/uploads/2020/06/OER-FAQ.png
END:VEVENT
BEGIN:VEVENT
DTSTART;TZID=America/Chicago:20210204T110000
DTEND;TZID=America/Chicago:20210204T120000
DTSTAMP:20260424T111829
CREATED:20200608T193934Z
LAST-MODIFIED:20220630T183056Z
UID:10004367-1612436400-1612440000@asanewsletter.org
SUMMARY:OER FAQ: February
DESCRIPTION:Note: This is a repeat of Creating Accessible PDF Files 1 and 2 Join us as we review an accessibility report for a PDF file.  We’ll identify criteria in an accessibility report that commonly passes and fails and provides participants with guidance on how to make basic changes to their content that address these accessibility... Continue Reading →
URL:https://asanewsletter.org/event/oer-faq-february/
LOCATION:Online
CATEGORIES:Webinars
ATTACH;FMTTYPE=image/png:https://asanewsletter.org/wp-content/uploads/2020/06/OER-FAQ.png
END:VEVENT
BEGIN:VEVENT
DTSTART;VALUE=DATE:20210122
DTEND;VALUE=DATE:20210123
DTSTAMP:20260424T111829
CREATED:20200601T214408Z
LAST-MODIFIED:20220630T161703Z
UID:10004353-1611273600-1611359999@asanewsletter.org
SUMMARY:OER Learning Circles - Spring 2021 Applications Due
DESCRIPTION:Note: This is a repeat of Creating Accessible PDF Files 1 and 2 Join us as we review an accessibility report for a PDF file.  We’ll identify criteria in an accessibility report that commonly passes and fails and provides participants with guidance on how to make basic changes to their content that address these accessibility... Continue Reading →
URL:https://asanewsletter.org/event/oer-learning-circles-spring-2021-applications-due/
LOCATION:Online
CATEGORIES:Long Course
ATTACH;FMTTYPE=image/png:https://asanewsletter.org/wp-content/uploads/2020/06/oer-lc.png
END:VEVENT
BEGIN:VEVENT
DTSTART;TZID=America/Chicago:20201202T150000
DTEND;TZID=America/Chicago:20201202T160000
DTSTAMP:20260424T111829
CREATED:20200601T192222Z
LAST-MODIFIED:20220630T161428Z
UID:10004349-1606921200-1606924800@asanewsletter.org
SUMMARY:Koffee with Karen: OER Community Conversations
DESCRIPTION:Note: This is a repeat of Creating Accessible PDF Files 1 and 2 Join us as we review an accessibility report for a PDF file.  We’ll identify criteria in an accessibility report that commonly passes and fails and provides participants with guidance on how to make basic changes to their content that address these accessibility... Continue Reading →
URL:https://asanewsletter.org/event/koffee-with-karen-oer-community-conversations-2/
LOCATION:Online
CATEGORIES:Webinars
ATTACH;FMTTYPE=image/png:https://asanewsletter.org/wp-content/uploads/2019/04/koffee-with-karen-twitter.png
END:VEVENT
BEGIN:VEVENT
DTSTART;TZID=America/Chicago:20201123T110000
DTEND;TZID=America/Chicago:20201123T120000
DTSTAMP:20260424T111829
CREATED:20200608T193747Z
LAST-MODIFIED:20220630T161303Z
UID:10004365-1606129200-1606132800@asanewsletter.org
SUMMARY:OER FAQ: November
DESCRIPTION:Note: This is a repeat of Creating Accessible PDF Files 1 and 2 Join us as we review an accessibility report for a PDF file.  We’ll identify criteria in an accessibility report that commonly passes and fails and provides participants with guidance on how to make basic changes to their content that address these accessibility... Continue Reading →
URL:https://asanewsletter.org/event/oer-faq-november/
LOCATION:Online
CATEGORIES:Webinars
ATTACH;FMTTYPE=image/png:https://asanewsletter.org/wp-content/uploads/2020/06/OER-FAQ.png
END:VEVENT
BEGIN:VEVENT
DTSTART;TZID=America/Chicago:20201007T110000
DTEND;TZID=America/Chicago:20201007T120000
DTSTAMP:20260424T111829
CREATED:20200608T193554Z
LAST-MODIFIED:20220630T161140Z
UID:10004363-1602068400-1602072000@asanewsletter.org
SUMMARY:OER FAQ: October
DESCRIPTION:Note: This is a repeat of Creating Accessible PDF Files 1 and 2 Join us as we review an accessibility report for a PDF file.  We’ll identify criteria in an accessibility report that commonly passes and fails and provides participants with guidance on how to make basic changes to their content that address these accessibility... Continue Reading →
URL:https://asanewsletter.org/event/oer-faq-september/
LOCATION:Online
CATEGORIES:Webinars
ATTACH;FMTTYPE=image/png:https://asanewsletter.org/wp-content/uploads/2020/06/OER-FAQ.png
END:VEVENT
BEGIN:VEVENT
DTSTART;VALUE=DATE:20200826
DTEND;VALUE=DATE:20200827
DTSTAMP:20260424T111829
CREATED:20200601T204041Z
LAST-MODIFIED:20220630T161918Z
UID:10004352-1598400000-1598486399@asanewsletter.org
SUMMARY:OER Learning Circles - Fall 2020 Applications Due
DESCRIPTION:Note: This is a repeat of Creating Accessible PDF Files 1 and 2 Join us as we review an accessibility report for a PDF file.  We’ll identify criteria in an accessibility report that commonly passes and fails and provides participants with guidance on how to make basic changes to their content that address these accessibility... Continue Reading →
URL:https://asanewsletter.org/event/oer-learning-circles-fall-2020-applications-due/
LOCATION:Online
CATEGORIES:Long Course
ATTACH;FMTTYPE=image/jpeg:https://asanewsletter.org/wp-content/uploads/2019/09/oer-opportunities-banner.jpg
END:VEVENT
BEGIN:VEVENT
DTSTART;VALUE=DATE:20200508
DTEND;VALUE=DATE:20200509
DTSTAMP:20260424T111829
CREATED:20200414T190610Z
LAST-MODIFIED:20220630T161804Z
UID:10004282-1588896000-1588982399@asanewsletter.org
SUMMARY:Summer OER Learning Circles Applications Due
DESCRIPTION:Note: This is a repeat of Creating Accessible PDF Files 1 and 2 Join us as we review an accessibility report for a PDF file.  We’ll identify criteria in an accessibility report that commonly passes and fails and provides participants with guidance on how to make basic changes to their content that address these accessibility... Continue Reading →
URL:https://asanewsletter.org/event/summer-oer-learning-circles-applications-due/
LOCATION:Online
CATEGORIES:Learning Communities
ATTACH;FMTTYPE=image/jpeg:https://asanewsletter.org/wp-content/uploads/2019/09/oer-opportunities-banner.jpg
END:VEVENT
BEGIN:VEVENT
DTSTART;TZID=America/Chicago:20200224T150000
DTEND;TZID=America/Chicago:20200224T160000
DTSTAMP:20260424T111829
CREATED:20190425T145907Z
LAST-MODIFIED:20220630T161725Z
UID:10004017-1582556400-1582560000@asanewsletter.org
SUMMARY:Koffee with Karen
DESCRIPTION:Note: This is a repeat of Creating Accessible PDF Files 1 and 2 Join us as we review an accessibility report for a PDF file.  We’ll identify criteria in an accessibility report that commonly passes and fails and provides participants with guidance on how to make basic changes to their content that address these accessibility... Continue Reading →
URL:https://asanewsletter.org/event/koffee-with-karen-2-24-2020/
LOCATION:Online
CATEGORIES:Learning Communities
ATTACH;FMTTYPE=image/png:https://asanewsletter.org/wp-content/uploads/2019/04/koffee-with-karen-twitter.png
END:VEVENT
BEGIN:VEVENT
DTSTART;VALUE=DATE:20200207
DTEND;VALUE=DATE:20200208
DTSTAMP:20260424T111829
CREATED:20200129T034256Z
LAST-MODIFIED:20220630T162858Z
UID:10004186-1581033600-1581119999@asanewsletter.org
SUMMARY:OER Learning Circles - Spring 2020 Applications Due (Learning Community)
DESCRIPTION:Note: This is a repeat of Creating Accessible PDF Files 1 and 2 Join us as we review an accessibility report for a PDF file.  We’ll identify criteria in an accessibility report that commonly passes and fails and provides participants with guidance on how to make basic changes to their content that address these accessibility... Continue Reading →
URL:https://asanewsletter.org/event/oer-learning-circles-spring-2020-applications-due-learning-community/
LOCATION:Online
CATEGORIES:Learning Communities
ATTACH;FMTTYPE=image/png:https://asanewsletter.org/wp-content/uploads/2019/04/oer-lc-banner.png
END:VEVENT
BEGIN:VEVENT
DTSTART;VALUE=DATE:20190906
DTEND;VALUE=DATE:20190907
DTSTAMP:20260424T111829
CREATED:20190425T150828Z
LAST-MODIFIED:20220630T162034Z
UID:10004022-1567728000-1567814399@asanewsletter.org
SUMMARY:Fall OER Learning Circles (Applications Due)
DESCRIPTION:Note: This is a repeat of Creating Accessible PDF Files 1 and 2 Join us as we review an accessibility report for a PDF file.  We’ll identify criteria in an accessibility report that commonly passes and fails and provides participants with guidance on how to make basic changes to their content that address these accessibility... Continue Reading →
URL:https://asanewsletter.org/event/fall-oer-lc-due-2019/
LOCATION:Online
CATEGORIES:Learning Communities
ATTACH;FMTTYPE=image/png:https://asanewsletter.org/wp-content/uploads/2019/04/OER_logo_secondary_horizontal_color.png
END:VEVENT
END:VCALENDAR