BEGIN:VCALENDAR
VERSION:2.0
PRODID:-//ASA Newsletter - ECPv6.15.18//NONSGML v1.0//EN
CALSCALE:GREGORIAN
METHOD:PUBLISH
X-WR-CALNAME:ASA Newsletter
X-ORIGINAL-URL:https://asanewsletter.org
X-WR-CALDESC:Events for ASA Newsletter
REFRESH-INTERVAL;VALUE=DURATION:PT1H
X-Robots-Tag:noindex
X-PUBLISHED-TTL:PT1H
BEGIN:VTIMEZONE
TZID:America/Chicago
BEGIN:DAYLIGHT
TZOFFSETFROM:-0600
TZOFFSETTO:-0500
TZNAME:CDT
DTSTART:20180311T080000
END:DAYLIGHT
BEGIN:STANDARD
TZOFFSETFROM:-0500
TZOFFSETTO:-0600
TZNAME:CST
DTSTART:20181104T070000
END:STANDARD
BEGIN:DAYLIGHT
TZOFFSETFROM:-0600
TZOFFSETTO:-0500
TZNAME:CDT
DTSTART:20190310T080000
END:DAYLIGHT
BEGIN:STANDARD
TZOFFSETFROM:-0500
TZOFFSETTO:-0600
TZNAME:CST
DTSTART:20191103T070000
END:STANDARD
BEGIN:DAYLIGHT
TZOFFSETFROM:-0600
TZOFFSETTO:-0500
TZNAME:CDT
DTSTART:20200308T080000
END:DAYLIGHT
BEGIN:STANDARD
TZOFFSETFROM:-0500
TZOFFSETTO:-0600
TZNAME:CST
DTSTART:20201101T070000
END:STANDARD
END:VTIMEZONE
BEGIN:VTIMEZONE
TZID:UTC
BEGIN:STANDARD
TZOFFSETFROM:+0000
TZOFFSETTO:+0000
TZNAME:UTC
DTSTART:20180101T000000
END:STANDARD
END:VTIMEZONE
BEGIN:VEVENT
DTSTART;TZID=America/Chicago:20190812T100000
DTEND;TZID=America/Chicago:20190812T110000
DTSTAMP:20260421T170309
CREATED:20190729T155803Z
LAST-MODIFIED:20220630T153040Z
UID:10004038-1565604000-1565607600@asanewsletter.org
SUMMARY:Copy Course Materials to a New Course with Ease (D2L Brightspace)
DESCRIPTION:Disability Justice is a framework that prioritizes disabled women\, indigenous\, people of color\, queer\, trans\, gender-nonconforming and other historically excluded groups recognizing the political and social structures that work against their rights for power and access. This session provides an introduction to the tenants of disability justice and identifies key differences between disability rights -... Continue Reading →
URL:https://asanewsletter.org/event/copy-course-components-d2l-brightspace/
LOCATION:Online
CATEGORIES:Webinars
ATTACH;FMTTYPE=image/png:https://asanewsletter.org/wp-content/uploads/2019/07/D2L-Brightspace.png
END:VEVENT
BEGIN:VEVENT
DTSTART;TZID=America/Chicago:20190520T143000
DTEND;TZID=America/Chicago:20190520T160000
DTSTAMP:20260421T170309
CREATED:20190422T193033Z
LAST-MODIFIED:20220630T162913Z
UID:10004005-1558362600-1558368000@asanewsletter.org
SUMMARY:Open Textbook Network Webinar
DESCRIPTION:Disability Justice is a framework that prioritizes disabled women\, indigenous\, people of color\, queer\, trans\, gender-nonconforming and other historically excluded groups recognizing the political and social structures that work against their rights for power and access. This session provides an introduction to the tenants of disability justice and identifies key differences between disability rights -... Continue Reading →
URL:https://asanewsletter.org/event/open-textbook-network-webinar/
LOCATION:Online
CATEGORIES:Webinars
ATTACH;FMTTYPE=image/png:https://asanewsletter.org/wp-content/uploads/2019/04/oer.png
END:VEVENT
BEGIN:VEVENT
DTSTART;TZID=UTC:20190423T090000
DTEND;TZID=UTC:20190423T103000
DTSTAMP:20260421T170309
CREATED:20190418T192818Z
LAST-MODIFIED:20220630T162905Z
UID:10004001-1556010000-1556015400@asanewsletter.org
SUMMARY:Open Textbook Network Webinar
DESCRIPTION:Disability Justice is a framework that prioritizes disabled women\, indigenous\, people of color\, queer\, trans\, gender-nonconforming and other historically excluded groups recognizing the political and social structures that work against their rights for power and access. This session provides an introduction to the tenants of disability justice and identifies key differences between disability rights -... Continue Reading →
URL:https://asanewsletter.org/event/open-textbook-network-otn-webinar-4-23-2019/
LOCATION:Online
CATEGORIES:Webinars
ATTACH;FMTTYPE=image/png:https://asanewsletter.org/wp-content/uploads/2019/04/oer.png
END:VEVENT
END:VCALENDAR