BEGIN:VCALENDAR
VERSION:2.0
PRODID:-//ASA Newsletter - ECPv6.15.18//NONSGML v1.0//EN
CALSCALE:GREGORIAN
METHOD:PUBLISH
X-ORIGINAL-URL:https://asanewsletter.org
X-WR-CALDESC:Events for ASA Newsletter
REFRESH-INTERVAL;VALUE=DURATION:PT1H
X-Robots-Tag:noindex
X-PUBLISHED-TTL:PT1H
BEGIN:VTIMEZONE
TZID:America/Chicago
BEGIN:DAYLIGHT
TZOFFSETFROM:-0600
TZOFFSETTO:-0500
TZNAME:CDT
DTSTART:20240310T080000
END:DAYLIGHT
BEGIN:STANDARD
TZOFFSETFROM:-0500
TZOFFSETTO:-0600
TZNAME:CST
DTSTART:20241103T070000
END:STANDARD
BEGIN:DAYLIGHT
TZOFFSETFROM:-0600
TZOFFSETTO:-0500
TZNAME:CDT
DTSTART:20250309T080000
END:DAYLIGHT
BEGIN:STANDARD
TZOFFSETFROM:-0500
TZOFFSETTO:-0600
TZNAME:CST
DTSTART:20251102T070000
END:STANDARD
BEGIN:DAYLIGHT
TZOFFSETFROM:-0600
TZOFFSETTO:-0500
TZNAME:CDT
DTSTART:20260308T080000
END:DAYLIGHT
BEGIN:STANDARD
TZOFFSETFROM:-0500
TZOFFSETTO:-0600
TZNAME:CST
DTSTART:20261101T070000
END:STANDARD
END:VTIMEZONE
BEGIN:VEVENT
DTSTART;TZID=America/Chicago:20250402T150000
DTEND;TZID=America/Chicago:20250402T160000
DTSTAMP:20260424T014254
CREATED:20240613T164732Z
LAST-MODIFIED:20240926T204953Z
UID:10005142-1743606000-1743609600@asanewsletter.org
SUMMARY:OER Community Conversations: April
DESCRIPTION:Fall 2026 OER Learning Circles September 14 – November 29\, 2026 Apply by August 14 Collaborate with other Minnesota State faculty who are committed to saving students on the cost of textbooks and course resources. There are 5 Project Types: Redesign a course around OER. Create ancillary materials to complement an existing OER. Author a... Continue Reading →
URL:https://asanewsletter.org/event/oer-community-conversations-april-3/
CATEGORIES:Webinars
ATTACH;FMTTYPE=image/png:https://asanewsletter.org/wp-content/uploads/2022/07/banner-ned-themes-oer-e1693948342542.png
END:VEVENT
BEGIN:VEVENT
DTSTART;VALUE=DATE:20250404
DTEND;VALUE=DATE:20250405
DTSTAMP:20260424T014254
CREATED:20240611T180318Z
LAST-MODIFIED:20250228T163509Z
UID:10005145-1743724800-1743811199@asanewsletter.org
SUMMARY:OER Learning Circles: Summer 2025
DESCRIPTION:Fall 2026 OER Learning Circles September 14 – November 29\, 2026 Apply by August 14 Collaborate with other Minnesota State faculty who are committed to saving students on the cost of textbooks and course resources. There are 5 Project Types: Redesign a course around OER. Create ancillary materials to complement an existing OER. Author a... Continue Reading →
URL:https://asanewsletter.org/event/oer-learning-circles-summer-2025/
CATEGORIES:Learning Communities
ATTACH;FMTTYPE=image/png:https://asanewsletter.org/wp-content/uploads/2022/07/banner-ned-themes-oer-e1693948342542.png
END:VEVENT
BEGIN:VEVENT
DTSTART;TZID=America/Chicago:20250404T120000
DTEND;TZID=America/Chicago:20250404T130000
DTSTAMP:20260424T014254
CREATED:20240613T180503Z
LAST-MODIFIED:20250327T144328Z
UID:10005151-1743768000-1743771600@asanewsletter.org
SUMMARY:OER Project Showcase: 2
DESCRIPTION:Fall 2026 OER Learning Circles September 14 – November 29\, 2026 Apply by August 14 Collaborate with other Minnesota State faculty who are committed to saving students on the cost of textbooks and course resources. There are 5 Project Types: Redesign a course around OER. Create ancillary materials to complement an existing OER. Author a... Continue Reading →
URL:https://asanewsletter.org/event/oer-project-showcase-2-3/
CATEGORIES:Webinars
ATTACH;FMTTYPE=image/png:https://asanewsletter.org/wp-content/uploads/2021/03/OER-Project-Showcase-1837515293-1647964260444-e1694118223865.png
END:VEVENT
BEGIN:VEVENT
DTSTART;TZID=America/Chicago:20250408T150000
DTEND;TZID=America/Chicago:20250408T160000
DTSTAMP:20260424T014255
CREATED:20240702T134653Z
LAST-MODIFIED:20240702T134653Z
UID:10005155-1744124400-1744128000@asanewsletter.org
SUMMARY:OER Librarian Community of Practice (April 2025)
DESCRIPTION:Fall 2026 OER Learning Circles September 14 – November 29\, 2026 Apply by August 14 Collaborate with other Minnesota State faculty who are committed to saving students on the cost of textbooks and course resources. There are 5 Project Types: Redesign a course around OER. Create ancillary materials to complement an existing OER. Author a... Continue Reading →
URL:https://asanewsletter.org/event/oer-librarian-community-of-practice-april-2025/
CATEGORIES:Webinars
ATTACH;FMTTYPE=image/png:https://asanewsletter.org/wp-content/uploads/2022/07/banner-ned-themes-oer-e1693948342542.png
END:VEVENT
BEGIN:VEVENT
DTSTART;TZID=America/Chicago:20250410T120000
DTEND;TZID=America/Chicago:20250410T130000
DTSTAMP:20260424T014255
CREATED:20240613T181152Z
LAST-MODIFIED:20250327T144617Z
UID:10005147-1744286400-1744290000@asanewsletter.org
SUMMARY:OER Project Showcase: 3
DESCRIPTION:Fall 2026 OER Learning Circles September 14 – November 29\, 2026 Apply by August 14 Collaborate with other Minnesota State faculty who are committed to saving students on the cost of textbooks and course resources. There are 5 Project Types: Redesign a course around OER. Create ancillary materials to complement an existing OER. Author a... Continue Reading →
URL:https://asanewsletter.org/event/oer-project-showcase-3-3/
CATEGORIES:Webinars
ATTACH;FMTTYPE=image/png:https://asanewsletter.org/wp-content/uploads/2021/03/OER-Project-Showcase-1837515293-1647964260444-e1694118223865.png
END:VEVENT
BEGIN:VEVENT
DTSTART;TZID=America/Chicago:20250416T113000
DTEND;TZID=America/Chicago:20250416T123000
DTSTAMP:20260424T014255
CREATED:20240903T174757Z
LAST-MODIFIED:20240903T174849Z
UID:10005200-1744803000-1744806600@asanewsletter.org
SUMMARY:PressbookEDU Office Hour
DESCRIPTION:Fall 2026 OER Learning Circles September 14 – November 29\, 2026 Apply by August 14 Collaborate with other Minnesota State faculty who are committed to saving students on the cost of textbooks and course resources. There are 5 Project Types: Redesign a course around OER. Create ancillary materials to complement an existing OER. Author a... Continue Reading →
URL:https://asanewsletter.org/event/pressbookedu-office-hour/2025-04-16/
CATEGORIES:Webinars
ATTACH;FMTTYPE=image/png:https://asanewsletter.org/wp-content/uploads/2022/07/banner-ned-themes-oer-e1693948342542.png
END:VEVENT
BEGIN:VEVENT
DTSTART;TZID=America/Chicago:20250416T120000
DTEND;TZID=America/Chicago:20250416T130000
DTSTAMP:20260424T014255
CREATED:20240613T182630Z
LAST-MODIFIED:20250327T144929Z
UID:10005148-1744804800-1744808400@asanewsletter.org
SUMMARY:OER Project Showcase: 4
DESCRIPTION:Fall 2026 OER Learning Circles September 14 – November 29\, 2026 Apply by August 14 Collaborate with other Minnesota State faculty who are committed to saving students on the cost of textbooks and course resources. There are 5 Project Types: Redesign a course around OER. Create ancillary materials to complement an existing OER. Author a... Continue Reading →
URL:https://asanewsletter.org/event/oer-project-showcase-4-3/
CATEGORIES:Webinars
ATTACH;FMTTYPE=image/png:https://asanewsletter.org/wp-content/uploads/2021/03/OER-Project-Showcase-1837515293-1647964260444-e1694118223865.png
END:VEVENT
BEGIN:VEVENT
DTSTART;TZID=America/Chicago:20250422T120000
DTEND;TZID=America/Chicago:20250422T130000
DTSTAMP:20260424T014255
CREATED:20240613T183349Z
LAST-MODIFIED:20250327T145321Z
UID:10005149-1745323200-1745326800@asanewsletter.org
SUMMARY:OER Project Showcase: 5
DESCRIPTION:Fall 2026 OER Learning Circles September 14 – November 29\, 2026 Apply by August 14 Collaborate with other Minnesota State faculty who are committed to saving students on the cost of textbooks and course resources. There are 5 Project Types: Redesign a course around OER. Create ancillary materials to complement an existing OER. Author a... Continue Reading →
URL:https://asanewsletter.org/event/oer-project-showcase-5-3/
CATEGORIES:Webinars
ATTACH;FMTTYPE=image/png:https://asanewsletter.org/wp-content/uploads/2021/03/OER-Project-Showcase-1837515293-1647964260444-e1694118223865.png
END:VEVENT
BEGIN:VEVENT
DTSTART;TZID=America/Chicago:20250424T120000
DTEND;TZID=America/Chicago:20250424T130000
DTSTAMP:20260424T014255
CREATED:20240613T183919Z
LAST-MODIFIED:20250327T145556Z
UID:10005150-1745496000-1745499600@asanewsletter.org
SUMMARY:OER Project Showcase: 6 (Spring 2025)
DESCRIPTION:Fall 2026 OER Learning Circles September 14 – November 29\, 2026 Apply by August 14 Collaborate with other Minnesota State faculty who are committed to saving students on the cost of textbooks and course resources. There are 5 Project Types: Redesign a course around OER. Create ancillary materials to complement an existing OER. Author a... Continue Reading →
URL:https://asanewsletter.org/event/oer-project-showcase-6/
CATEGORIES:Webinars
ATTACH;FMTTYPE=image/png:https://asanewsletter.org/wp-content/uploads/2021/03/OER-Project-Showcase-1837515293-1647964260444-e1694118223865.png
END:VEVENT
END:VCALENDAR