BEGIN:VCALENDAR
VERSION:2.0
PRODID:-//ASA Newsletter - ECPv6.15.18//NONSGML v1.0//EN
CALSCALE:GREGORIAN
METHOD:PUBLISH
X-WR-CALNAME:ASA Newsletter
X-ORIGINAL-URL:https://asanewsletter.org
X-WR-CALDESC:Events for ASA Newsletter
REFRESH-INTERVAL;VALUE=DURATION:PT1H
X-Robots-Tag:noindex
X-PUBLISHED-TTL:PT1H
BEGIN:VTIMEZONE
TZID:America/Chicago
BEGIN:DAYLIGHT
TZOFFSETFROM:-0600
TZOFFSETTO:-0500
TZNAME:CDT
DTSTART:20240310T080000
END:DAYLIGHT
BEGIN:STANDARD
TZOFFSETFROM:-0500
TZOFFSETTO:-0600
TZNAME:CST
DTSTART:20241103T070000
END:STANDARD
BEGIN:DAYLIGHT
TZOFFSETFROM:-0600
TZOFFSETTO:-0500
TZNAME:CDT
DTSTART:20250309T080000
END:DAYLIGHT
BEGIN:STANDARD
TZOFFSETFROM:-0500
TZOFFSETTO:-0600
TZNAME:CST
DTSTART:20251102T070000
END:STANDARD
BEGIN:DAYLIGHT
TZOFFSETFROM:-0600
TZOFFSETTO:-0500
TZNAME:CDT
DTSTART:20260308T080000
END:DAYLIGHT
BEGIN:STANDARD
TZOFFSETFROM:-0500
TZOFFSETTO:-0600
TZNAME:CST
DTSTART:20261101T070000
END:STANDARD
END:VTIMEZONE
BEGIN:VEVENT
DTSTART;VALUE=DATE:20250602
DTEND;VALUE=DATE:20250603
DTSTAMP:20260425T090120
CREATED:20250401T202747Z
LAST-MODIFIED:20250602T202231Z
UID:10005354-1748822400-1748908799@asanewsletter.org
SUMMARY:Foundations of Teaching Online (Summer 2025)
DESCRIPTION:Fall 2026 OER Learning Circles September 14 – November 29\, 2026 Apply by August 14 Collaborate with other Minnesota State faculty who are committed to saving students on the cost of textbooks and course resources. There are 5 Project Types: Redesign a course around OER. Create ancillary materials to complement an existing OER. Author a... Continue Reading →
URL:https://asanewsletter.org/event/foundations-of-teaching-online-summer-2025/
CATEGORIES:Long Course
ATTACH;FMTTYPE=image/png:https://asanewsletter.org/wp-content/uploads/2022/07/banner-ned-themes-foundations-e1693948367597.png
END:VEVENT
BEGIN:VEVENT
DTSTART;VALUE=DATE:20250602
DTEND;VALUE=DATE:20250603
DTSTAMP:20260425T090120
CREATED:20250401T202748Z
LAST-MODIFIED:20250422T132026Z
UID:10005353-1748822400-1748908799@asanewsletter.org
SUMMARY:Foundations of Teaching Online for Deans (Summer 2025)
DESCRIPTION:Fall 2026 OER Learning Circles September 14 – November 29\, 2026 Apply by August 14 Collaborate with other Minnesota State faculty who are committed to saving students on the cost of textbooks and course resources. There are 5 Project Types: Redesign a course around OER. Create ancillary materials to complement an existing OER. Author a... Continue Reading →
URL:https://asanewsletter.org/event/foundations-of-teaching-online-for-deans-summer-2025/
CATEGORIES:Long Course
ATTACH;FMTTYPE=image/png:https://asanewsletter.org/wp-content/uploads/2022/07/banner-ned-themes-foundations-e1693948367597.png
END:VEVENT
BEGIN:VEVENT
DTSTART;TZID=America/Chicago:20250604T110000
DTEND;TZID=America/Chicago:20250604T120000
DTSTAMP:20260425T090120
CREATED:20250513T193147Z
LAST-MODIFIED:20250513T193147Z
UID:10005365-1749034800-1749038400@asanewsletter.org
SUMMARY:Accessible Documents in Microsoft Word: A Webinar for Beginners (Summer 2025)
DESCRIPTION:Fall 2026 OER Learning Circles September 14 – November 29\, 2026 Apply by August 14 Collaborate with other Minnesota State faculty who are committed to saving students on the cost of textbooks and course resources. There are 5 Project Types: Redesign a course around OER. Create ancillary materials to complement an existing OER. Author a... Continue Reading →
URL:https://asanewsletter.org/event/accessible-documents-in-microsoft-word-a-webinar-for-beginners-summer-2025/
CATEGORIES:Webinars
ATTACH;FMTTYPE=image/png:https://asanewsletter.org/wp-content/uploads/2022/07/banner-ned-themes-accessibility-e1693948444801.png
END:VEVENT
BEGIN:VEVENT
DTSTART;TZID=America/Chicago:20250605T100000
DTEND;TZID=America/Chicago:20250605T111500
DTSTAMP:20260425T090120
CREATED:20250401T202740Z
LAST-MODIFIED:20250401T205117Z
UID:10005352-1749117600-1749122100@asanewsletter.org
SUMMARY:Teaching with AI Workshop: Part 1 (Summer 2025)
DESCRIPTION:Fall 2026 OER Learning Circles September 14 – November 29\, 2026 Apply by August 14 Collaborate with other Minnesota State faculty who are committed to saving students on the cost of textbooks and course resources. There are 5 Project Types: Redesign a course around OER. Create ancillary materials to complement an existing OER. Author a... Continue Reading →
URL:https://asanewsletter.org/event/teaching-with-ai-workshop-part-1-june-2025/
CATEGORIES:Workshop
ATTACH;FMTTYPE=image/png:https://asanewsletter.org/wp-content/uploads/2022/07/banner-ned-themes-academic-technologies-e1693948241660.png
END:VEVENT
BEGIN:VEVENT
DTSTART;VALUE=DATE:20250609
DTEND;VALUE=DATE:20250610
DTSTAMP:20260425T090120
CREATED:20250401T181815Z
LAST-MODIFIED:20250604T180141Z
UID:10005343-1749427200-1749513599@asanewsletter.org
SUMMARY:Accessible Course Documents (Summer 2025)
DESCRIPTION:Fall 2026 OER Learning Circles September 14 – November 29\, 2026 Apply by August 14 Collaborate with other Minnesota State faculty who are committed to saving students on the cost of textbooks and course resources. There are 5 Project Types: Redesign a course around OER. Create ancillary materials to complement an existing OER. Author a... Continue Reading →
URL:https://asanewsletter.org/event/accessible-course-documents-summer-2025/
CATEGORIES:Short Courses
ATTACH;FMTTYPE=image/png:https://asanewsletter.org/wp-content/uploads/2022/07/banner-ned-themes-accessibility-e1693948444801.png
END:VEVENT
BEGIN:VEVENT
DTSTART;TZID=America/Chicago:20250610T133000
DTEND;TZID=America/Chicago:20250610T143000
DTSTAMP:20260425T090120
CREATED:20250520T182010Z
LAST-MODIFIED:20250527T141039Z
UID:10005369-1749562200-1749565800@asanewsletter.org
SUMMARY:Teaching and Learning Competency and the NED - Deans\, HR\, and Administrators (Option 1)
DESCRIPTION:Fall 2026 OER Learning Circles September 14 – November 29\, 2026 Apply by August 14 Collaborate with other Minnesota State faculty who are committed to saving students on the cost of textbooks and course resources. There are 5 Project Types: Redesign a course around OER. Create ancillary materials to complement an existing OER. Author a... Continue Reading →
URL:https://asanewsletter.org/event/teaching-learning-competency-and-the-ned-option-1/
ATTACH;FMTTYPE=image/png:https://asanewsletter.org/wp-content/uploads/2023/08/banner-ned-themes-foundations.png
END:VEVENT
BEGIN:VEVENT
DTSTART;TZID=America/Chicago:20250612T100000
DTEND;TZID=America/Chicago:20250612T111500
DTSTAMP:20260425T090120
CREATED:20250401T202736Z
LAST-MODIFIED:20250401T205134Z
UID:10005351-1749722400-1749726900@asanewsletter.org
SUMMARY:Teaching with AI Workshop: Part 2 (Summer 2025)
DESCRIPTION:Fall 2026 OER Learning Circles September 14 – November 29\, 2026 Apply by August 14 Collaborate with other Minnesota State faculty who are committed to saving students on the cost of textbooks and course resources. There are 5 Project Types: Redesign a course around OER. Create ancillary materials to complement an existing OER. Author a... Continue Reading →
URL:https://asanewsletter.org/event/teaching-with-ai-workshop-part-2-june-2025/
CATEGORIES:Workshop
ATTACH;FMTTYPE=image/png:https://asanewsletter.org/wp-content/uploads/2022/07/banner-ned-themes-academic-technologies-e1693948241660.png
END:VEVENT
BEGIN:VEVENT
DTSTART;TZID=America/Chicago:20250613T120000
DTEND;TZID=America/Chicago:20250613T130000
DTSTAMP:20260425T090120
CREATED:20250513T174244Z
LAST-MODIFIED:20250515T150925Z
UID:10005363-1749816000-1749819600@asanewsletter.org
SUMMARY:Enhancing Student Learning Outcomes Through Feedback
DESCRIPTION:Fall 2026 OER Learning Circles September 14 – November 29\, 2026 Apply by August 14 Collaborate with other Minnesota State faculty who are committed to saving students on the cost of textbooks and course resources. There are 5 Project Types: Redesign a course around OER. Create ancillary materials to complement an existing OER. Author a... Continue Reading →
URL:https://asanewsletter.org/event/enhancing-student-learning-outcomes-through-feedback/
CATEGORIES:Webinars
ATTACH;FMTTYPE=image/png:https://asanewsletter.org/wp-content/uploads/2022/07/banner-ned-themes-foundations-e1693948367597.png
END:VEVENT
BEGIN:VEVENT
DTSTART;TZID=America/Chicago:20250616T120000
DTEND;TZID=America/Chicago:20250616T123000
DTSTAMP:20260425T090120
CREATED:20241217T225305Z
LAST-MODIFIED:20250530T185219Z
UID:10005268-1750075200-1750077000@asanewsletter.org
SUMMARY:What's New in D2L Brightspace: June 2025
DESCRIPTION:Fall 2026 OER Learning Circles September 14 – November 29\, 2026 Apply by August 14 Collaborate with other Minnesota State faculty who are committed to saving students on the cost of textbooks and course resources. There are 5 Project Types: Redesign a course around OER. Create ancillary materials to complement an existing OER. Author a... Continue Reading →
URL:https://asanewsletter.org/event/whats-new-in-d2l-brightspace-june-2025/
CATEGORIES:Webinars
ATTACH;FMTTYPE=image/png:https://asanewsletter.org/wp-content/uploads/2022/07/banner-ned-themes-academic-technologies-e1693948241660.png
END:VEVENT
BEGIN:VEVENT
DTSTART;TZID=America/Chicago:20250617T120000
DTEND;TZID=America/Chicago:20250617T130000
DTSTAMP:20260425T090120
CREATED:20250603T184450Z
LAST-MODIFIED:20250603T184450Z
UID:10005374-1750161600-1750165200@asanewsletter.org
SUMMARY:From Click to Connection: Consistent and Compassionate Communication (Summer 2025)
DESCRIPTION:Fall 2026 OER Learning Circles September 14 – November 29\, 2026 Apply by August 14 Collaborate with other Minnesota State faculty who are committed to saving students on the cost of textbooks and course resources. There are 5 Project Types: Redesign a course around OER. Create ancillary materials to complement an existing OER. Author a... Continue Reading →
URL:https://asanewsletter.org/event/from-click-to-connection-consistent-and-compassionate-communication-summer-2025/
CATEGORIES:Webinars
ATTACH;FMTTYPE=image/png:https://asanewsletter.org/wp-content/uploads/2022/07/banner-ned-themes-academic-equity-e1693948320531.png
END:VEVENT
BEGIN:VEVENT
DTSTART;TZID=America/Chicago:20250618T100000
DTEND;TZID=America/Chicago:20250618T110000
DTSTAMP:20260425T090120
CREATED:20250421T175711Z
LAST-MODIFIED:20250421T175711Z
UID:10005355-1750240800-1750244400@asanewsletter.org
SUMMARY:Digging into Wise Feedback (Summer 2025)
DESCRIPTION:Fall 2026 OER Learning Circles September 14 – November 29\, 2026 Apply by August 14 Collaborate with other Minnesota State faculty who are committed to saving students on the cost of textbooks and course resources. There are 5 Project Types: Redesign a course around OER. Create ancillary materials to complement an existing OER. Author a... Continue Reading →
URL:https://asanewsletter.org/event/digging-into-wise-feedback-summer-2025/
CATEGORIES:Webinars
ATTACH;FMTTYPE=image/png:https://asanewsletter.org/wp-content/uploads/2022/07/banner-ned-themes-foundations-e1693948367597.png
END:VEVENT
BEGIN:VEVENT
DTSTART;TZID=America/Chicago:20250618T100000
DTEND;TZID=America/Chicago:20250618T111500
DTSTAMP:20260425T090120
CREATED:20250401T202732Z
LAST-MODIFIED:20250508T195547Z
UID:10005350-1750240800-1750245300@asanewsletter.org
SUMMARY:Teaching with AI Workshop: Part 3 (Summer 2025)
DESCRIPTION:Fall 2026 OER Learning Circles September 14 – November 29\, 2026 Apply by August 14 Collaborate with other Minnesota State faculty who are committed to saving students on the cost of textbooks and course resources. There are 5 Project Types: Redesign a course around OER. Create ancillary materials to complement an existing OER. Author a... Continue Reading →
URL:https://asanewsletter.org/event/teaching-with-ai-workshop-part-3-2025/
CATEGORIES:Workshop
ATTACH;FMTTYPE=image/png:https://asanewsletter.org/wp-content/uploads/2022/07/banner-ned-themes-academic-technologies-e1693948241660.png
END:VEVENT
BEGIN:VEVENT
DTSTART;TZID=America/Chicago:20250620T110000
DTEND;TZID=America/Chicago:20250620T120000
DTSTAMP:20260425T090120
CREATED:20250613T132524Z
LAST-MODIFIED:20250613T151741Z
UID:10005376-1750417200-1750420800@asanewsletter.org
SUMMARY:Antiracist Practices for Search Committee Members (Summer 2025)
DESCRIPTION:Fall 2026 OER Learning Circles September 14 – November 29\, 2026 Apply by August 14 Collaborate with other Minnesota State faculty who are committed to saving students on the cost of textbooks and course resources. There are 5 Project Types: Redesign a course around OER. Create ancillary materials to complement an existing OER. Author a... Continue Reading →
URL:https://asanewsletter.org/event/antiracist-practices-for-search-committee-members-summer-2025-2/
CATEGORIES:Webinars
ATTACH;FMTTYPE=image/png:https://asanewsletter.org/wp-content/uploads/2022/07/banner-ned-themes-academic-equity-e1693948320531.png
END:VEVENT
BEGIN:VEVENT
DTSTART;TZID=America/Chicago:20250620T130000
DTEND;TZID=America/Chicago:20250620T140000
DTSTAMP:20260425T090120
CREATED:20250613T132521Z
LAST-MODIFIED:20250613T151801Z
UID:10005377-1750424400-1750428000@asanewsletter.org
SUMMARY:Application of Antiracist Pedagogy: Creating Community in the Classroom (Summer 2025)
DESCRIPTION:Fall 2026 OER Learning Circles September 14 – November 29\, 2026 Apply by August 14 Collaborate with other Minnesota State faculty who are committed to saving students on the cost of textbooks and course resources. There are 5 Project Types: Redesign a course around OER. Create ancillary materials to complement an existing OER. Author a... Continue Reading →
URL:https://asanewsletter.org/event/application-of-antiracist-pedagogy-creating-community-in-the-classroom-summer-2025/
CATEGORIES:Webinars
ATTACH;FMTTYPE=image/png:https://asanewsletter.org/wp-content/uploads/2022/07/banner-ned-themes-academic-equity-e1693948320531.png
END:VEVENT
BEGIN:VEVENT
DTSTART;TZID=America/Chicago:20250624T120000
DTEND;TZID=America/Chicago:20250624T130000
DTSTAMP:20260425T090120
CREATED:20250603T190100Z
LAST-MODIFIED:20250603T190100Z
UID:10005375-1750766400-1750770000@asanewsletter.org
SUMMARY:Improving Student Learning with Retrieval Strategies (Summer 2025)
DESCRIPTION:Fall 2026 OER Learning Circles September 14 – November 29\, 2026 Apply by August 14 Collaborate with other Minnesota State faculty who are committed to saving students on the cost of textbooks and course resources. There are 5 Project Types: Redesign a course around OER. Create ancillary materials to complement an existing OER. Author a... Continue Reading →
URL:https://asanewsletter.org/event/improving-student-learning-with-retrieval-strategies-summer-2025/
ATTACH;FMTTYPE=image/png:https://asanewsletter.org/wp-content/uploads/2022/07/banner-ned-themes-foundations-e1693948367597.png
END:VEVENT
BEGIN:VEVENT
DTSTART;TZID=America/Chicago:20250626T100000
DTEND;TZID=America/Chicago:20250626T111500
DTSTAMP:20260425T090120
CREATED:20250401T202728Z
LAST-MODIFIED:20250401T205205Z
UID:10005349-1750932000-1750936500@asanewsletter.org
SUMMARY:Teaching with AI Workshop: Part 4 (Summer 2025)
DESCRIPTION:Fall 2026 OER Learning Circles September 14 – November 29\, 2026 Apply by August 14 Collaborate with other Minnesota State faculty who are committed to saving students on the cost of textbooks and course resources. There are 5 Project Types: Redesign a course around OER. Create ancillary materials to complement an existing OER. Author a... Continue Reading →
URL:https://asanewsletter.org/event/teaching-with-ai-workshop-part-4-june-2025/
CATEGORIES:Workshop
ATTACH;FMTTYPE=image/png:https://asanewsletter.org/wp-content/uploads/2022/07/banner-ned-themes-academic-technologies-e1693948241660.png
END:VEVENT
END:VCALENDAR