BEGIN:VCALENDAR
VERSION:2.0
PRODID:-//ASA Newsletter - ECPv6.15.18//NONSGML v1.0//EN
CALSCALE:GREGORIAN
METHOD:PUBLISH
X-ORIGINAL-URL:https://asanewsletter.org
X-WR-CALDESC:Events for ASA Newsletter
REFRESH-INTERVAL;VALUE=DURATION:PT1H
X-Robots-Tag:noindex
X-PUBLISHED-TTL:PT1H
BEGIN:VTIMEZONE
TZID:America/Chicago
BEGIN:DAYLIGHT
TZOFFSETFROM:-0600
TZOFFSETTO:-0500
TZNAME:CDT
DTSTART:20250309T080000
END:DAYLIGHT
BEGIN:STANDARD
TZOFFSETFROM:-0500
TZOFFSETTO:-0600
TZNAME:CST
DTSTART:20251102T070000
END:STANDARD
BEGIN:DAYLIGHT
TZOFFSETFROM:-0600
TZOFFSETTO:-0500
TZNAME:CDT
DTSTART:20260308T080000
END:DAYLIGHT
BEGIN:STANDARD
TZOFFSETFROM:-0500
TZOFFSETTO:-0600
TZNAME:CST
DTSTART:20261101T070000
END:STANDARD
BEGIN:DAYLIGHT
TZOFFSETFROM:-0600
TZOFFSETTO:-0500
TZNAME:CDT
DTSTART:20270314T080000
END:DAYLIGHT
BEGIN:STANDARD
TZOFFSETFROM:-0500
TZOFFSETTO:-0600
TZNAME:CST
DTSTART:20271107T070000
END:STANDARD
END:VTIMEZONE
BEGIN:VEVENT
DTSTART;TZID=America/Chicago:20261001T100000
DTEND;TZID=America/Chicago:20261001T103000
DTSTAMP:20260419T171317
CREATED:20260417T013105Z
LAST-MODIFIED:20260417T013105Z
UID:10005554-1790848800-1790850600@asanewsletter.org
SUMMARY:Introduction to Regular and Substantive Interaction
DESCRIPTION:Are you noticing changes in student engagement\, wondering how AI is showing up in student work\, or questioning whether your activities still align with course outcomes? In this practical session\, a team of Minnesota State educators shares four concrete ways to use Microsoft Copilot to address these challenges while saving time and preserving academic rigor.... Continue Reading →
URL:https://asanewsletter.org/event/introduction-to-regular-and-substantive-interaction/
CATEGORIES:Webinars
ATTACH;FMTTYPE=image/png:https://asanewsletter.org/wp-content/uploads/2022/07/banner-ned-themes-foundations-e1693948367597.png
END:VEVENT
BEGIN:VEVENT
DTSTART;TZID=America/Chicago:20261020T120000
DTEND;TZID=America/Chicago:20261020T130000
DTSTAMP:20260419T171317
CREATED:20260417T013103Z
LAST-MODIFIED:20260417T013103Z
UID:10005553-1792497600-1792501200@asanewsletter.org
SUMMARY:Alternative Formats: UDL\, YuJa\, and Yu
DESCRIPTION:Are you noticing changes in student engagement\, wondering how AI is showing up in student work\, or questioning whether your activities still align with course outcomes? In this practical session\, a team of Minnesota State educators shares four concrete ways to use Microsoft Copilot to address these challenges while saving time and preserving academic rigor.... Continue Reading →
URL:https://asanewsletter.org/event/alternative-formats-udl-yuja-and-yu/
CATEGORIES:Webinars
ATTACH;FMTTYPE=image/png:https://asanewsletter.org/wp-content/uploads/2022/07/banner-ned-themes-accessibility-e1693948444801.png
END:VEVENT
BEGIN:VEVENT
DTSTART;TZID=America/Chicago:20261023T110000
DTEND;TZID=America/Chicago:20261023T113000
DTSTAMP:20260419T171317
CREATED:20260417T013114Z
LAST-MODIFIED:20260417T014340Z
UID:10005560-1792753200-1792755000@asanewsletter.org
SUMMARY:AI: Strategies for Instructors​
DESCRIPTION:Are you noticing changes in student engagement\, wondering how AI is showing up in student work\, or questioning whether your activities still align with course outcomes? In this practical session\, a team of Minnesota State educators shares four concrete ways to use Microsoft Copilot to address these challenges while saving time and preserving academic rigor.... Continue Reading →
URL:https://asanewsletter.org/event/ai-strategies-for-instructors/
CATEGORIES:Webinars
ATTACH;FMTTYPE=image/png:https://asanewsletter.org/wp-content/uploads/2022/07/banner-ned-themes-academic-technologies-e1693948241660.png
END:VEVENT
END:VCALENDAR