BEGIN:VCALENDAR
VERSION:2.0
PRODID:-//ASA Newsletter - ECPv6.15.18//NONSGML v1.0//EN
CALSCALE:GREGORIAN
METHOD:PUBLISH
X-ORIGINAL-URL:https://asanewsletter.org
X-WR-CALDESC:Events for ASA Newsletter
REFRESH-INTERVAL;VALUE=DURATION:PT1H
X-Robots-Tag:noindex
X-PUBLISHED-TTL:PT1H
BEGIN:VTIMEZONE
TZID:America/Chicago
BEGIN:DAYLIGHT
TZOFFSETFROM:-0600
TZOFFSETTO:-0500
TZNAME:CDT
DTSTART:20240310T080000
END:DAYLIGHT
BEGIN:STANDARD
TZOFFSETFROM:-0500
TZOFFSETTO:-0600
TZNAME:CST
DTSTART:20241103T070000
END:STANDARD
BEGIN:DAYLIGHT
TZOFFSETFROM:-0600
TZOFFSETTO:-0500
TZNAME:CDT
DTSTART:20250309T080000
END:DAYLIGHT
BEGIN:STANDARD
TZOFFSETFROM:-0500
TZOFFSETTO:-0600
TZNAME:CST
DTSTART:20251102T070000
END:STANDARD
BEGIN:DAYLIGHT
TZOFFSETFROM:-0600
TZOFFSETTO:-0500
TZNAME:CDT
DTSTART:20260308T080000
END:DAYLIGHT
BEGIN:STANDARD
TZOFFSETFROM:-0500
TZOFFSETTO:-0600
TZNAME:CST
DTSTART:20261101T070000
END:STANDARD
END:VTIMEZONE
BEGIN:VEVENT
DTSTART;VALUE=DATE:20251013
DTEND;VALUE=DATE:20251014
DTSTAMP:20260421T130934
CREATED:20250930T141118Z
LAST-MODIFIED:20251007T140520Z
UID:10005432-1760313600-1760399999@asanewsletter.org
SUMMARY:College Algebra Corequisite Learning Community (Fall 2025)
DESCRIPTION:Faculty Learning Community October 13 - December 5\, 2025 NED + Math Pathways The NED has partnered with Math Pathways staff to offer educational development opportunities tailored to support Minnesota State mathematics and statistics faculty. Quantitative Reasoning Corequisite Learning Community This learning community is designed to explore the implementation of corequisite support courses. Participants will... Continue Reading →
URL:https://asanewsletter.org/event/college-algebra-corequisite-learning-community-fall-2025/
CATEGORIES:Learning Communities
ATTACH;FMTTYPE=image/png:https://asanewsletter.org/wp-content/uploads/2022/07/banner-ned-themes-foundations-e1693948367597.png
END:VEVENT
BEGIN:VEVENT
DTSTART;VALUE=DATE:20251013
DTEND;VALUE=DATE:20251014
DTSTAMP:20260421T130934
CREATED:20250930T141519Z
LAST-MODIFIED:20251007T140542Z
UID:10005433-1760313600-1760399999@asanewsletter.org
SUMMARY:Statistics Corequisite Learning Community (Fall 2025)
DESCRIPTION:Faculty Learning Community October 13 - December 5\, 2025 NED + Math Pathways The NED has partnered with Math Pathways staff to offer educational development opportunities tailored to support Minnesota State mathematics and statistics faculty. Quantitative Reasoning Corequisite Learning Community This learning community is designed to explore the implementation of corequisite support courses. Participants will... Continue Reading →
URL:https://asanewsletter.org/event/statistics-corequisite-learning-community-fall-2025/
CATEGORIES:Learning Communities
ATTACH;FMTTYPE=image/png:https://asanewsletter.org/wp-content/uploads/2022/07/banner-ned-themes-foundations-e1693948367597.png
END:VEVENT
BEGIN:VEVENT
DTSTART;VALUE=DATE:20251013
DTEND;VALUE=DATE:20251014
DTSTAMP:20260421T130934
CREATED:20250930T141533Z
LAST-MODIFIED:20251007T140600Z
UID:10005434-1760313600-1760399999@asanewsletter.org
SUMMARY:Quantitative Reasoning Corequisite Learning Community (Fall 2025)
DESCRIPTION:Faculty Learning Community October 13 - December 5\, 2025 NED + Math Pathways The NED has partnered with Math Pathways staff to offer educational development opportunities tailored to support Minnesota State mathematics and statistics faculty. Quantitative Reasoning Corequisite Learning Community This learning community is designed to explore the implementation of corequisite support courses. Participants will... Continue Reading →
URL:https://asanewsletter.org/event/quantitative-reasoning-corequisite-learning-community-fall-2025/
CATEGORIES:Learning Communities
ATTACH;FMTTYPE=image/png:https://asanewsletter.org/wp-content/uploads/2022/07/banner-ned-themes-foundations-e1693948367597.png
END:VEVENT
END:VCALENDAR