BEGIN:VCALENDAR
VERSION:2.0
PRODID:-//ASA Newsletter - ECPv6.15.18//NONSGML v1.0//EN
CALSCALE:GREGORIAN
METHOD:PUBLISH
X-ORIGINAL-URL:https://asanewsletter.org
X-WR-CALDESC:Events for ASA Newsletter
REFRESH-INTERVAL;VALUE=DURATION:PT1H
X-Robots-Tag:noindex
X-PUBLISHED-TTL:PT1H
BEGIN:VTIMEZONE
TZID:America/Chicago
BEGIN:DAYLIGHT
TZOFFSETFROM:-0600
TZOFFSETTO:-0500
TZNAME:CDT
DTSTART:20190310T080000
END:DAYLIGHT
BEGIN:STANDARD
TZOFFSETFROM:-0500
TZOFFSETTO:-0600
TZNAME:CST
DTSTART:20191103T070000
END:STANDARD
BEGIN:DAYLIGHT
TZOFFSETFROM:-0600
TZOFFSETTO:-0500
TZNAME:CDT
DTSTART:20200308T080000
END:DAYLIGHT
BEGIN:STANDARD
TZOFFSETFROM:-0500
TZOFFSETTO:-0600
TZNAME:CST
DTSTART:20201101T070000
END:STANDARD
BEGIN:DAYLIGHT
TZOFFSETFROM:-0600
TZOFFSETTO:-0500
TZNAME:CDT
DTSTART:20210314T080000
END:DAYLIGHT
BEGIN:STANDARD
TZOFFSETFROM:-0500
TZOFFSETTO:-0600
TZNAME:CST
DTSTART:20211107T070000
END:STANDARD
END:VTIMEZONE
BEGIN:VEVENT
DTSTART;TZID=America/Chicago:20200427T120000
DTEND;TZID=America/Chicago:20200427T130000
DTSTAMP:20260420T233039
CREATED:20200423T181004Z
LAST-MODIFIED:20220629T210331Z
UID:10004286-1587988800-1587992400@asanewsletter.org
SUMMARY:D2L: Rubrics to Save Time Evaluating Student Work
DESCRIPTION:Are you noticing changes in student engagement\, wondering how AI is showing up in student work\, or questioning whether your activities still align with course outcomes? In this practical session\, a team of Minnesota State educators shares four concrete ways to use Microsoft Copilot to address these challenges while saving time and preserving academic rigor.... Continue Reading →
URL:https://asanewsletter.org/event/d2l-rubrics-to-save-time-evaluating-student-work/
LOCATION:Online
CATEGORIES:Webinars
ATTACH;FMTTYPE=image/png:https://asanewsletter.org/wp-content/uploads/2019/07/D2L-Brightspace.png
END:VEVENT
BEGIN:VEVENT
DTSTART;TZID=America/Chicago:20200429T100000
DTEND;TZID=America/Chicago:20200429T110000
DTSTAMP:20260420T233039
CREATED:20200423T181834Z
LAST-MODIFIED:20220629T210340Z
UID:10004287-1588154400-1588158000@asanewsletter.org
SUMMARY:D2L Quick Eval Tool: Time Saver for Grading
DESCRIPTION:Are you noticing changes in student engagement\, wondering how AI is showing up in student work\, or questioning whether your activities still align with course outcomes? In this practical session\, a team of Minnesota State educators shares four concrete ways to use Microsoft Copilot to address these challenges while saving time and preserving academic rigor.... Continue Reading →
URL:https://asanewsletter.org/event/d2l-quick-eval-tool-time-saver-for-grading/
LOCATION:Online
CATEGORIES:Webinars
ATTACH;FMTTYPE=image/png:https://asanewsletter.org/wp-content/uploads/2019/07/D2L-Brightspace.png
END:VEVENT
BEGIN:VEVENT
DTSTART;TZID=America/Chicago:20200429T120000
DTEND;TZID=America/Chicago:20200429T130000
DTSTAMP:20260420T233039
CREATED:20200127T190842Z
LAST-MODIFIED:20200424T183940Z
UID:10004184-1588161600-1588165200@asanewsletter.org
SUMMARY:Zoom Information Session
DESCRIPTION:Are you noticing changes in student engagement\, wondering how AI is showing up in student work\, or questioning whether your activities still align with course outcomes? In this practical session\, a team of Minnesota State educators shares four concrete ways to use Microsoft Copilot to address these challenges while saving time and preserving academic rigor.... Continue Reading →
URL:https://asanewsletter.org/event/zoom-information-session-9/
LOCATION:Online
CATEGORIES:Webinars
ATTACH;FMTTYPE=image/jpeg:https://asanewsletter.org/wp-content/uploads/2019/07/zoom-logo.jpg
END:VEVENT
END:VCALENDAR