BEGIN:VCALENDAR
VERSION:2.0
PRODID:-//ASA Newsletter - ECPv6.15.18//NONSGML v1.0//EN
CALSCALE:GREGORIAN
METHOD:PUBLISH
X-WR-CALNAME:ASA Newsletter
X-ORIGINAL-URL:https://asanewsletter.org
X-WR-CALDESC:Events for ASA Newsletter
REFRESH-INTERVAL;VALUE=DURATION:PT1H
X-Robots-Tag:noindex
X-PUBLISHED-TTL:PT1H
BEGIN:VTIMEZONE
TZID:America/Chicago
BEGIN:DAYLIGHT
TZOFFSETFROM:-0600
TZOFFSETTO:-0500
TZNAME:CDT
DTSTART:20190310T080000
END:DAYLIGHT
BEGIN:STANDARD
TZOFFSETFROM:-0500
TZOFFSETTO:-0600
TZNAME:CST
DTSTART:20191103T070000
END:STANDARD
BEGIN:DAYLIGHT
TZOFFSETFROM:-0600
TZOFFSETTO:-0500
TZNAME:CDT
DTSTART:20200308T080000
END:DAYLIGHT
BEGIN:STANDARD
TZOFFSETFROM:-0500
TZOFFSETTO:-0600
TZNAME:CST
DTSTART:20201101T070000
END:STANDARD
BEGIN:DAYLIGHT
TZOFFSETFROM:-0600
TZOFFSETTO:-0500
TZNAME:CDT
DTSTART:20210314T080000
END:DAYLIGHT
BEGIN:STANDARD
TZOFFSETFROM:-0500
TZOFFSETTO:-0600
TZNAME:CST
DTSTART:20211107T070000
END:STANDARD
END:VTIMEZONE
BEGIN:VEVENT
DTSTART;VALUE=DATE:20200525
DTEND;VALUE=DATE:20200526
DTSTAMP:20260424T133434
CREATED:20200508T170058Z
LAST-MODIFIED:20200519T180851Z
UID:10004291-1590364800-1590451199@asanewsletter.org
SUMMARY:Creating Accessible Course Documents (3 week short course)
DESCRIPTION:Fall 2026 OER Learning Circles September 14 – November 29\, 2026 Apply by August 14 Collaborate with other Minnesota State faculty who are committed to saving students on the cost of textbooks and course resources. There are 5 Project Types: Redesign a course around OER. Create ancillary materials to complement an existing OER. Author a... Continue Reading →
URL:https://asanewsletter.org/event/creating-accessible-course-documents-3-week-short-course/
LOCATION:Online
CATEGORIES:Short Courses
ATTACH;FMTTYPE=image/png:https://asanewsletter.org/wp-content/uploads/2020/05/blank-banner.png
END:VEVENT
BEGIN:VEVENT
DTSTART;VALUE=DATE:20200525
DTEND;VALUE=DATE:20200526
DTSTAMP:20260424T133434
CREATED:20200508T172358Z
LAST-MODIFIED:20220629T200241Z
UID:10004292-1590364800-1590451199@asanewsletter.org
SUMMARY:Improving Instructor-to-Student Interaction (3 week short course)
DESCRIPTION:Fall 2026 OER Learning Circles September 14 – November 29\, 2026 Apply by August 14 Collaborate with other Minnesota State faculty who are committed to saving students on the cost of textbooks and course resources. There are 5 Project Types: Redesign a course around OER. Create ancillary materials to complement an existing OER. Author a... Continue Reading →
URL:https://asanewsletter.org/event/improving-instructor-to-student-interaction-3-week-short-course/
LOCATION:Online
CATEGORIES:Short Courses
ATTACH;FMTTYPE=image/png:https://asanewsletter.org/wp-content/uploads/2019/07/D2L-Brightspace.png
END:VEVENT
BEGIN:VEVENT
DTSTART;TZID=America/Chicago:20200527T100000
DTEND;TZID=America/Chicago:20200527T105000
DTSTAMP:20260424T133434
CREATED:20200519T192803Z
LAST-MODIFIED:20220630T154152Z
UID:10004303-1590573600-1590576600@asanewsletter.org
SUMMARY:Communicating with Students via Intelligent Agents (Webinar)
DESCRIPTION:Fall 2026 OER Learning Circles September 14 – November 29\, 2026 Apply by August 14 Collaborate with other Minnesota State faculty who are committed to saving students on the cost of textbooks and course resources. There are 5 Project Types: Redesign a course around OER. Create ancillary materials to complement an existing OER. Author a... Continue Reading →
URL:https://asanewsletter.org/event/communicating-with-students-via-intelligent-agents-2/
LOCATION:Online
CATEGORIES:Webinars
ATTACH;FMTTYPE=image/png:https://asanewsletter.org/wp-content/uploads/2019/07/D2L-Brightspace.png
END:VEVENT
BEGIN:VEVENT
DTSTART;TZID=America/Chicago:20200528T100000
DTEND;TZID=America/Chicago:20200528T111500
DTSTAMP:20260424T133434
CREATED:20200429T185315Z
LAST-MODIFIED:20200520T211920Z
UID:10004288-1590660000-1590664500@asanewsletter.org
SUMMARY:You're About to Grow: Using the Finding Your Place College Podcast for Student Orientation\, Outreach and Virtual Mentoring (Webinar)
DESCRIPTION:Fall 2026 OER Learning Circles September 14 – November 29\, 2026 Apply by August 14 Collaborate with other Minnesota State faculty who are committed to saving students on the cost of textbooks and course resources. There are 5 Project Types: Redesign a course around OER. Create ancillary materials to complement an existing OER. Author a... Continue Reading →
URL:https://asanewsletter.org/event/youre-about-to-grow-using-the%e2%80%affinding-your-place-college-podcast%e2%80%affor-student-orientation-outreach-and-virtual-mentoring/
LOCATION:Online
CATEGORIES:Webinars
ATTACH;FMTTYPE=image/png:https://asanewsletter.org/wp-content/uploads/2020/04/Youre-About-to-Grow-Banner.png
END:VEVENT
BEGIN:VEVENT
DTSTART;TZID=America/Chicago:20200528T140000
DTEND;TZID=America/Chicago:20200528T145000
DTSTAMP:20260424T133434
CREATED:20200520T211718Z
LAST-MODIFIED:20220629T204621Z
UID:10004312-1590674400-1590677400@asanewsletter.org
SUMMARY:CRP and Trauma Responsive Practices (Webinar)
DESCRIPTION:Fall 2026 OER Learning Circles September 14 – November 29\, 2026 Apply by August 14 Collaborate with other Minnesota State faculty who are committed to saving students on the cost of textbooks and course resources. There are 5 Project Types: Redesign a course around OER. Create ancillary materials to complement an existing OER. Author a... Continue Reading →
URL:https://asanewsletter.org/event/crp-and-trauma-responsive-practices/
LOCATION:Online
CATEGORIES:Webinars
END:VEVENT
BEGIN:VEVENT
DTSTART;TZID=America/Chicago:20200529T110000
DTEND;TZID=America/Chicago:20200529T120000
DTSTAMP:20260424T133434
CREATED:20200519T193204Z
LAST-MODIFIED:20220630T154223Z
UID:10004305-1590750000-1590753600@asanewsletter.org
SUMMARY:Announcements as a Communication Tool in D2L Brightspace (Webinar)
DESCRIPTION:Fall 2026 OER Learning Circles September 14 – November 29\, 2026 Apply by August 14 Collaborate with other Minnesota State faculty who are committed to saving students on the cost of textbooks and course resources. There are 5 Project Types: Redesign a course around OER. Create ancillary materials to complement an existing OER. Author a... Continue Reading →
URL:https://asanewsletter.org/event/announcements-as-a-communication-tool-in-d2l-brightspace/
LOCATION:Online
CATEGORIES:Webinars
ATTACH;FMTTYPE=image/png:https://asanewsletter.org/wp-content/uploads/2019/07/D2L-Brightspace.png
END:VEVENT
END:VCALENDAR