BEGIN:VCALENDAR
VERSION:2.0
PRODID:-//ASA Newsletter - ECPv6.15.18//NONSGML v1.0//EN
CALSCALE:GREGORIAN
METHOD:PUBLISH
X-ORIGINAL-URL:https://asanewsletter.org
X-WR-CALDESC:Events for ASA Newsletter
REFRESH-INTERVAL;VALUE=DURATION:PT1H
X-Robots-Tag:noindex
X-PUBLISHED-TTL:PT1H
BEGIN:VTIMEZONE
TZID:America/Chicago
BEGIN:DAYLIGHT
TZOFFSETFROM:-0600
TZOFFSETTO:-0500
TZNAME:CDT
DTSTART:20190310T080000
END:DAYLIGHT
BEGIN:STANDARD
TZOFFSETFROM:-0500
TZOFFSETTO:-0600
TZNAME:CST
DTSTART:20191103T070000
END:STANDARD
BEGIN:DAYLIGHT
TZOFFSETFROM:-0600
TZOFFSETTO:-0500
TZNAME:CDT
DTSTART:20200308T080000
END:DAYLIGHT
BEGIN:STANDARD
TZOFFSETFROM:-0500
TZOFFSETTO:-0600
TZNAME:CST
DTSTART:20201101T070000
END:STANDARD
BEGIN:DAYLIGHT
TZOFFSETFROM:-0600
TZOFFSETTO:-0500
TZNAME:CDT
DTSTART:20210314T080000
END:DAYLIGHT
BEGIN:STANDARD
TZOFFSETFROM:-0500
TZOFFSETTO:-0600
TZNAME:CST
DTSTART:20211107T070000
END:STANDARD
END:VTIMEZONE
BEGIN:VEVENT
DTSTART;VALUE=DATE:20200928
DTEND;VALUE=DATE:20200929
DTSTAMP:20260420T233034
CREATED:20200803T173214Z
LAST-MODIFIED:20220630T182640Z
UID:10004416-1601251200-1601337599@asanewsletter.org
SUMMARY:Aligning Instructional Strategies with Kaltura MediaSpace - Option 2 (3 week short course)
DESCRIPTION:Are you noticing changes in student engagement\, wondering how AI is showing up in student work\, or questioning whether your activities still align with course outcomes? In this practical session\, a team of Minnesota State educators shares four concrete ways to use Microsoft Copilot to address these challenges while saving time and preserving academic rigor.... Continue Reading →
URL:https://asanewsletter.org/event/aligning-instructional-strategies-with-kaltura-mediaspace-option-2-3-week-short-course/
LOCATION:Online
CATEGORIES:Short Courses
END:VEVENT
BEGIN:VEVENT
DTSTART;TZID=America/Chicago:20200928T120000
DTEND;TZID=America/Chicago:20200928T130000
DTSTAMP:20260420T233034
CREATED:20200908T214100Z
LAST-MODIFIED:20220629T194945Z
UID:10004467-1601294400-1601298000@asanewsletter.org
SUMMARY:Awards and Certificates in D2L (Webinar)
DESCRIPTION:Are you noticing changes in student engagement\, wondering how AI is showing up in student work\, or questioning whether your activities still align with course outcomes? In this practical session\, a team of Minnesota State educators shares four concrete ways to use Microsoft Copilot to address these challenges while saving time and preserving academic rigor.... Continue Reading →
URL:https://asanewsletter.org/event/awards-and-certificates-in-d2l-webinar/
LOCATION:Online
CATEGORIES:Webinars
END:VEVENT
BEGIN:VEVENT
DTSTART;TZID=America/Chicago:20200929T090000
DTEND;TZID=America/Chicago:20200929T100000
DTSTAMP:20260420T233034
CREATED:20200728T151206Z
LAST-MODIFIED:20220629T195004Z
UID:10004378-1601370000-1601373600@asanewsletter.org
SUMMARY:Writing Effective Assessment Questions - Option 1 (Webinar)
DESCRIPTION:Are you noticing changes in student engagement\, wondering how AI is showing up in student work\, or questioning whether your activities still align with course outcomes? In this practical session\, a team of Minnesota State educators shares four concrete ways to use Microsoft Copilot to address these challenges while saving time and preserving academic rigor.... Continue Reading →
URL:https://asanewsletter.org/event/writing-effective-assessment-questions-webinar/
LOCATION:Online
CATEGORIES:Webinars
END:VEVENT
BEGIN:VEVENT
DTSTART;TZID=America/Chicago:20200929T130000
DTEND;TZID=America/Chicago:20200929T150000
DTSTAMP:20260420T233034
CREATED:20200819T164648Z
LAST-MODIFIED:20220629T164601Z
UID:10004445-1601384400-1601391600@asanewsletter.org
SUMMARY:Drop-In Session – Academic Continuity
DESCRIPTION:Are you noticing changes in student engagement\, wondering how AI is showing up in student work\, or questioning whether your activities still align with course outcomes? In this practical session\, a team of Minnesota State educators shares four concrete ways to use Microsoft Copilot to address these challenges while saving time and preserving academic rigor.... Continue Reading →
URL:https://asanewsletter.org/event/drop-in-session-academic-continuity-8/2020-09-29/
LOCATION:Online
CATEGORIES:Webinars
END:VEVENT
BEGIN:VEVENT
DTSTART;TZID=America/Chicago:20200930T100000
DTEND;TZID=America/Chicago:20200930T110000
DTSTAMP:20260420T233034
CREATED:20200908T214322Z
LAST-MODIFIED:20220629T195102Z
UID:10004468-1601460000-1601463600@asanewsletter.org
SUMMARY:Getting started with the Gradebook (Webinar)
DESCRIPTION:Are you noticing changes in student engagement\, wondering how AI is showing up in student work\, or questioning whether your activities still align with course outcomes? In this practical session\, a team of Minnesota State educators shares four concrete ways to use Microsoft Copilot to address these challenges while saving time and preserving academic rigor.... Continue Reading →
URL:https://asanewsletter.org/event/getting-started-with-the-gradebook-webinar/
LOCATION:Online
CATEGORIES:Webinars
END:VEVENT
BEGIN:VEVENT
DTSTART;TZID=America/Chicago:20200930T130000
DTEND;TZID=America/Chicago:20200930T140000
DTSTAMP:20260420T233034
CREATED:20200902T151325Z
LAST-MODIFIED:20220630T160635Z
UID:10004283-1601470800-1601474400@asanewsletter.org
SUMMARY:Micromessaging – The Role of Faculty in Student Engagement and Success (Webinar)
DESCRIPTION:Are you noticing changes in student engagement\, wondering how AI is showing up in student work\, or questioning whether your activities still align with course outcomes? In this practical session\, a team of Minnesota State educators shares four concrete ways to use Microsoft Copilot to address these challenges while saving time and preserving academic rigor.... Continue Reading →
URL:https://asanewsletter.org/event/equity-minded-practices-supporting-student-engagement-and-success-webinar/
LOCATION:Online
CATEGORIES:Webinars
END:VEVENT
BEGIN:VEVENT
DTSTART;TZID=America/Chicago:20200930T143000
DTEND;TZID=America/Chicago:20200930T160000
DTSTAMP:20260420T233034
CREATED:20200921T200326Z
LAST-MODIFIED:20220630T161132Z
UID:10004477-1601476200-1601481600@asanewsletter.org
SUMMARY:Open Education Network Webinar
DESCRIPTION:Are you noticing changes in student engagement\, wondering how AI is showing up in student work\, or questioning whether your activities still align with course outcomes? In this practical session\, a team of Minnesota State educators shares four concrete ways to use Microsoft Copilot to address these challenges while saving time and preserving academic rigor.... Continue Reading →
URL:https://asanewsletter.org/event/open-education-network-webinar/
LOCATION:Online
CATEGORIES:Webinars
ATTACH;FMTTYPE=image/png:https://asanewsletter.org/wp-content/uploads/2020/09/Twitter-Upcoming-Events-13.png
END:VEVENT
BEGIN:VEVENT
DTSTART;TZID=America/Chicago:20201001T120000
DTEND;TZID=America/Chicago:20201001T130000
DTSTAMP:20260420T233034
CREATED:20200810T150301Z
LAST-MODIFIED:20220630T182649Z
UID:10004237-1601553600-1601557200@asanewsletter.org
SUMMARY:Kaltura MediaSpace Webinar:  Creating videos that support the cognitive and affective domains of learning - Option 2
DESCRIPTION:Are you noticing changes in student engagement\, wondering how AI is showing up in student work\, or questioning whether your activities still align with course outcomes? In this practical session\, a team of Minnesota State educators shares four concrete ways to use Microsoft Copilot to address these challenges while saving time and preserving academic rigor.... Continue Reading →
URL:https://asanewsletter.org/event/kaltura-mediaspace-webinar-creating-videos-that-support-the-cognitive-and-affective-domains-of-learning-option-2/
LOCATION:Online
CATEGORIES:Webinars
ATTACH;FMTTYPE=image/jpeg:https://asanewsletter.org/wp-content/uploads/2020/03/Kaltura-Circle-3.jpg
END:VEVENT
END:VCALENDAR