BEGIN:VCALENDAR
VERSION:2.0
PRODID:-//ASA Newsletter - ECPv6.15.18//NONSGML v1.0//EN
CALSCALE:GREGORIAN
METHOD:PUBLISH
X-WR-CALNAME:ASA Newsletter
X-ORIGINAL-URL:https://asanewsletter.org
X-WR-CALDESC:Events for ASA Newsletter
REFRESH-INTERVAL;VALUE=DURATION:PT1H
X-Robots-Tag:noindex
X-PUBLISHED-TTL:PT1H
BEGIN:VTIMEZONE
TZID:America/Chicago
BEGIN:DAYLIGHT
TZOFFSETFROM:-0600
TZOFFSETTO:-0500
TZNAME:CDT
DTSTART:20210314T080000
END:DAYLIGHT
BEGIN:STANDARD
TZOFFSETFROM:-0500
TZOFFSETTO:-0600
TZNAME:CST
DTSTART:20211107T070000
END:STANDARD
BEGIN:DAYLIGHT
TZOFFSETFROM:-0600
TZOFFSETTO:-0500
TZNAME:CDT
DTSTART:20220313T080000
END:DAYLIGHT
BEGIN:STANDARD
TZOFFSETFROM:-0500
TZOFFSETTO:-0600
TZNAME:CST
DTSTART:20221106T070000
END:STANDARD
BEGIN:DAYLIGHT
TZOFFSETFROM:-0600
TZOFFSETTO:-0500
TZNAME:CDT
DTSTART:20230312T080000
END:DAYLIGHT
BEGIN:STANDARD
TZOFFSETFROM:-0500
TZOFFSETTO:-0600
TZNAME:CST
DTSTART:20231105T070000
END:STANDARD
END:VTIMEZONE
BEGIN:VEVENT
DTSTART;TZID=America/Chicago:20220516T110000
DTEND;TZID=America/Chicago:20220516T114500
DTSTAMP:20260423T223050
CREATED:20220422T202956Z
LAST-MODIFIED:20220422T202956Z
UID:10004801-1652698800-1652701500@asanewsletter.org
SUMMARY:Using the Awards Tool in D2L as Instructor-to-Student Communication
DESCRIPTION:Fall 2026 OER Learning Circles September 14 – November 29\, 2026 Apply by August 14 Collaborate with other Minnesota State faculty who are committed to saving students on the cost of textbooks and course resources. There are 5 Project Types: Redesign a course around OER. Create ancillary materials to complement an existing OER. Author a... Continue Reading →
URL:https://asanewsletter.org/event/using-the-awards-tool-in-d2l-as-instructor-to-student-communication/
LOCATION:Online
CATEGORIES:Webinars
END:VEVENT
BEGIN:VEVENT
DTSTART;TZID=America/Chicago:20220516T120000
DTEND;TZID=America/Chicago:20220516T124500
DTSTAMP:20260423T223050
CREATED:20220125T175242Z
LAST-MODIFIED:20220125T175242Z
UID:10004777-1652702400-1652705100@asanewsletter.org
SUMMARY:What's New in D2L Brightspace: May 2022
DESCRIPTION:Fall 2026 OER Learning Circles September 14 – November 29\, 2026 Apply by August 14 Collaborate with other Minnesota State faculty who are committed to saving students on the cost of textbooks and course resources. There are 5 Project Types: Redesign a course around OER. Create ancillary materials to complement an existing OER. Author a... Continue Reading →
URL:https://asanewsletter.org/event/whats-new-in-d2l-brightspace-may-2022/
LOCATION:Online
CATEGORIES:Webinars
END:VEVENT
BEGIN:VEVENT
DTSTART;TZID=America/Chicago:20220516T143000
DTEND;TZID=America/Chicago:20220516T160000
DTSTAMP:20260423T223050
CREATED:20210611T202100Z
LAST-MODIFIED:20220630T183530Z
UID:10004658-1652711400-1652716800@asanewsletter.org
SUMMARY:Open Education Network Webinar
DESCRIPTION:Fall 2026 OER Learning Circles September 14 – November 29\, 2026 Apply by August 14 Collaborate with other Minnesota State faculty who are committed to saving students on the cost of textbooks and course resources. There are 5 Project Types: Redesign a course around OER. Create ancillary materials to complement an existing OER. Author a... Continue Reading →
URL:https://asanewsletter.org/event/open-education-network-webinar-6/
LOCATION:Online
CATEGORIES:Webinars
END:VEVENT
BEGIN:VEVENT
DTSTART;TZID=America/Chicago:20220517T090000
DTEND;TZID=America/Chicago:20220517T160000
DTSTAMP:20260423T223050
CREATED:20211025T201146Z
LAST-MODIFIED:20220516T193407Z
UID:10004487-1652778000-1652803200@asanewsletter.org
SUMMARY:Teach Together Minnesota! 2022
DESCRIPTION:Fall 2026 OER Learning Circles September 14 – November 29\, 2026 Apply by August 14 Collaborate with other Minnesota State faculty who are committed to saving students on the cost of textbooks and course resources. There are 5 Project Types: Redesign a course around OER. Create ancillary materials to complement an existing OER. Author a... Continue Reading →
URL:https://asanewsletter.org/event/teach-together-minnesota-2022/
LOCATION:Online
CATEGORIES:Conference (online)
END:VEVENT
BEGIN:VEVENT
DTSTART;TZID=America/Chicago:20220518T090000
DTEND;TZID=America/Chicago:20220518T100000
DTSTAMP:20260423T223050
CREATED:20220426T193749Z
LAST-MODIFIED:20220426T193749Z
UID:10004802-1652864400-1652868000@asanewsletter.org
SUMMARY:Designing Your Course for Student Learning Webinar 1
DESCRIPTION:Fall 2026 OER Learning Circles September 14 – November 29\, 2026 Apply by August 14 Collaborate with other Minnesota State faculty who are committed to saving students on the cost of textbooks and course resources. There are 5 Project Types: Redesign a course around OER. Create ancillary materials to complement an existing OER. Author a... Continue Reading →
URL:https://asanewsletter.org/event/designing-your-course-for-student-learning-webinar-1/
LOCATION:Online
CATEGORIES:Webinars
END:VEVENT
END:VCALENDAR