BEGIN:VCALENDAR
VERSION:2.0
PRODID:-//ASA Newsletter - ECPv6.15.18//NONSGML v1.0//EN
CALSCALE:GREGORIAN
METHOD:PUBLISH
X-ORIGINAL-URL:https://asanewsletter.org
X-WR-CALDESC:Events for ASA Newsletter
REFRESH-INTERVAL;VALUE=DURATION:PT1H
X-Robots-Tag:noindex
X-PUBLISHED-TTL:PT1H
BEGIN:VTIMEZONE
TZID:America/Chicago
BEGIN:DAYLIGHT
TZOFFSETFROM:-0600
TZOFFSETTO:-0500
TZNAME:CDT
DTSTART:20210314T080000
END:DAYLIGHT
BEGIN:STANDARD
TZOFFSETFROM:-0500
TZOFFSETTO:-0600
TZNAME:CST
DTSTART:20211107T070000
END:STANDARD
BEGIN:DAYLIGHT
TZOFFSETFROM:-0600
TZOFFSETTO:-0500
TZNAME:CDT
DTSTART:20220313T080000
END:DAYLIGHT
BEGIN:STANDARD
TZOFFSETFROM:-0500
TZOFFSETTO:-0600
TZNAME:CST
DTSTART:20221106T070000
END:STANDARD
BEGIN:DAYLIGHT
TZOFFSETFROM:-0600
TZOFFSETTO:-0500
TZNAME:CDT
DTSTART:20230312T080000
END:DAYLIGHT
BEGIN:STANDARD
TZOFFSETFROM:-0500
TZOFFSETTO:-0600
TZNAME:CST
DTSTART:20231105T070000
END:STANDARD
END:VTIMEZONE
BEGIN:VEVENT
DTSTART;VALUE=DATE:20220531
DTEND;VALUE=DATE:20220601
DTSTAMP:20260421T092845
CREATED:20220307T211010Z
LAST-MODIFIED:20220427T172719Z
UID:10004508-1653955200-1654041599@asanewsletter.org
SUMMARY:Creating Accessible Course Documents: Summer 2022
DESCRIPTION:Are you noticing changes in student engagement\, wondering how AI is showing up in student work\, or questioning whether your activities still align with course outcomes? In this practical session\, a team of Minnesota State educators shares four concrete ways to use Microsoft Copilot to address these challenges while saving time and preserving academic rigor.... Continue Reading →
URL:https://asanewsletter.org/event/creating-accessible-course-documents-summer-2022/
LOCATION:Online
CATEGORIES:Short Courses
END:VEVENT
BEGIN:VEVENT
DTSTART;VALUE=DATE:20220531
DTEND;VALUE=DATE:20220601
DTSTAMP:20260421T092845
CREATED:20220307T215023Z
LAST-MODIFIED:20220408T174755Z
UID:10004511-1653955200-1654041599@asanewsletter.org
SUMMARY:Integrating Retrieval Practice: Summer 2022
DESCRIPTION:Are you noticing changes in student engagement\, wondering how AI is showing up in student work\, or questioning whether your activities still align with course outcomes? In this practical session\, a team of Minnesota State educators shares four concrete ways to use Microsoft Copilot to address these challenges while saving time and preserving academic rigor.... Continue Reading →
URL:https://asanewsletter.org/event/integrating-retrieval-practice-summer-2022/
LOCATION:Online
CATEGORIES:Short Courses
ATTACH;FMTTYPE=image/png:https://asanewsletter.org/wp-content/uploads/2021/03/banner-essentials-of-being-a-scholarly-teacher-wheel-special-topics.png
END:VEVENT
BEGIN:VEVENT
DTSTART;VALUE=DATE:20220531
DTEND;VALUE=DATE:20220601
DTSTAMP:20260421T092845
CREATED:20220308T205800Z
LAST-MODIFIED:20220314T164427Z
UID:10004790-1653955200-1654041599@asanewsletter.org
SUMMARY:Culturally Responsive Pedagogy Learning Community: Summer 2022
DESCRIPTION:Are you noticing changes in student engagement\, wondering how AI is showing up in student work\, or questioning whether your activities still align with course outcomes? In this practical session\, a team of Minnesota State educators shares four concrete ways to use Microsoft Copilot to address these challenges while saving time and preserving academic rigor.... Continue Reading →
URL:https://asanewsletter.org/event/culturally-responsive-pedagogy-learning-community-summer-2022/
LOCATION:Online
CATEGORIES:Learning Communities
END:VEVENT
BEGIN:VEVENT
DTSTART;TZID=America/Chicago:20220531T100000
DTEND;TZID=America/Chicago:20220531T110000
DTSTAMP:20260421T092845
CREATED:20220526T142946Z
LAST-MODIFIED:20220526T143020Z
UID:10004543-1653991200-1653994800@asanewsletter.org
SUMMARY:Equity and Technology Webinar 1
DESCRIPTION:Are you noticing changes in student engagement\, wondering how AI is showing up in student work\, or questioning whether your activities still align with course outcomes? In this practical session\, a team of Minnesota State educators shares four concrete ways to use Microsoft Copilot to address these challenges while saving time and preserving academic rigor.... Continue Reading →
URL:https://asanewsletter.org/event/equity-and-technology-webinar-1/
LOCATION:Online
CATEGORIES:Webinars
END:VEVENT
BEGIN:VEVENT
DTSTART;TZID=America/Chicago:20220602T100000
DTEND;TZID=America/Chicago:20220602T110000
DTSTAMP:20260421T092845
CREATED:20220523T161217Z
LAST-MODIFIED:20220523T161217Z
UID:10004538-1654164000-1654167600@asanewsletter.org
SUMMARY:Using Zoom in Hybrid and Hyflex Classrooms
DESCRIPTION:Are you noticing changes in student engagement\, wondering how AI is showing up in student work\, or questioning whether your activities still align with course outcomes? In this practical session\, a team of Minnesota State educators shares four concrete ways to use Microsoft Copilot to address these challenges while saving time and preserving academic rigor.... Continue Reading →
URL:https://asanewsletter.org/event/using-zoom-in-hybrid-and-hyflex-classrooms/
LOCATION:Online
CATEGORIES:Webinars
END:VEVENT
END:VCALENDAR