BEGIN:VCALENDAR
VERSION:2.0
PRODID:-//ASA Newsletter - ECPv6.15.18//NONSGML v1.0//EN
CALSCALE:GREGORIAN
METHOD:PUBLISH
X-WR-CALNAME:ASA Newsletter
X-ORIGINAL-URL:https://asanewsletter.org
X-WR-CALDESC:Events for ASA Newsletter
REFRESH-INTERVAL;VALUE=DURATION:PT1H
X-Robots-Tag:noindex
X-PUBLISHED-TTL:PT1H
BEGIN:VTIMEZONE
TZID:America/Chicago
BEGIN:DAYLIGHT
TZOFFSETFROM:-0600
TZOFFSETTO:-0500
TZNAME:CDT
DTSTART:20220313T080000
END:DAYLIGHT
BEGIN:STANDARD
TZOFFSETFROM:-0500
TZOFFSETTO:-0600
TZNAME:CST
DTSTART:20221106T070000
END:STANDARD
BEGIN:DAYLIGHT
TZOFFSETFROM:-0600
TZOFFSETTO:-0500
TZNAME:CDT
DTSTART:20230312T080000
END:DAYLIGHT
BEGIN:STANDARD
TZOFFSETFROM:-0500
TZOFFSETTO:-0600
TZNAME:CST
DTSTART:20231105T070000
END:STANDARD
BEGIN:DAYLIGHT
TZOFFSETFROM:-0600
TZOFFSETTO:-0500
TZNAME:CDT
DTSTART:20240310T080000
END:DAYLIGHT
BEGIN:STANDARD
TZOFFSETFROM:-0500
TZOFFSETTO:-0600
TZNAME:CST
DTSTART:20241103T070000
END:STANDARD
END:VTIMEZONE
BEGIN:VEVENT
DTSTART;VALUE=DATE:20230320
DTEND;VALUE=DATE:20230321
DTSTAMP:20260424T040715
CREATED:20221027T161806Z
LAST-MODIFIED:20230110T193000Z
UID:10004864-1679270400-1679356799@asanewsletter.org
SUMMARY:Grade Smarter Not Harder
DESCRIPTION:Fall 2026 OER Learning Circles September 14 – November 29\, 2026 Apply by August 14 Collaborate with other Minnesota State faculty who are committed to saving students on the cost of textbooks and course resources. There are 5 Project Types: Redesign a course around OER. Create ancillary materials to complement an existing OER. Author a... Continue Reading →
URL:https://asanewsletter.org/event/grade-smarter-not-harder/
LOCATION:Online
CATEGORIES:Short Courses
ATTACH;FMTTYPE=image/png:https://asanewsletter.org/wp-content/uploads/2022/07/banner-ned-themes-foundations-e1693948367597.png
END:VEVENT
BEGIN:VEVENT
DTSTART;VALUE=DATE:20230320
DTEND;VALUE=DATE:20230321
DTSTAMP:20260424T040715
CREATED:20221028T144536Z
LAST-MODIFIED:20221220T141428Z
UID:10004871-1679270400-1679356799@asanewsletter.org
SUMMARY:Technology Tools for Teaching
DESCRIPTION:Fall 2026 OER Learning Circles September 14 – November 29\, 2026 Apply by August 14 Collaborate with other Minnesota State faculty who are committed to saving students on the cost of textbooks and course resources. There are 5 Project Types: Redesign a course around OER. Create ancillary materials to complement an existing OER. Author a... Continue Reading →
URL:https://asanewsletter.org/event/technology-tools-for-teaching/
LOCATION:Online
CATEGORIES:Short Courses
ATTACH;FMTTYPE=image/png:https://asanewsletter.org/wp-content/uploads/2022/07/banner-ned-themes-academic-technologies-e1693948241660.png
END:VEVENT
BEGIN:VEVENT
DTSTART;TZID=America/Chicago:20230320T090000
DTEND;TZID=America/Chicago:20230320T103000
DTSTAMP:20260424T040715
CREATED:20220708T170410Z
LAST-MODIFIED:20221219T225152Z
UID:10004823-1679302800-1679308200@asanewsletter.org
SUMMARY:OEN Webinar
DESCRIPTION:Fall 2026 OER Learning Circles September 14 – November 29\, 2026 Apply by August 14 Collaborate with other Minnesota State faculty who are committed to saving students on the cost of textbooks and course resources. There are 5 Project Types: Redesign a course around OER. Create ancillary materials to complement an existing OER. Author a... Continue Reading →
URL:https://asanewsletter.org/event/oen-webinar-4/
LOCATION:Online
CATEGORIES:Webinars
ATTACH;FMTTYPE=image/png:https://asanewsletter.org/wp-content/uploads/2022/07/banner-ned-themes-oer-e1693948342542.png
END:VEVENT
BEGIN:VEVENT
DTSTART;TZID=America/Chicago:20230320T120000
DTEND;TZID=America/Chicago:20230320T130000
DTSTAMP:20260424T040715
CREATED:20230206T220905Z
LAST-MODIFIED:20230206T220905Z
UID:10004901-1679313600-1679317200@asanewsletter.org
SUMMARY:D2L: New Content Experience
DESCRIPTION:Fall 2026 OER Learning Circles September 14 – November 29\, 2026 Apply by August 14 Collaborate with other Minnesota State faculty who are committed to saving students on the cost of textbooks and course resources. There are 5 Project Types: Redesign a course around OER. Create ancillary materials to complement an existing OER. Author a... Continue Reading →
URL:https://asanewsletter.org/event/d2l-new-content-experience/
LOCATION:Online
CATEGORIES:Webinars
ATTACH;FMTTYPE=image/png:https://asanewsletter.org/wp-content/uploads/2022/07/banner-ned-themes-academic-technologies-e1693948241660.png
END:VEVENT
BEGIN:VEVENT
DTSTART;TZID=America/Chicago:20230322T100000
DTEND;TZID=America/Chicago:20230322T110000
DTSTAMP:20260424T040715
CREATED:20230206T221530Z
LAST-MODIFIED:20230206T221530Z
UID:10004902-1679479200-1679482800@asanewsletter.org
SUMMARY:New Content Experience (repeat session)
DESCRIPTION:Fall 2026 OER Learning Circles September 14 – November 29\, 2026 Apply by August 14 Collaborate with other Minnesota State faculty who are committed to saving students on the cost of textbooks and course resources. There are 5 Project Types: Redesign a course around OER. Create ancillary materials to complement an existing OER. Author a... Continue Reading →
URL:https://asanewsletter.org/event/new-content-experience-repeat-session/
LOCATION:Online
CATEGORIES:Webinars
END:VEVENT
BEGIN:VEVENT
DTSTART;TZID=America/Chicago:20230322T120000
DTEND;TZID=America/Chicago:20230322T130000
DTSTAMP:20260424T040715
CREATED:20221122T195017Z
LAST-MODIFIED:20221122T195138Z
UID:10004877-1679486400-1679490000@asanewsletter.org
SUMMARY:UDL: Ideas that can be incorporated into your online courses.
DESCRIPTION:Fall 2026 OER Learning Circles September 14 – November 29\, 2026 Apply by August 14 Collaborate with other Minnesota State faculty who are committed to saving students on the cost of textbooks and course resources. There are 5 Project Types: Redesign a course around OER. Create ancillary materials to complement an existing OER. Author a... Continue Reading →
URL:https://asanewsletter.org/event/udl-ideas-that-can-be-incorporated-into-your-online-courses/
LOCATION:Online
CATEGORIES:Webinars
ATTACH;FMTTYPE=image/png:https://asanewsletter.org/wp-content/uploads/2022/07/banner-ned-themes-accessibility-e1693948444801.png
END:VEVENT
BEGIN:VEVENT
DTSTART;TZID=America/Chicago:20230322T143000
DTEND;TZID=America/Chicago:20230322T153000
DTSTAMP:20260424T040715
CREATED:20230224T220803Z
LAST-MODIFIED:20230224T220803Z
UID:10004907-1679495400-1679499000@asanewsletter.org
SUMMARY:2024 BOT Awards Information Session: March
DESCRIPTION:Fall 2026 OER Learning Circles September 14 – November 29\, 2026 Apply by August 14 Collaborate with other Minnesota State faculty who are committed to saving students on the cost of textbooks and course resources. There are 5 Project Types: Redesign a course around OER. Create ancillary materials to complement an existing OER. Author a... Continue Reading →
URL:https://asanewsletter.org/event/bot-awards-information-session-3/
LOCATION:Online
CATEGORIES:Webinars
ATTACH;FMTTYPE=image/png:https://asanewsletter.org/wp-content/uploads/2019/09/bot-awards-banner-e1693948294828.png
END:VEVENT
BEGIN:VEVENT
DTSTART;TZID=America/Chicago:20230323T090000
DTEND;TZID=America/Chicago:20230323T100000
DTSTAMP:20260424T040715
CREATED:20230206T190827Z
LAST-MODIFIED:20230323T173351Z
UID:10004894-1679562000-1679565600@asanewsletter.org
SUMMARY:The Faculty Journey Mid-Career: Session One
DESCRIPTION:Fall 2026 OER Learning Circles September 14 – November 29\, 2026 Apply by August 14 Collaborate with other Minnesota State faculty who are committed to saving students on the cost of textbooks and course resources. There are 5 Project Types: Redesign a course around OER. Create ancillary materials to complement an existing OER. Author a... Continue Reading →
URL:https://asanewsletter.org/event/the-faculty-journey-mid-career-session-one/
LOCATION:Online
CATEGORIES:Webinars
ATTACH;FMTTYPE=image/gif:https://asanewsletter.org/wp-content/uploads/2022/09/ned-excellence-series.gif
END:VEVENT
BEGIN:VEVENT
DTSTART;TZID=America/Chicago:20230323T140000
DTEND;TZID=America/Chicago:20230323T150000
DTSTAMP:20260424T040715
CREATED:20230306T185605Z
LAST-MODIFIED:20230306T185605Z
UID:10004910-1679580000-1679583600@asanewsletter.org
SUMMARY:ChatGPT and Syllabus Considerations
DESCRIPTION:Fall 2026 OER Learning Circles September 14 – November 29\, 2026 Apply by August 14 Collaborate with other Minnesota State faculty who are committed to saving students on the cost of textbooks and course resources. There are 5 Project Types: Redesign a course around OER. Create ancillary materials to complement an existing OER. Author a... Continue Reading →
URL:https://asanewsletter.org/event/chatgpt-and-syllabus-considerations/
LOCATION:Online
CATEGORIES:Webinars
ATTACH;FMTTYPE=image/png:https://asanewsletter.org/wp-content/uploads/2022/07/banner-ned-themes-academic-technologies-e1693948241660.png
END:VEVENT
END:VCALENDAR