BEGIN:VCALENDAR
VERSION:2.0
PRODID:-//ASA Newsletter - ECPv6.15.18//NONSGML v1.0//EN
CALSCALE:GREGORIAN
METHOD:PUBLISH
X-WR-CALNAME:ASA Newsletter
X-ORIGINAL-URL:https://asanewsletter.org
X-WR-CALDESC:Events for ASA Newsletter
REFRESH-INTERVAL;VALUE=DURATION:PT1H
X-Robots-Tag:noindex
X-PUBLISHED-TTL:PT1H
BEGIN:VTIMEZONE
TZID:America/Chicago
BEGIN:DAYLIGHT
TZOFFSETFROM:-0600
TZOFFSETTO:-0500
TZNAME:CDT
DTSTART:20220313T080000
END:DAYLIGHT
BEGIN:STANDARD
TZOFFSETFROM:-0500
TZOFFSETTO:-0600
TZNAME:CST
DTSTART:20221106T070000
END:STANDARD
BEGIN:DAYLIGHT
TZOFFSETFROM:-0600
TZOFFSETTO:-0500
TZNAME:CDT
DTSTART:20230312T080000
END:DAYLIGHT
BEGIN:STANDARD
TZOFFSETFROM:-0500
TZOFFSETTO:-0600
TZNAME:CST
DTSTART:20231105T070000
END:STANDARD
BEGIN:DAYLIGHT
TZOFFSETFROM:-0600
TZOFFSETTO:-0500
TZNAME:CDT
DTSTART:20240310T080000
END:DAYLIGHT
BEGIN:STANDARD
TZOFFSETFROM:-0500
TZOFFSETTO:-0600
TZNAME:CST
DTSTART:20241103T070000
END:STANDARD
END:VTIMEZONE
BEGIN:VEVENT
DTSTART;VALUE=DATE:20230530
DTEND;VALUE=DATE:20230531
DTSTAMP:20260423T105335
CREATED:20230404T172028Z
LAST-MODIFIED:20230404T172028Z
UID:10004651-1685404800-1685491199@asanewsletter.org
SUMMARY:Creating Accessible Course Documents: Summer 2023
DESCRIPTION:Fall 2026 OER Learning Circles September 14 – November 29\, 2026 Apply by August 14 Collaborate with other Minnesota State faculty who are committed to saving students on the cost of textbooks and course resources. There are 5 Project Types: Redesign a course around OER. Create ancillary materials to complement an existing OER. Author a... Continue Reading →
URL:https://asanewsletter.org/event/creating-accessible-course-documents-summer-2023/
LOCATION:Online
CATEGORIES:Short Courses
ATTACH;FMTTYPE=image/png:https://asanewsletter.org/wp-content/uploads/2022/07/banner-ned-themes-accessibility-e1693948444801.png
END:VEVENT
BEGIN:VEVENT
DTSTART;TZID=America/Chicago:20230601T100000
DTEND;TZID=America/Chicago:20230601T110000
DTSTAMP:20260423T105335
CREATED:20230519T201322Z
LAST-MODIFIED:20230601T152352Z
UID:10004919-1685613600-1685617200@asanewsletter.org
SUMMARY:D2L Accessibility Tools
DESCRIPTION:Fall 2026 OER Learning Circles September 14 – November 29\, 2026 Apply by August 14 Collaborate with other Minnesota State faculty who are committed to saving students on the cost of textbooks and course resources. There are 5 Project Types: Redesign a course around OER. Create ancillary materials to complement an existing OER. Author a... Continue Reading →
URL:https://asanewsletter.org/event/d2l-accessibility-tools/
LOCATION:Online
CATEGORIES:Webinars
ATTACH;FMTTYPE=image/png:https://asanewsletter.org/wp-content/uploads/2022/07/banner-ned-themes-accessibility-e1693948444801.png
END:VEVENT
END:VCALENDAR