BEGIN:VCALENDAR
VERSION:2.0
PRODID:-//ASA Newsletter - ECPv6.15.18//NONSGML v1.0//EN
CALSCALE:GREGORIAN
METHOD:PUBLISH
X-ORIGINAL-URL:https://asanewsletter.org
X-WR-CALDESC:Events for ASA Newsletter
REFRESH-INTERVAL;VALUE=DURATION:PT1H
X-Robots-Tag:noindex
X-PUBLISHED-TTL:PT1H
BEGIN:VTIMEZONE
TZID:America/Chicago
BEGIN:DAYLIGHT
TZOFFSETFROM:-0600
TZOFFSETTO:-0500
TZNAME:CDT
DTSTART:20220313T080000
END:DAYLIGHT
BEGIN:STANDARD
TZOFFSETFROM:-0500
TZOFFSETTO:-0600
TZNAME:CST
DTSTART:20221106T070000
END:STANDARD
BEGIN:DAYLIGHT
TZOFFSETFROM:-0600
TZOFFSETTO:-0500
TZNAME:CDT
DTSTART:20230312T080000
END:DAYLIGHT
BEGIN:STANDARD
TZOFFSETFROM:-0500
TZOFFSETTO:-0600
TZNAME:CST
DTSTART:20231105T070000
END:STANDARD
BEGIN:DAYLIGHT
TZOFFSETFROM:-0600
TZOFFSETTO:-0500
TZNAME:CDT
DTSTART:20240310T080000
END:DAYLIGHT
BEGIN:STANDARD
TZOFFSETFROM:-0500
TZOFFSETTO:-0600
TZNAME:CST
DTSTART:20241103T070000
END:STANDARD
END:VTIMEZONE
BEGIN:VEVENT
DTSTART;VALUE=DATE:20230905
DTEND;VALUE=DATE:20230906
DTSTAMP:20260421T051038
CREATED:20230807T180130Z
LAST-MODIFIED:20230807T180130Z
UID:10004953-1693872000-1693958399@asanewsletter.org
SUMMARY:Improving Student-to-Content Interaction: Fall 2023
DESCRIPTION:Are you noticing changes in student engagement\, wondering how AI is showing up in student work\, or questioning whether your activities still align with course outcomes? In this practical session\, a team of Minnesota State educators shares four concrete ways to use Microsoft Copilot to address these challenges while saving time and preserving academic rigor.... Continue Reading →
URL:https://asanewsletter.org/event/improving-student-to-content-interaction-fall-2023/
LOCATION:Online
CATEGORIES:Short Courses
ATTACH;FMTTYPE=image/png:https://asanewsletter.org/wp-content/uploads/2022/07/banner-ned-themes-academic-technologies-e1693948241660.png
END:VEVENT
BEGIN:VEVENT
DTSTART;TZID=America/Chicago:20230905T160000
DTEND;TZID=America/Chicago:20230905T170000
DTSTAMP:20260421T051038
CREATED:20230825T182523Z
LAST-MODIFIED:20230905T211046Z
UID:10004983-1693929600-1693933200@asanewsletter.org
SUMMARY:Using D2L Brightspace Quizzes: Fall 2023
DESCRIPTION:Are you noticing changes in student engagement\, wondering how AI is showing up in student work\, or questioning whether your activities still align with course outcomes? In this practical session\, a team of Minnesota State educators shares four concrete ways to use Microsoft Copilot to address these challenges while saving time and preserving academic rigor.... Continue Reading →
URL:https://asanewsletter.org/event/using-d2l-brightspace-quizzes-fall-2023/
LOCATION:Online
CATEGORIES:Webinars
ATTACH;FMTTYPE=image/png:https://asanewsletter.org/wp-content/uploads/2022/07/banner-ned-themes-academic-technologies-e1693948241660.png
END:VEVENT
BEGIN:VEVENT
DTSTART;TZID=America/Chicago:20230907T100000
DTEND;TZID=America/Chicago:20230907T110000
DTSTAMP:20260421T051038
CREATED:20230224T222113Z
LAST-MODIFIED:20230905T211146Z
UID:10004909-1694080800-1694084400@asanewsletter.org
SUMMARY:2024 BOT Awards Information Session: September
DESCRIPTION:Are you noticing changes in student engagement\, wondering how AI is showing up in student work\, or questioning whether your activities still align with course outcomes? In this practical session\, a team of Minnesota State educators shares four concrete ways to use Microsoft Copilot to address these challenges while saving time and preserving academic rigor.... Continue Reading →
URL:https://asanewsletter.org/event/2024-bot-awards-information-session-september/
CATEGORIES:Webinars
ATTACH;FMTTYPE=image/png:https://asanewsletter.org/wp-content/uploads/2019/09/bot-awards-banner-e1693948294828.png
END:VEVENT
BEGIN:VEVENT
DTSTART;VALUE=DATE:20230908
DTEND;VALUE=DATE:20230909
DTSTAMP:20260421T051038
CREATED:20230331T202225Z
LAST-MODIFIED:20230905T190149Z
UID:10004912-1694131200-1694217599@asanewsletter.org
SUMMARY:Creative Commons Certificate: Fall 2023 Deadline
DESCRIPTION:Are you noticing changes in student engagement\, wondering how AI is showing up in student work\, or questioning whether your activities still align with course outcomes? In this practical session\, a team of Minnesota State educators shares four concrete ways to use Microsoft Copilot to address these challenges while saving time and preserving academic rigor.... Continue Reading →
URL:https://asanewsletter.org/event/creative-commons-certificate-fall-2023-deadline/
CATEGORIES:Long Course
ATTACH;FMTTYPE=image/png:https://asanewsletter.org/wp-content/uploads/2019/08/cc-logo_large_black-e1693940501793.png
END:VEVENT
BEGIN:VEVENT
DTSTART;TZID=America/Chicago:20230908T100000
DTEND;TZID=America/Chicago:20230908T110000
DTSTAMP:20260421T051038
CREATED:20230817T192909Z
LAST-MODIFIED:20230905T190251Z
UID:10004968-1694167200-1694170800@asanewsletter.org
SUMMARY:Equitable Academic Interventions: Fall 2023
DESCRIPTION:Are you noticing changes in student engagement\, wondering how AI is showing up in student work\, or questioning whether your activities still align with course outcomes? In this practical session\, a team of Minnesota State educators shares four concrete ways to use Microsoft Copilot to address these challenges while saving time and preserving academic rigor.... Continue Reading →
URL:https://asanewsletter.org/event/equitable-academic-interventions-fall-2023/
CATEGORIES:Webinars
ATTACH;FMTTYPE=image/png:https://asanewsletter.org/wp-content/uploads/2022/07/banner-ned-themes-academic-equity-e1693948320531.png
END:VEVENT
END:VCALENDAR