BEGIN:VCALENDAR
VERSION:2.0
PRODID:-//ASA Newsletter - ECPv6.15.18//NONSGML v1.0//EN
CALSCALE:GREGORIAN
METHOD:PUBLISH
X-ORIGINAL-URL:https://asanewsletter.org
X-WR-CALDESC:Events for ASA Newsletter
REFRESH-INTERVAL;VALUE=DURATION:PT1H
X-Robots-Tag:noindex
X-PUBLISHED-TTL:PT1H
BEGIN:VTIMEZONE
TZID:America/Chicago
BEGIN:DAYLIGHT
TZOFFSETFROM:-0600
TZOFFSETTO:-0500
TZNAME:CDT
DTSTART:20220313T080000
END:DAYLIGHT
BEGIN:STANDARD
TZOFFSETFROM:-0500
TZOFFSETTO:-0600
TZNAME:CST
DTSTART:20221106T070000
END:STANDARD
BEGIN:DAYLIGHT
TZOFFSETFROM:-0600
TZOFFSETTO:-0500
TZNAME:CDT
DTSTART:20230312T080000
END:DAYLIGHT
BEGIN:STANDARD
TZOFFSETFROM:-0500
TZOFFSETTO:-0600
TZNAME:CST
DTSTART:20231105T070000
END:STANDARD
BEGIN:DAYLIGHT
TZOFFSETFROM:-0600
TZOFFSETTO:-0500
TZNAME:CDT
DTSTART:20240310T080000
END:DAYLIGHT
BEGIN:STANDARD
TZOFFSETFROM:-0500
TZOFFSETTO:-0600
TZNAME:CST
DTSTART:20241103T070000
END:STANDARD
END:VTIMEZONE
BEGIN:VEVENT
DTSTART;TZID=America/Chicago:20231009T120000
DTEND;TZID=America/Chicago:20231009T130000
DTSTAMP:20260419T114457
CREATED:20230912T204936Z
LAST-MODIFIED:20230912T204936Z
UID:10003999-1696852800-1696856400@asanewsletter.org
SUMMARY:SoTL Toolkit: Primer on Institutional Review Boards: Fall 2023
DESCRIPTION:Are you noticing changes in student engagement\, wondering how AI is showing up in student work\, or questioning whether your activities still align with course outcomes? In this practical session\, a team of Minnesota State educators shares four concrete ways to use Microsoft Copilot to address these challenges while saving time and preserving academic rigor.... Continue Reading →
URL:https://asanewsletter.org/event/sotl-toolkit-primer-on-institutional-review-boards-fall-2023/
CATEGORIES:Webinars
ATTACH;FMTTYPE=image/png:https://asanewsletter.org/wp-content/uploads/2022/07/banner-ned-themes-sotl-e1693948389154.png
END:VEVENT
BEGIN:VEVENT
DTSTART;TZID=America/Chicago:20231010T120000
DTEND;TZID=America/Chicago:20231010T130000
DTSTAMP:20260419T114457
CREATED:20230919T173058Z
LAST-MODIFIED:20230919T173058Z
UID:10004995-1696939200-1696942800@asanewsletter.org
SUMMARY:Grading for Equity: Fall 2023
DESCRIPTION:Are you noticing changes in student engagement\, wondering how AI is showing up in student work\, or questioning whether your activities still align with course outcomes? In this practical session\, a team of Minnesota State educators shares four concrete ways to use Microsoft Copilot to address these challenges while saving time and preserving academic rigor.... Continue Reading →
URL:https://asanewsletter.org/event/grading-for-equity-fall-2023/
CATEGORIES:Webinars
ATTACH;FMTTYPE=image/png:https://asanewsletter.org/wp-content/uploads/2022/07/banner-ned-themes-academic-equity-e1693948320531.png
END:VEVENT
BEGIN:VEVENT
DTSTART;TZID=America/Chicago:20231010T140000
DTEND;TZID=America/Chicago:20231010T150000
DTSTAMP:20260419T114457
CREATED:20230224T221612Z
LAST-MODIFIED:20231004T192005Z
UID:10004908-1696946400-1696950000@asanewsletter.org
SUMMARY:2024 BOT Awards Information Session: October
DESCRIPTION:Are you noticing changes in student engagement\, wondering how AI is showing up in student work\, or questioning whether your activities still align with course outcomes? In this practical session\, a team of Minnesota State educators shares four concrete ways to use Microsoft Copilot to address these challenges while saving time and preserving academic rigor.... Continue Reading →
URL:https://asanewsletter.org/event/2024-bot-awards-information-session-october/
CATEGORIES:Webinars
ATTACH;FMTTYPE=image/png:https://asanewsletter.org/wp-content/uploads/2019/09/bot-awards-banner-e1693948294828.png
END:VEVENT
BEGIN:VEVENT
DTSTART;TZID=America/Chicago:20231010T150000
DTEND;TZID=America/Chicago:20231010T160000
DTSTAMP:20260419T114457
CREATED:20230823T142314Z
LAST-MODIFIED:20230907T201334Z
UID:10004709-1696950000-1696953600@asanewsletter.org
SUMMARY:OER Librarians Community of Practice: October 2023
DESCRIPTION:Are you noticing changes in student engagement\, wondering how AI is showing up in student work\, or questioning whether your activities still align with course outcomes? In this practical session\, a team of Minnesota State educators shares four concrete ways to use Microsoft Copilot to address these challenges while saving time and preserving academic rigor.... Continue Reading →
URL:https://asanewsletter.org/event/oer-librarians-community-of-practice-october-2023/
CATEGORIES:Webinars
ATTACH;FMTTYPE=image/png:https://asanewsletter.org/wp-content/uploads/2022/07/banner-ned-themes-oer-e1693948342542.png
END:VEVENT
BEGIN:VEVENT
DTSTART;TZID=America/Chicago:20231011T150000
DTEND;TZID=America/Chicago:20231011T160000
DTSTAMP:20260419T114457
CREATED:20230731T141032Z
LAST-MODIFIED:20231009T155525Z
UID:10004671-1697036400-1697040000@asanewsletter.org
SUMMARY:OER Community Conversations: October
DESCRIPTION:Are you noticing changes in student engagement\, wondering how AI is showing up in student work\, or questioning whether your activities still align with course outcomes? In this practical session\, a team of Minnesota State educators shares four concrete ways to use Microsoft Copilot to address these challenges while saving time and preserving academic rigor.... Continue Reading →
URL:https://asanewsletter.org/event/oer-community-conversations-october/
CATEGORIES:Webinars
ATTACH;FMTTYPE=image/png:https://asanewsletter.org/wp-content/uploads/2022/07/banner-ned-themes-oer-e1693948342542.png
END:VEVENT
BEGIN:VEVENT
DTSTART;TZID=America/Chicago:20231013T130000
DTEND;TZID=America/Chicago:20231013T140000
DTSTAMP:20260419T114457
CREATED:20230929T193128Z
LAST-MODIFIED:20230929T193128Z
UID:10005000-1697202000-1697205600@asanewsletter.org
SUMMARY:Culturally-Based Learning Preferences and Your Teaching: Fall 2023
DESCRIPTION:Are you noticing changes in student engagement\, wondering how AI is showing up in student work\, or questioning whether your activities still align with course outcomes? In this practical session\, a team of Minnesota State educators shares four concrete ways to use Microsoft Copilot to address these challenges while saving time and preserving academic rigor.... Continue Reading →
URL:https://asanewsletter.org/event/culturally-based-learning-preferences-and-your-teaching-fall-2023/
LOCATION:Online
CATEGORIES:Webinars
ATTACH;FMTTYPE=image/png:https://asanewsletter.org/wp-content/uploads/2022/07/banner-ned-themes-academic-equity-e1693948320531.png
END:VEVENT
END:VCALENDAR