BEGIN:VCALENDAR
VERSION:2.0
PRODID:-//ASA Newsletter - ECPv6.15.18//NONSGML v1.0//EN
CALSCALE:GREGORIAN
METHOD:PUBLISH
X-WR-CALNAME:ASA Newsletter
X-ORIGINAL-URL:https://asanewsletter.org
X-WR-CALDESC:Events for ASA Newsletter
REFRESH-INTERVAL;VALUE=DURATION:PT1H
X-Robots-Tag:noindex
X-PUBLISHED-TTL:PT1H
BEGIN:VTIMEZONE
TZID:America/Chicago
BEGIN:DAYLIGHT
TZOFFSETFROM:-0600
TZOFFSETTO:-0500
TZNAME:CDT
DTSTART:20230312T080000
END:DAYLIGHT
BEGIN:STANDARD
TZOFFSETFROM:-0500
TZOFFSETTO:-0600
TZNAME:CST
DTSTART:20231105T070000
END:STANDARD
BEGIN:DAYLIGHT
TZOFFSETFROM:-0600
TZOFFSETTO:-0500
TZNAME:CDT
DTSTART:20240310T080000
END:DAYLIGHT
BEGIN:STANDARD
TZOFFSETFROM:-0500
TZOFFSETTO:-0600
TZNAME:CST
DTSTART:20241103T070000
END:STANDARD
BEGIN:DAYLIGHT
TZOFFSETFROM:-0600
TZOFFSETTO:-0500
TZNAME:CDT
DTSTART:20250309T080000
END:DAYLIGHT
BEGIN:STANDARD
TZOFFSETFROM:-0500
TZOFFSETTO:-0600
TZNAME:CST
DTSTART:20251102T070000
END:STANDARD
END:VTIMEZONE
BEGIN:VEVENT
DTSTART;VALUE=DATE:20240528
DTEND;VALUE=DATE:20240529
DTSTAMP:20260420T010009
CREATED:20240315T171830Z
LAST-MODIFIED:20240422T131347Z
UID:10005069-1716854400-1716940799@asanewsletter.org
SUMMARY:Grade Smarter Not Harder (Summer 2024)
DESCRIPTION:Are you noticing changes in student engagement\, wondering how AI is showing up in student work\, or questioning whether your activities still align with course outcomes? In this practical session\, a team of Minnesota State educators shares four concrete ways to use Microsoft Copilot to address these challenges while saving time and preserving academic rigor.... Continue Reading →
URL:https://asanewsletter.org/event/grade-smarter-not-harder-summer-2024/
CATEGORIES:Short Courses
ATTACH;FMTTYPE=image/png:https://asanewsletter.org/wp-content/uploads/2022/07/banner-ned-themes-foundations-e1693948367597.png
END:VEVENT
BEGIN:VEVENT
DTSTART;VALUE=DATE:20240529
DTEND;VALUE=DATE:20240530
DTSTAMP:20260420T010009
CREATED:20240315T172619Z
LAST-MODIFIED:20240402T172117Z
UID:10005072-1716940800-1717027199@asanewsletter.org
SUMMARY:Applying Templates in D2L Brightspace (Summer 2024)
DESCRIPTION:Are you noticing changes in student engagement\, wondering how AI is showing up in student work\, or questioning whether your activities still align with course outcomes? In this practical session\, a team of Minnesota State educators shares four concrete ways to use Microsoft Copilot to address these challenges while saving time and preserving academic rigor.... Continue Reading →
URL:https://asanewsletter.org/event/applying-templates-in-d2l-brightspace-summer-2024/
CATEGORIES:Short Courses
ATTACH;FMTTYPE=image/png:https://asanewsletter.org/wp-content/uploads/2022/07/banner-ned-themes-academic-technologies-e1693948241660.png
END:VEVENT
END:VCALENDAR