BEGIN:VCALENDAR
VERSION:2.0
PRODID:-//ASA Newsletter - ECPv6.15.18//NONSGML v1.0//EN
CALSCALE:GREGORIAN
METHOD:PUBLISH
X-WR-CALNAME:ASA Newsletter
X-ORIGINAL-URL:https://asanewsletter.org
X-WR-CALDESC:Events for ASA Newsletter
REFRESH-INTERVAL;VALUE=DURATION:PT1H
X-Robots-Tag:noindex
X-PUBLISHED-TTL:PT1H
BEGIN:VTIMEZONE
TZID:America/Chicago
BEGIN:DAYLIGHT
TZOFFSETFROM:-0600
TZOFFSETTO:-0500
TZNAME:CDT
DTSTART:20240310T080000
END:DAYLIGHT
BEGIN:STANDARD
TZOFFSETFROM:-0500
TZOFFSETTO:-0600
TZNAME:CST
DTSTART:20241103T070000
END:STANDARD
BEGIN:DAYLIGHT
TZOFFSETFROM:-0600
TZOFFSETTO:-0500
TZNAME:CDT
DTSTART:20250309T080000
END:DAYLIGHT
BEGIN:STANDARD
TZOFFSETFROM:-0500
TZOFFSETTO:-0600
TZNAME:CST
DTSTART:20251102T070000
END:STANDARD
BEGIN:DAYLIGHT
TZOFFSETFROM:-0600
TZOFFSETTO:-0500
TZNAME:CDT
DTSTART:20260308T080000
END:DAYLIGHT
BEGIN:STANDARD
TZOFFSETFROM:-0500
TZOFFSETTO:-0600
TZNAME:CST
DTSTART:20261101T070000
END:STANDARD
END:VTIMEZONE
BEGIN:VEVENT
DTSTART;VALUE=DATE:20250303
DTEND;VALUE=DATE:20250304
DTSTAMP:20260423T203956
CREATED:20241113T215208Z
LAST-MODIFIED:20241115T185535Z
UID:10005244-1740960000-1741046399@asanewsletter.org
SUMMARY:Accessible Digital Media (Spring 2025)
DESCRIPTION:Fall 2026 OER Learning Circles September 14 – November 29\, 2026 Apply by August 14 Collaborate with other Minnesota State faculty who are committed to saving students on the cost of textbooks and course resources. There are 5 Project Types: Redesign a course around OER. Create ancillary materials to complement an existing OER. Author a... Continue Reading →
URL:https://asanewsletter.org/event/accessible-digital-media-spring-2025/
CATEGORIES:Short Courses
ATTACH;FMTTYPE=image/png:https://asanewsletter.org/wp-content/uploads/2022/07/banner-ned-themes-accessibility-e1693948444801.png
END:VEVENT
BEGIN:VEVENT
DTSTART;TZID=America/Chicago:20250303T120000
DTEND;TZID=America/Chicago:20250303T130000
DTSTAMP:20260423T203956
CREATED:20250218T234005Z
LAST-MODIFIED:20250218T234005Z
UID:10005319-1741003200-1741006800@asanewsletter.org
SUMMARY:OE Week: OER at Minnesota State
DESCRIPTION:Fall 2026 OER Learning Circles September 14 – November 29\, 2026 Apply by August 14 Collaborate with other Minnesota State faculty who are committed to saving students on the cost of textbooks and course resources. There are 5 Project Types: Redesign a course around OER. Create ancillary materials to complement an existing OER. Author a... Continue Reading →
URL:https://asanewsletter.org/event/oe-week-oer-at-minnesota-state/
CATEGORIES:Webinars
ATTACH;FMTTYPE=image/png:https://asanewsletter.org/wp-content/uploads/2025/02/3-3-2025-Open-Ed-Week-e1739473676557.png
END:VEVENT
BEGIN:VEVENT
DTSTART;TZID=America/Chicago:20250303T130000
DTEND;TZID=America/Chicago:20250303T143000
DTSTAMP:20260423T203956
CREATED:20250206T214702Z
LAST-MODIFIED:20250206T214702Z
UID:10005312-1741006800-1741012200@asanewsletter.org
SUMMARY:Classroom Strategies for Military Connected Students (Spring 2025)
DESCRIPTION:Fall 2026 OER Learning Circles September 14 – November 29\, 2026 Apply by August 14 Collaborate with other Minnesota State faculty who are committed to saving students on the cost of textbooks and course resources. There are 5 Project Types: Redesign a course around OER. Create ancillary materials to complement an existing OER. Author a... Continue Reading →
URL:https://asanewsletter.org/event/classroom-strategies-for-military-connected-students-spring-2025/
CATEGORIES:Webinars
ATTACH;FMTTYPE=image/png:https://asanewsletter.org/wp-content/uploads/2022/07/banner-ned-themes-foundations-e1693948367597.png
END:VEVENT
BEGIN:VEVENT
DTSTART;TZID=America/Chicago:20250304T120000
DTEND;TZID=America/Chicago:20250304T130000
DTSTAMP:20260423T203956
CREATED:20250218T235057Z
LAST-MODIFIED:20250218T235057Z
UID:10005320-1741089600-1741093200@asanewsletter.org
SUMMARY:OE Week: 5 Practitioners in 50 minutes
DESCRIPTION:Fall 2026 OER Learning Circles September 14 – November 29\, 2026 Apply by August 14 Collaborate with other Minnesota State faculty who are committed to saving students on the cost of textbooks and course resources. There are 5 Project Types: Redesign a course around OER. Create ancillary materials to complement an existing OER. Author a... Continue Reading →
URL:https://asanewsletter.org/event/oe-week-5-practitioners-in-50-minutes/
CATEGORIES:Webinars
ATTACH;FMTTYPE=image/png:https://asanewsletter.org/wp-content/uploads/2025/02/3-4-2025-Open-Ed-Week-e1739473671153.png
END:VEVENT
BEGIN:VEVENT
DTSTART;TZID=America/Chicago:20250305T120000
DTEND;TZID=America/Chicago:20250305T130000
DTSTAMP:20260423T203956
CREATED:20250218T235119Z
LAST-MODIFIED:20250224T173642Z
UID:10005322-1741176000-1741179600@asanewsletter.org
SUMMARY:OE Week: 5 Z-Degree Campuses in 50 minutes
DESCRIPTION:Fall 2026 OER Learning Circles September 14 – November 29\, 2026 Apply by August 14 Collaborate with other Minnesota State faculty who are committed to saving students on the cost of textbooks and course resources. There are 5 Project Types: Redesign a course around OER. Create ancillary materials to complement an existing OER. Author a... Continue Reading →
URL:https://asanewsletter.org/event/oe-week-5-z-degree-campuses-in-50-minutes/
CATEGORIES:Webinars
ATTACH;FMTTYPE=image/png:https://asanewsletter.org/wp-content/uploads/2025/02/3-5-2025-Open-Ed-Week-e1739473624132.png
END:VEVENT
BEGIN:VEVENT
DTSTART;TZID=America/Chicago:20250306T120000
DTEND;TZID=America/Chicago:20250306T130000
DTSTAMP:20260423T203956
CREATED:20250218T235036Z
LAST-MODIFIED:20250218T235036Z
UID:10005321-1741262400-1741266000@asanewsletter.org
SUMMARY:OE Week: Beyond the PDF: 5 Tools for Contemporary OER
DESCRIPTION:Fall 2026 OER Learning Circles September 14 – November 29\, 2026 Apply by August 14 Collaborate with other Minnesota State faculty who are committed to saving students on the cost of textbooks and course resources. There are 5 Project Types: Redesign a course around OER. Create ancillary materials to complement an existing OER. Author a... Continue Reading →
URL:https://asanewsletter.org/event/oe-week-beyond-the-pdf-5-tools-for-contemporary-oer/
CATEGORIES:Webinars
ATTACH;FMTTYPE=image/png:https://asanewsletter.org/wp-content/uploads/2025/02/3-6-2025-Open-Ed-Week-e1739473572293.png
END:VEVENT
BEGIN:VEVENT
DTSTART;TZID=America/Chicago:20250307T120000
DTEND;TZID=America/Chicago:20250307T130000
DTSTAMP:20260423T203956
CREATED:20250218T235146Z
LAST-MODIFIED:20250218T235146Z
UID:10005323-1741348800-1741352400@asanewsletter.org
SUMMARY:OE Week: 5 Disciplines in 50 Minutes
DESCRIPTION:Fall 2026 OER Learning Circles September 14 – November 29\, 2026 Apply by August 14 Collaborate with other Minnesota State faculty who are committed to saving students on the cost of textbooks and course resources. There are 5 Project Types: Redesign a course around OER. Create ancillary materials to complement an existing OER. Author a... Continue Reading →
URL:https://asanewsletter.org/event/oe-week-5-disciplines-in-50-minutes/
CATEGORIES:Webinars
ATTACH;FMTTYPE=image/png:https://asanewsletter.org/wp-content/uploads/2025/02/3-7-2025-Open-Ed-Week-e1739473336106.png
END:VEVENT
END:VCALENDAR