BEGIN:VCALENDAR
VERSION:2.0
PRODID:-//ASA Newsletter - ECPv6.15.18//NONSGML v1.0//EN
CALSCALE:GREGORIAN
METHOD:PUBLISH
X-ORIGINAL-URL:https://asanewsletter.org
X-WR-CALDESC:Events for ASA Newsletter
REFRESH-INTERVAL;VALUE=DURATION:PT1H
X-Robots-Tag:noindex
X-PUBLISHED-TTL:PT1H
BEGIN:VTIMEZONE
TZID:America/Chicago
BEGIN:DAYLIGHT
TZOFFSETFROM:-0600
TZOFFSETTO:-0500
TZNAME:CDT
DTSTART:20240310T080000
END:DAYLIGHT
BEGIN:STANDARD
TZOFFSETFROM:-0500
TZOFFSETTO:-0600
TZNAME:CST
DTSTART:20241103T070000
END:STANDARD
BEGIN:DAYLIGHT
TZOFFSETFROM:-0600
TZOFFSETTO:-0500
TZNAME:CDT
DTSTART:20250309T080000
END:DAYLIGHT
BEGIN:STANDARD
TZOFFSETFROM:-0500
TZOFFSETTO:-0600
TZNAME:CST
DTSTART:20251102T070000
END:STANDARD
BEGIN:DAYLIGHT
TZOFFSETFROM:-0600
TZOFFSETTO:-0500
TZNAME:CDT
DTSTART:20260308T080000
END:DAYLIGHT
BEGIN:STANDARD
TZOFFSETFROM:-0500
TZOFFSETTO:-0600
TZNAME:CST
DTSTART:20261101T070000
END:STANDARD
END:VTIMEZONE
BEGIN:VEVENT
DTSTART;VALUE=DATE:20250714
DTEND;VALUE=DATE:20250715
DTSTAMP:20260423T205233
CREATED:20250401T175811Z
LAST-MODIFIED:20250707T142004Z
UID:10005346-1752451200-1752537599@asanewsletter.org
SUMMARY:Collecting and Analyzing Classroom Data (Summer 2025)
DESCRIPTION:Fall 2026 OER Learning Circles September 14 – November 29\, 2026 Apply by August 14 Collaborate with other Minnesota State faculty who are committed to saving students on the cost of textbooks and course resources. There are 5 Project Types: Redesign a course around OER. Create ancillary materials to complement an existing OER. Author a... Continue Reading →
URL:https://asanewsletter.org/event/collecting-and-analyzing-classroom-data-summer-2025/
CATEGORIES:Short Courses
ATTACH;FMTTYPE=image/png:https://asanewsletter.org/wp-content/uploads/2022/07/banner-ned-themes-sotl-e1693948389154.png
END:VEVENT
BEGIN:VEVENT
DTSTART;VALUE=DATE:20250714
DTEND;VALUE=DATE:20250715
DTSTAMP:20260423T205233
CREATED:20250401T181712Z
LAST-MODIFIED:20250716T131028Z
UID:10005344-1752451200-1752537599@asanewsletter.org
SUMMARY:Equity 101 (Summer 2025)
DESCRIPTION:Fall 2026 OER Learning Circles September 14 – November 29\, 2026 Apply by August 14 Collaborate with other Minnesota State faculty who are committed to saving students on the cost of textbooks and course resources. There are 5 Project Types: Redesign a course around OER. Create ancillary materials to complement an existing OER. Author a... Continue Reading →
URL:https://asanewsletter.org/event/equity-101-summer-2025/
CATEGORIES:Short Courses
ATTACH;FMTTYPE=image/png:https://asanewsletter.org/wp-content/uploads/2022/07/banner-ned-themes-academic-equity-e1693948320531.png
END:VEVENT
BEGIN:VEVENT
DTSTART;TZID=America/Chicago:20250714T120000
DTEND;TZID=America/Chicago:20250714T123000
DTSTAMP:20260423T205233
CREATED:20250310T142714Z
LAST-MODIFIED:20250310T142714Z
UID:10005269-1752494400-1752496200@asanewsletter.org
SUMMARY:What's New in D2L Brightspace: July 2025
DESCRIPTION:Fall 2026 OER Learning Circles September 14 – November 29\, 2026 Apply by August 14 Collaborate with other Minnesota State faculty who are committed to saving students on the cost of textbooks and course resources. There are 5 Project Types: Redesign a course around OER. Create ancillary materials to complement an existing OER. Author a... Continue Reading →
URL:https://asanewsletter.org/event/whats-new-in-d2l-brightspace-july-2025/
CATEGORIES:Webinars
ATTACH;FMTTYPE=image/png:https://asanewsletter.org/wp-content/uploads/2022/07/banner-ned-themes-academic-technologies-e1693948241660.png
END:VEVENT
END:VCALENDAR