BEGIN:VCALENDAR
VERSION:2.0
PRODID:-//ASA Newsletter - ECPv6.15.18//NONSGML v1.0//EN
CALSCALE:GREGORIAN
METHOD:PUBLISH
X-ORIGINAL-URL:https://asanewsletter.org
X-WR-CALDESC:Events for ASA Newsletter
REFRESH-INTERVAL;VALUE=DURATION:PT1H
X-Robots-Tag:noindex
X-PUBLISHED-TTL:PT1H
BEGIN:VTIMEZONE
TZID:America/Chicago
BEGIN:DAYLIGHT
TZOFFSETFROM:-0600
TZOFFSETTO:-0500
TZNAME:CDT
DTSTART:20240310T080000
END:DAYLIGHT
BEGIN:STANDARD
TZOFFSETFROM:-0500
TZOFFSETTO:-0600
TZNAME:CST
DTSTART:20241103T070000
END:STANDARD
BEGIN:DAYLIGHT
TZOFFSETFROM:-0600
TZOFFSETTO:-0500
TZNAME:CDT
DTSTART:20250309T080000
END:DAYLIGHT
BEGIN:STANDARD
TZOFFSETFROM:-0500
TZOFFSETTO:-0600
TZNAME:CST
DTSTART:20251102T070000
END:STANDARD
BEGIN:DAYLIGHT
TZOFFSETFROM:-0600
TZOFFSETTO:-0500
TZNAME:CDT
DTSTART:20260308T080000
END:DAYLIGHT
BEGIN:STANDARD
TZOFFSETFROM:-0500
TZOFFSETTO:-0600
TZNAME:CST
DTSTART:20261101T070000
END:STANDARD
END:VTIMEZONE
BEGIN:VEVENT
DTSTART;VALUE=DATE:20250721
DTEND;VALUE=DATE:20250722
DTSTAMP:20260420T233502
CREATED:20250401T202718Z
LAST-MODIFIED:20250722T162644Z
UID:10005348-1753056000-1753142399@asanewsletter.org
SUMMARY:Build Your Course Essentials (Summer 2025)
DESCRIPTION:Are you noticing changes in student engagement\, wondering how AI is showing up in student work\, or questioning whether your activities still align with course outcomes? In this practical session\, a team of Minnesota State educators shares four concrete ways to use Microsoft Copilot to address these challenges while saving time and preserving academic rigor.... Continue Reading →
URL:https://asanewsletter.org/event/build-your-course-essentials-in-d2l-summer-2025/
CATEGORIES:Short Courses
ATTACH;FMTTYPE=image/png:https://asanewsletter.org/wp-content/uploads/2022/07/banner-ned-themes-academic-technologies-e1693948241660.png
END:VEVENT
BEGIN:VEVENT
DTSTART;TZID=America/Chicago:20250723T093000
DTEND;TZID=America/Chicago:20250723T103000
DTSTAMP:20260420T233502
CREATED:20250520T182009Z
LAST-MODIFIED:20250527T141107Z
UID:10005370-1753263000-1753266600@asanewsletter.org
SUMMARY:Teaching and Learning Competency and the NED - Deans\, HR\, and Administrators (Option 2)
DESCRIPTION:Are you noticing changes in student engagement\, wondering how AI is showing up in student work\, or questioning whether your activities still align with course outcomes? In this practical session\, a team of Minnesota State educators shares four concrete ways to use Microsoft Copilot to address these challenges while saving time and preserving academic rigor.... Continue Reading →
URL:https://asanewsletter.org/event/teaching-learning-competency-and-the-ned-option-2/
CATEGORIES:Webinars
ATTACH;FMTTYPE=image/png:https://asanewsletter.org/wp-content/uploads/2023/08/banner-ned-themes-foundations.png
END:VEVENT
END:VCALENDAR