BEGIN:VCALENDAR
VERSION:2.0
PRODID:-//ASA Newsletter - ECPv6.15.18//NONSGML v1.0//EN
CALSCALE:GREGORIAN
METHOD:PUBLISH
X-WR-CALNAME:ASA Newsletter
X-ORIGINAL-URL:https://asanewsletter.org
X-WR-CALDESC:Events for ASA Newsletter
REFRESH-INTERVAL;VALUE=DURATION:PT1H
X-Robots-Tag:noindex
X-PUBLISHED-TTL:PT1H
BEGIN:VTIMEZONE
TZID:America/Chicago
BEGIN:DAYLIGHT
TZOFFSETFROM:-0600
TZOFFSETTO:-0500
TZNAME:CDT
DTSTART:20240310T080000
END:DAYLIGHT
BEGIN:STANDARD
TZOFFSETFROM:-0500
TZOFFSETTO:-0600
TZNAME:CST
DTSTART:20241103T070000
END:STANDARD
BEGIN:DAYLIGHT
TZOFFSETFROM:-0600
TZOFFSETTO:-0500
TZNAME:CDT
DTSTART:20250309T080000
END:DAYLIGHT
BEGIN:STANDARD
TZOFFSETFROM:-0500
TZOFFSETTO:-0600
TZNAME:CST
DTSTART:20251102T070000
END:STANDARD
BEGIN:DAYLIGHT
TZOFFSETFROM:-0600
TZOFFSETTO:-0500
TZNAME:CDT
DTSTART:20260308T080000
END:DAYLIGHT
BEGIN:STANDARD
TZOFFSETFROM:-0500
TZOFFSETTO:-0600
TZNAME:CST
DTSTART:20261101T070000
END:STANDARD
END:VTIMEZONE
BEGIN:VEVENT
DTSTART;TZID=America/Chicago:20251210T110000
DTEND;TZID=America/Chicago:20251210T113000
DTSTAMP:20260422T092735
CREATED:20251028T212025Z
LAST-MODIFIED:20251028T212903Z
UID:10005464-1765364400-1765366200@asanewsletter.org
SUMMARY:Teaching with AI: Show and Tell Series (December 2025)
DESCRIPTION:Fall 2026 OER Learning Circles September 14 – November 29\, 2026 Apply by August 14 Collaborate with other Minnesota State faculty who are committed to saving students on the cost of textbooks and course resources. There are 5 Project Types: Redesign a course around OER. Create ancillary materials to complement an existing OER. Author a... Continue Reading →
URL:https://asanewsletter.org/event/teaching-with-ai-show-and-tell-series-december-2025/
CATEGORIES:Webinars
ATTACH;FMTTYPE=image/png:https://asanewsletter.org/wp-content/uploads/2022/07/banner-ned-themes-academic-technologies-e1693948241660.png
END:VEVENT
END:VCALENDAR