BEGIN:VCALENDAR
VERSION:2.0
PRODID:-//ASA Newsletter - ECPv6.15.18//NONSGML v1.0//EN
CALSCALE:GREGORIAN
METHOD:PUBLISH
X-ORIGINAL-URL:https://asanewsletter.org
X-WR-CALDESC:Events for ASA Newsletter
REFRESH-INTERVAL;VALUE=DURATION:PT1H
X-Robots-Tag:noindex
X-PUBLISHED-TTL:PT1H
BEGIN:VTIMEZONE
TZID:America/Chicago
BEGIN:DAYLIGHT
TZOFFSETFROM:-0600
TZOFFSETTO:-0500
TZNAME:CDT
DTSTART:20250309T080000
END:DAYLIGHT
BEGIN:STANDARD
TZOFFSETFROM:-0500
TZOFFSETTO:-0600
TZNAME:CST
DTSTART:20251102T070000
END:STANDARD
BEGIN:DAYLIGHT
TZOFFSETFROM:-0600
TZOFFSETTO:-0500
TZNAME:CDT
DTSTART:20260308T080000
END:DAYLIGHT
BEGIN:STANDARD
TZOFFSETFROM:-0500
TZOFFSETTO:-0600
TZNAME:CST
DTSTART:20261101T070000
END:STANDARD
BEGIN:DAYLIGHT
TZOFFSETFROM:-0600
TZOFFSETTO:-0500
TZNAME:CDT
DTSTART:20270314T080000
END:DAYLIGHT
BEGIN:STANDARD
TZOFFSETFROM:-0500
TZOFFSETTO:-0600
TZNAME:CST
DTSTART:20271107T070000
END:STANDARD
END:VTIMEZONE
BEGIN:VEVENT
DTSTART;TZID=America/Chicago:20260224T100000
DTEND;TZID=America/Chicago:20260224T110000
DTSTAMP:20260424T221409
CREATED:20260122T161246Z
LAST-MODIFIED:20260218T143319Z
UID:10005511-1771927200-1771930800@asanewsletter.org
SUMMARY:Orientation to Accessibility+ (Spring 2026) 3
DESCRIPTION:Fall 2026 OER Learning Circles September 14 – November 29\, 2026 Apply by August 14 Collaborate with other Minnesota State faculty who are committed to saving students on the cost of textbooks and course resources. There are 5 Project Types: Redesign a course around OER. Create ancillary materials to complement an existing OER. Author a... Continue Reading →
URL:https://asanewsletter.org/event/orientation-to-accessibility-spring-2026-3/
CATEGORIES:Webinars
ATTACH;FMTTYPE=image/png:https://asanewsletter.org/wp-content/uploads/2022/07/banner-ned-themes-accessibility-e1693948444801.png
END:VEVENT
BEGIN:VEVENT
DTSTART;TZID=America/Chicago:20260224T120000
DTEND;TZID=America/Chicago:20260224T130000
DTSTAMP:20260424T221409
CREATED:20250728T161410Z
LAST-MODIFIED:20260112T192945Z
UID:10005415-1771934400-1771938000@asanewsletter.org
SUMMARY:Conversations with Colleagues (February 2026)
DESCRIPTION:Fall 2026 OER Learning Circles September 14 – November 29\, 2026 Apply by August 14 Collaborate with other Minnesota State faculty who are committed to saving students on the cost of textbooks and course resources. There are 5 Project Types: Redesign a course around OER. Create ancillary materials to complement an existing OER. Author a... Continue Reading →
URL:https://asanewsletter.org/event/conversations-with-colleagues-february-2026/
CATEGORIES:Webinars
ATTACH;FMTTYPE=image/jpeg:https://asanewsletter.org/wp-content/uploads/2023/08/conversations-e1693936962866.jpg
END:VEVENT
BEGIN:VEVENT
DTSTART;TZID=America/Chicago:20260224T150000
DTEND;TZID=America/Chicago:20260224T154500
DTSTAMP:20260424T221409
CREATED:20260115T185026Z
LAST-MODIFIED:20260224T164240Z
UID:10005502-1771945200-1771947900@asanewsletter.org
SUMMARY:{Rescheduled} Accessibility Remediation Sprints: Creating Accessible Presentation Files 2 (Spring 2026)
DESCRIPTION:Fall 2026 OER Learning Circles September 14 – November 29\, 2026 Apply by August 14 Collaborate with other Minnesota State faculty who are committed to saving students on the cost of textbooks and course resources. There are 5 Project Types: Redesign a course around OER. Create ancillary materials to complement an existing OER. Author a... Continue Reading →
URL:https://asanewsletter.org/event/accessibility-remediation-sprints-creating-accessible-presentation-files-2-spring-2026/
CATEGORIES:Webinars
ATTACH;FMTTYPE=image/png:https://asanewsletter.org/wp-content/uploads/2022/07/banner-ned-themes-accessibility-e1693948444801.png
END:VEVENT
BEGIN:VEVENT
DTSTART;TZID=America/Chicago:20260225T110000
DTEND;TZID=America/Chicago:20260225T113000
DTSTAMP:20260424T221409
CREATED:20250626T133554Z
LAST-MODIFIED:20250924T195058Z
UID:10005395-1772017200-1772019000@asanewsletter.org
SUMMARY:Teaching with AI: Show and Tell Series (February 2026)
DESCRIPTION:Fall 2026 OER Learning Circles September 14 – November 29\, 2026 Apply by August 14 Collaborate with other Minnesota State faculty who are committed to saving students on the cost of textbooks and course resources. There are 5 Project Types: Redesign a course around OER. Create ancillary materials to complement an existing OER. Author a... Continue Reading →
URL:https://asanewsletter.org/event/teaching-with-ai-show-and-tell-series-february-2026/
CATEGORIES:Webinars
ATTACH;FMTTYPE=image/png:https://asanewsletter.org/wp-content/uploads/2022/07/banner-ned-themes-academic-technologies-e1693948241660.png
END:VEVENT
BEGIN:VEVENT
DTSTART;TZID=America/Chicago:20260225T150000
DTEND;TZID=America/Chicago:20260225T154500
DTSTAMP:20260424T221409
CREATED:20260115T200257Z
LAST-MODIFIED:20260218T143306Z
UID:10005505-1772031600-1772034300@asanewsletter.org
SUMMARY:Accessibility Remediation Sprints: Creating Accessible Document Files 3 (Spring 2026)
DESCRIPTION:Fall 2026 OER Learning Circles September 14 – November 29\, 2026 Apply by August 14 Collaborate with other Minnesota State faculty who are committed to saving students on the cost of textbooks and course resources. There are 5 Project Types: Redesign a course around OER. Create ancillary materials to complement an existing OER. Author a... Continue Reading →
URL:https://asanewsletter.org/event/accessibility-remediation-sprints-creating-accessible-document-files-3-spring-2026/
CATEGORIES:Webinars
ATTACH;FMTTYPE=image/png:https://asanewsletter.org/wp-content/uploads/2022/07/banner-ned-themes-accessibility-e1693948444801.png
END:VEVENT
BEGIN:VEVENT
DTSTART;TZID=America/Chicago:20260227T130000
DTEND;TZID=America/Chicago:20260227T134500
DTSTAMP:20260424T221409
CREATED:20260115T154936Z
LAST-MODIFIED:20260218T143308Z
UID:10005497-1772197200-1772199900@asanewsletter.org
SUMMARY:Accessibility Remediation Sprints: Creating Accessible PDF Files 3 (Spring 2026)
DESCRIPTION:Fall 2026 OER Learning Circles September 14 – November 29\, 2026 Apply by August 14 Collaborate with other Minnesota State faculty who are committed to saving students on the cost of textbooks and course resources. There are 5 Project Types: Redesign a course around OER. Create ancillary materials to complement an existing OER. Author a... Continue Reading →
URL:https://asanewsletter.org/event/accessibility-remediation-sprints-creating-accessible-pdf-files-3-spring-2026/
CATEGORIES:Webinars
ATTACH;FMTTYPE=image/png:https://asanewsletter.org/wp-content/uploads/2022/07/banner-ned-themes-accessibility-e1693948444801.png
END:VEVENT
END:VCALENDAR